Workbook

Sheet Table 45
A1: Table 45
A2: year | B2: 1 | C2: 3 | D2: 10 | E2: 30 | F2: 100 | G2: 300 | H2: 1000 | I2: 3000 | J2: 10000 | K2: 30000 | L2: 100000 | M2: 300000 | N2: 1000000
A3: UO2 | B3: 587800000 | C3: 362000000 | D3: 235800000 | E3: 169700000 | F3: 81810000 | G3: 40930000 | H3: 17700000 | I3: 7676000 | J3: 4591000 | K3: 1772000 | L3: 329700 | M3: 160100 | N3: 97970
A4: ThO2 | B4: 517500000 | C4: 342700000 | D4: 231600000 | E4: 146400000 | F4: 35700000 | G4: 2776000 | H4: 1321000 | I4: 2319000 | J4: 4651000 | K4: 6690000 | L4: 6161000 | M4: 3489000 | N4: 351300
A5: MOX | B5: 1457000000 | C5: 1105000000 | D5: 896700000 | E5: 688000000 | F5: 408200000 | G5: 216200000 | H5: 82050000 | I5: 30250000 | J5: 17570000 | K5: 6721000 | L5: 1672000 | M5: 1030000 | N5: 372800
A8: Currently the above table is valid for PWR and BWR reactor types, for other reactor types these values can be appropriately changed by the user.

Sheet User input
A1: NFCSS Results for Reactor Type:
C2: UO2 fuel | D2: ThO2 fuel | E2: MOX fuel | F2: UO2 fuel | G2: ThO2 fuel | H2: MOX fuel
A3: # | B3: Time [Year] | C3: SFS (tHM) | D3: SFS (tHM) | E3: SFS (tHM) | F3: GWd/t | G3: GWd/t | H3: GWd/t
A4: 1
A5: 2
A6: 3
A7: 4
A8: 5
A9: 6
A10: 7
A11: 8
A12: 9
A13: 10
A14: 11
A15: 12
... A303: 300

Sheet cal_UO2
A1: Time [Year] | B1: 1 | C1: 2 | D1: 3 | E1: 4 | F1: 5 | G1: 6 | H1: 7 | I1: 8 | J1: 9 | K1: 10 | L1: 11 | M1: 12 | N1: 13 | O1: 14 | P1: 15 | Q1: 16 | R1: 17 | S1: 18 | T1: 19 | U1: 20 | V1: 21 | W1: 22 | X1: 23 | Y1: 24 | Z1: 25 | AA1: 26 | AB1: 27 | AC1: 28 | AD1: 29 | AE1: 30 | AF1: 31 | AG1: 32 | AH1: 33 | AI1: 34 | AJ1: 35 | AK1: 36 | AL1: 37 | AM1: 38 | AN1: 39 | AO1: 40 | AP1: 41 | AQ1: 42 | AR1: 43 | AS1: 44 | AT1: 45 | AU1: 46 | AV1: 47 | AW1: 48 | AX1: 49 | AY1: 50 | AZ1: 51 | BA1: 52 | BB1: 53 | BC1: 54 | BD1: 55 | BE1: 56 | BF1: 57 | BG1: 58 | BH1: 59 | BI1: 60 | BJ1: 61 | BK1: 62 | BL1: 63 | BM1: 64 | BN1: 65 | BO1: 66 | BP1: 67 | BQ1: 68 | BR1: 69 | BS1: 70 | BT1: 71 | BU1: 72 | BV1: 73 | BW1: 74 | BX1: 75 | BY1: 76 | BZ1: 77 | CA1: 78 | CB1: 79 | CC1: 80 | CD1: 90 | CE1: 100 | CF1: 200 | CG1: 300 | CH1: 400 | CI1: 500 | CJ1: 600 | CK1: 700 | CL1: 800 | CM1: 900 | CN1: 1000 | CO1: 2000 | CP1: 3000 | CQ1: 4000 | CR1: 5000 | CS1: 6000 | CT1: 7000 | CU1: 8000 | CV1: 9000 | CW1: 10000 | CX1: 20000 | CY1: 30000 | CZ1: 40000 | DA1: 50000 | DB1: 60000 | DC1: 70000 | DD1: 80000 | DE1: 90000 | DF1: 100000 | DG1: 110000 | DH1: 120000 | DI1: 130000 | DJ1: 140000 | DK1: 150000 | DL1: 160000 | DM1: 170000 | DN1: 180000 | DO1: 190000 | DP1: 200000 | DQ1: 210000 | DR1: 220000 | DS1: 230000 | DT1: 240000 | DU1: 250000 | DV1: 260000 | DW1: 270000 | DX1: 280000 | DY1: 290000 | DZ1: 300000 | EA1: 310000 | EB1: 320000 | EC1: 330000 | ED1: 340000 | EE1: 350000 | EF1: 360000 | EG1: 370000 | EH1: 380000 | EI1: 390000 | EJ1: 400000 | EK1: 410000 | EL1: 420000 | EM1: 430000 | EN1: 440000 | EO1: 450000 | EP1: 460000 | EQ1: 470000 | ER1: 480000 | ES1: 490000 | ET1: 500000 | EU1: 510000 | EV1: 520000 | EW1: 530000 | EX1: 540000 | EY1: 550000 | EZ1: 560000 | FA1: 570000 | FB1: 580000 | FC1: 590000 | FD1: 600000 | FE1: 610000 | FF1: 620000 | FG1: 630000 | FH1: 640000 | FI1: 650000 | FJ1: 660000 | FK1: 670000 | FL1: 680000 | FM1: 690000 | FN1: 700000 | FO1: 710000 | FP1: 720000 | FQ1: 730000 | FR1: 740000 | FS1: 750000 | FT1: 760000 | FU1: 770000 | FV1: 780000 | FW1: 790000 | FX1: 800000 | FY1: 810000 | FZ1: 820000 | GA1: 830000 | GB1: 840000 | GC1: 850000 | GD1: 860000 | GE1: 870000 | GF1: 880000 | GG1: 890000 | GH1: 900000 | GI1: 910000 | GJ1: 920000 | GK1: 930000 | GL1: 940000 | GM1: 950000 | GN1: 960000 | GO1: 970000 | GP1: 980000 | GQ1: 990000 | GR1: 1000000
A2: UO2 | B2: ='Table 45'!B3 -> 587800000 | C2: =C11 -> 4.3291797e+08 | D2: ='Table 45'!C3 -> 362000000 | E2: =E11 -> 3.2675754e+08 | F2: =F11 -> 3.0180189e+08 | G2: =G11 -> 2.8283322e+08 | H2: =H11 -> 2.6772862e+08 | I2: =I11 -> 2.5529803e+08 | J2: =J11 -> 2.4481341e+08 | K2: ='Table 45'!D3 -> 235800000 | L2: =L11 -> 2.291658e+08 | M2: =M11 -> 2.2327236e+08 | N2: =N11 -> 2.1798486e+08 | O2: =O11 -> 2.132011e+08 | P2: =P11 -> 2.0884193e+08 | Q2: =Q11 -> 2.0484492e+08 | R2: =R11 -> 2.0116002e+08 | S2: =S11 -> 1.9774653e+08 | ... AD2: =AD11 -> 1.7143139e+08 | AE2: ='Table 45'!E3 -> 169700000 | AF2: =AF11 -> 1.6636112e+08 | AG2: =AG11 -> 1.6319087e+08 | AH2: =AH11 -> 1.6017584e+08 | AI2: =AI11 -> 1.5730407e+08 | AJ2: =AJ11 -> 1.5456483e+08 | AK2: =AK11 -> 1.5194848e+08 | AL2: =AL11 -> 1.494463e+08 | AM2: =AM11 -> 1.4705044e+08 | ... CD2: =CD11 -> 87203996 | CE2: ='Table 45'!F3 -> 81810000 | CF2: =CF11 -> 52850004 | CG2: ='Table 45'!G3 -> 40930000 | CH2: =CH11 -> 33500383 | CI2: =CI11 -> 28679630 | CJ2: =CJ11 -> 25260472 | CK2: =CK11 -> 22689658 | CL2: =CL11 -> 20675189 | CM2: =CM11 -> 19047288 | CN2: ='Table 45'!H3 -> 17700000 | CO2: =CO11 -> 10448352 | CP2: ='Table 45'!I3 -> 7676000 | CQ2: =CQ11 -> 6788847.5 | CR2: =CR11 -> 6171961.1 | CS2: =CS11 -> 5709776.1 | CT2: =CT11 -> 5346112.8 | CU2: =CU11 -> 5049869.6 | CV2: =CV11 -> 4802220.6 | CW2: ='Table 45'!J3 -> 4591000 | CX2: =CX11 -> 2517986.7 | CY2: ='Table 45'!K3 -> 1772000 | CZ2: =CZ11 -> 1185638.3 | DA2: =DA11 -> 868141.64 | DB2: =DB11 -> 672964.38 | DC2: =DC11 -> 542603.23 | DD2: =DD11 -> 450277.85 | DE2: =DE11 -> 381972.36 | DF2: ='Table 45'!L3 -> 329700 | DG2: =DG11 -> 309671.68 | DH2: =DH11 -> 292451.53 | DI2: =DI11 -> 277457.41 | DJ2: =DJ11 -> 264261.27 | DK2: =DK11 -> 252540.72 | DL2: =DL11 -> 242047.91 | DM2: =DM11 -> 232588.87 | DN2: =DN11 -> 224009.46 | ... DY2: =DY11 -> 163708.98 | DZ2: ='Table 45'!M3 -> 160100 | EA2: =EA11 -> 157972.77 | EB2: =EB11 -> 155940.01 | EC2: =EC11 -> 153994.78 | ED2: =ED11 -> 152130.81 | EE2: =EE11 -> 150342.47 | EF2: =EF11 -> 148624.66 | EG2: =EG11 -> 146972.75 | EH2: =EH11 -> 145382.53 | ... GQ2: =GQ11 -> 98372.486 | GR2: ='Table 45'!N3 -> 97970
A4: UO2 calculation value
A5: y | C5: =C6+(C7-C6)*(C8-C9)/(C10-C9) -> 19.886059 | D5: =D6+(D7-D6)*(D8-D9)/(D10-D9) -> 19.707155 | E5: =E6+(E7-E6)*(E8-E9)/(E10-E9) -> 19.604729 | F5: =F6+(F7-F6)*(F8-F9)/(F10-F9) -> 19.525281 | G5: =G6+(G7-G6)*(G8-G9)/(G10-G9) -> 19.460368 | H5: =H6+(H7-H6)*(H8-H9)/(H10-H9) -> 19.405484 | I5: =I6+(I7-I6)*(I8-I9)/(I10-I9) -> 19.357942 | J5: =J6+(J7-J6)*(J8-J9)/(J10-J9) -> 19.316007 | L5: =L6+(L7-L6)*(L8-L9)/(L10-L9) -> 19.249956 | M5: =M6+(M7-M6)*(M8-M9)/(M10-M9) -> 19.223903 | N5: =N6+(N7-N6)*(N8-N9)/(N10-N9) -> 19.199936 | O5: =O6+(O7-O6)*(O8-O9)/(O10-O9) -> 19.177746 | P5: =P6+(P7-P6)*(P8-P9)/(P10-P9) -> 19.157088 | Q5: =Q6+(Q7-Q6)*(Q8-Q9)/(Q10-Q9) -> 19.137764 | R5: =R6+(R7-R6)*(R8-R9)/(R10-R9) -> 19.119611 | S5: =S6+(S7-S6)*(S8-S9)/(S10-S9) -> 19.102497 | ... GQ5: =GQ6+(GQ7-GQ6)*(GQ8-GQ9)/(GQ10-GQ9) -> 11.496516
A6: yi | C6: =LN($B$2) -> 20.191897 | D6: =LN($B$2) -> 20.191897 | E6: =LN($D$2) -> 19.707155 | F6: =LN($D$2) -> 19.707155 | G6: =LN($D$2) -> 19.707155 | H6: =LN($D$2) -> 19.707155 | I6: =LN($D$2) -> 19.707155 | J6: =LN($D$2) -> 19.707155 | L6: =LN($K$2) -> 19.278495 | M6: =LN($K$2) -> 19.278495 | N6: =LN($K$2) -> 19.278495 | O6: =LN($K$2) -> 19.278495 | P6: =LN($K$2) -> 19.278495 | Q6: =LN($K$2) -> 19.278495 | R6: =LN($K$2) -> 19.278495 | S6: =LN($K$2) -> 19.278495 | ... AE6: =LN($K$2) -> 19.278495 | AF6: =LN($AE$2) -> 18.949543 | AG6: =LN($AE$2) -> 18.949543 | AH6: =LN($AE$2) -> 18.949543 | AI6: =LN($AE$2) -> 18.949543 | AJ6: =LN($AE$2) -> 18.949543 | AK6: =LN($AE$2) -> 18.949543 | AL6: =LN($AE$2) -> 18.949543 | AM6: =LN($AE$2) -> 18.949543 | ... CE6: =LN($AE$2) -> 18.949543 | CF6: =LN($CE$2) -> 18.21991 | CG6: =LN($CE$2) -> 18.21991 | CH6: =LN($CG$2) -> 17.527374 | CI6: =LN($CG$2) -> 17.527374 | CJ6: =LN($CG$2) -> 17.527374 | CK6: =LN($CG$2) -> 17.527374 | CL6: =LN($CG$2) -> 17.527374 | CM6: =LN($CG$2) -> 17.527374 | CN6: =LN($CG$2) -> 17.527374 | CO6: =LN($CN$2) -> 16.689075 | CP6: =LN($CP$2) -> 15.853609 | CQ6: =LN($CP$2) -> 15.853609 | CR6: =LN($CP$2) -> 15.853609 | CS6: =LN($CP$2) -> 15.853609 | CT6: =LN($CP$2) -> 15.853609 | CU6: =LN($CP$2) -> 15.853609 | CV6: =LN($CP$2) -> 15.853609 | CW6: =LN($CP$2) -> 15.853609 | CX6: =LN($CW$2) -> 15.339608 | CY6: =LN($CW$2) -> 15.339608 | CZ6: =LN($CY$2) -> 14.387619 | DA6: =LN($CY$2) -> 14.387619 | DB6: =LN($CY$2) -> 14.387619 | DC6: =LN($CY$2) -> 14.387619 | DD6: =LN($CY$2) -> 14.387619 | DE6: =LN($CY$2) -> 14.387619 | DF6: =LN($CY$2) -> 14.387619 | DG6: =LN($DF$2) -> 12.705938 | DH6: =LN($DF$2) -> 12.705938 | DI6: =LN($DF$2) -> 12.705938 | DJ6: =LN($DF$2) -> 12.705938 | DK6: =LN($DF$2) -> 12.705938 | DL6: =LN($DF$2) -> 12.705938 | DM6: =LN($DF$2) -> 12.705938 | DN6: =LN($DF$2) -> 12.705938 | ... DZ6: =LN($DF$2) -> 12.705938 | EA6: =LN($DZ$2) -> 11.983554 | EB6: =LN($DZ$2) -> 11.983554 | EC6: =LN($DZ$2) -> 11.983554 | ED6: =LN($DZ$2) -> 11.983554 | EE6: =LN($DZ$2) -> 11.983554 | EF6: =LN($DZ$2) -> 11.983554 | EG6: =LN($DZ$2) -> 11.983554 | EH6: =LN($DZ$2) -> 11.983554 | ... GQ6: =LN($DZ$2) -> 11.983554
A7: yi+1 | C7: =LN($D$2) -> 19.707155 | D7: =LN($D$2) -> 19.707155 | E7: =LN($K$2) -> 19.278495 | F7: =LN($K$2) -> 19.278495 | G7: =LN($K$2) -> 19.278495 | H7: =LN($K$2) -> 19.278495 | I7: =LN($K$2) -> 19.278495 | J7: =LN($K$2) -> 19.278495 | L7: =LN($AE$2) -> 18.949543 | M7: =LN($AE$2) -> 18.949543 | N7: =LN($AE$2) -> 18.949543 | O7: =LN($AE$2) -> 18.949543 | P7: =LN($AE$2) -> 18.949543 | Q7: =LN($AE$2) -> 18.949543 | R7: =LN($AE$2) -> 18.949543 | S7: =LN($AE$2) -> 18.949543 | ... AE7: =LN($AE$2) -> 18.949543 | AF7: =LN($CE$2) -> 18.21991 | AG7: =LN($CE$2) -> 18.21991 | AH7: =LN($CE$2) -> 18.21991 | AI7: =LN($CE$2) -> 18.21991 | AJ7: =LN($CE$2) -> 18.21991 | AK7: =LN($CE$2) -> 18.21991 | AL7: =LN($CE$2) -> 18.21991 | AM7: =LN($CE$2) -> 18.21991 | ... CE7: =LN($CE$2) -> 18.21991 | CF7: =LN($CG$2) -> 17.527374 | CG7: =LN($CG$2) -> 17.527374 | CH7: =LN($CN$2) -> 16.689075 | CI7: =LN($CN$2) -> 16.689075 | CJ7: =LN($CN$2) -> 16.689075 | CK7: =LN($CN$2) -> 16.689075 | CL7: =LN($CN$2) -> 16.689075 | CM7: =LN($CN$2) -> 16.689075 | CN7: =LN($CN$2) -> 16.689075 | CO7: =LN($CP$2) -> 15.853609 | CP7: =LN($CP$2) -> 15.853609 | CQ7: =LN($CW$2) -> 15.339608 | CR7: =LN($CW$2) -> 15.339608 | CS7: =LN($CW$2) -> 15.339608 | CT7: =LN($CW$2) -> 15.339608 | CU7: =LN($CW$2) -> 15.339608 | CV7: =LN($CW$2) -> 15.339608 | CW7: =LN($CW$2) -> 15.339608 | CX7: =LN($CY$2) -> 14.387619 | CY7: =LN($CY$2) -> 14.387619 | CZ7: =LN($DF$2) -> 12.705938 | DA7: =LN($DF$2) -> 12.705938 | DB7: =LN($DF$2) -> 12.705938 | DC7: =LN($DF$2) -> 12.705938 | DD7: =LN($DF$2) -> 12.705938 | DE7: =LN($DF$2) -> 12.705938 | DF7: =LN($DF$2) -> 12.705938 | DG7: =LN($DZ$2) -> 11.983554 | DH7: =LN($DZ$2) -> 11.983554 | DI7: =LN($DZ$2) -> 11.983554 | DJ7: =LN($DZ$2) -> 11.983554 | DK7: =LN($DZ$2) -> 11.983554 | DL7: =LN($DZ$2) -> 11.983554 | DM7: =LN($DZ$2) -> 11.983554 | DN7: =LN($DZ$2) -> 11.983554 | ... DZ7: =LN($DZ$2) -> 11.983554 | EA7: =LN($GR$2) -> 11.492417 | EB7: =LN($GR$2) -> 11.492417 | EC7: =LN($GR$2) -> 11.492417 | ED7: =LN($GR$2) -> 11.492417 | EE7: =LN($GR$2) -> 11.492417 | EF7: =LN($GR$2) -> 11.492417 | EG7: =LN($GR$2) -> 11.492417 | EH7: =LN($GR$2) -> 11.492417 | ... GQ7: =LN($GR$2) -> 11.492417
A8: x | C8: =LN(C1) -> 0.69314718 | D8: =LN(D1) -> 1.0986123 | E8: =LN(E1) -> 1.3862944 | F8: =LN(F1) -> 1.6094379 | G8: =LN(G1) -> 1.7917595 | H8: =LN(H1) -> 1.9459101 | I8: =LN(I1) -> 2.0794415 | J8: =LN(J1) -> 2.1972246 | L8: =LN(L1) -> 2.3978953 | M8: =LN(M1) -> 2.4849066 | N8: =LN(N1) -> 2.5649494 | O8: =LN(O1) -> 2.6390573 | P8: =LN(P1) -> 2.7080502 | Q8: =LN(Q1) -> 2.7725887 | R8: =LN(R1) -> 2.8332133 | S8: =LN(S1) -> 2.8903718 | ... GQ8: =LN(GQ1) -> 13.80546
A9: xi | C9: =LN($B$1) -> 0 | D9: =LN($B$1) -> 0 | E9: =LN($D$1) -> 1.0986123 | F9: =LN($D$1) -> 1.0986123 | G9: =LN($D$1) -> 1.0986123 | H9: =LN($D$1) -> 1.0986123 | I9: =LN($D$1) -> 1.0986123 | J9: =LN($D$1) -> 1.0986123 | L9: =LN($K$1) -> 2.3025851 | M9: =LN($K$1) -> 2.3025851 | N9: =LN($K$1) -> 2.3025851 | O9: =LN($K$1) -> 2.3025851 | P9: =LN($K$1) -> 2.3025851 | Q9: =LN($K$1) -> 2.3025851 | R9: =LN($K$1) -> 2.3025851 | S9: =LN($K$1) -> 2.3025851 | ... AE9: =LN($K$1) -> 2.3025851 | AF9: =LN($AE$1) -> 3.4011974 | AG9: =LN($AE$1) -> 3.4011974 | AH9: =LN($AE$1) -> 3.4011974 | AI9: =LN($AE$1) -> 3.4011974 | AJ9: =LN($AE$1) -> 3.4011974 | AK9: =LN($AE$1) -> 3.4011974 | AL9: =LN($AE$1) -> 3.4011974 | AM9: =LN($AE$1) -> 3.4011974 | ... CE9: =LN($AE$1) -> 3.4011974 | CF9: =LN($CE$1) -> 4.6051702 | CG9: =LN($CE$1) -> 4.6051702 | CH9: =LN($CG$1) -> 5.7037825 | CI9: =LN($CG$1) -> 5.7037825 | CJ9: =LN($CG$1) -> 5.7037825 | CK9: =LN($CG$1) -> 5.7037825 | CL9: =LN($CG$1) -> 5.7037825 | CM9: =LN($CG$1) -> 5.7037825 | CN9: =LN($CG$1) -> 5.7037825 | CO9: =LN($CN$1) -> 6.9077553 | CP9: =LN($CP$1) -> 8.0063676 | CQ9: =LN($CP$1) -> 8.0063676 | CR9: =LN($CP$1) -> 8.0063676 | CS9: =LN($CP$1) -> 8.0063676 | CT9: =LN($CP$1) -> 8.0063676 | CU9: =LN($CP$1) -> 8.0063676 | CV9: =LN($CP$1) -> 8.0063676 | CW9: =LN($CP$1) -> 8.0063676 | CX9: =LN($CW$1) -> 9.2103404 | CY9: =LN($CW$1) -> 9.2103404 | CZ9: =LN($CY$1) -> 10.308953 | DA9: =LN($CY$1) -> 10.308953 | DB9: =LN($CY$1) -> 10.308953 | DC9: =LN($CY$1) -> 10.308953 | DD9: =LN($CY$1) -> 10.308953 | DE9: =LN($CY$1) -> 10.308953 | DF9: =LN($CY$1) -> 10.308953 | DG9: =LN($DF$1) -> 11.512925 | DH9: =LN($DF$1) -> 11.512925 | DI9: =LN($DF$1) -> 11.512925 | DJ9: =LN($DF$1) -> 11.512925 | DK9: =LN($DF$1) -> 11.512925 | DL9: =LN($DF$1) -> 11.512925 | DM9: =LN($DF$1) -> 11.512925 | DN9: =LN($DF$1) -> 11.512925 | ... DZ9: =LN($DF$1) -> 11.512925 | EA9: =LN($DZ$1) -> 12.611538 | EB9: =LN($DZ$1) -> 12.611538 | EC9: =LN($DZ$1) -> 12.611538 | ED9: =LN($DZ$1) -> 12.611538 | EE9: =LN($DZ$1) -> 12.611538 | EF9: =LN($DZ$1) -> 12.611538 | EG9: =LN($DZ$1) -> 12.611538 | EH9: =LN($DZ$1) -> 12.611538 | ... GQ9: =LN($DZ$1) -> 12.611538
A10: xi+1 | C10: =LN($D$1) -> 1.0986123 | D10: =LN($D$1) -> 1.0986123 | E10: =LN($K$1) -> 2.3025851 | F10: =LN($K$1) -> 2.3025851 | G10: =LN($K$1) -> 2.3025851 | H10: =LN($K$1) -> 2.3025851 | I10: =LN($K$1) -> 2.3025851 | J10: =LN($K$1) -> 2.3025851 | L10: =LN($AE$1) -> 3.4011974 | M10: =LN($AE$1) -> 3.4011974 | N10: =LN($AE$1) -> 3.4011974 | O10: =LN($AE$1) -> 3.4011974 | P10: =LN($AE$1) -> 3.4011974 | Q10: =LN($AE$1) -> 3.4011974 | R10: =LN($AE$1) -> 3.4011974 | S10: =LN($AE$1) -> 3.4011974 | ... AE10: =LN($AE$1) -> 3.4011974 | AF10: =LN($CE$1) -> 4.6051702 | AG10: =LN($CE$1) -> 4.6051702 | AH10: =LN($CE$1) -> 4.6051702 | AI10: =LN($CE$1) -> 4.6051702 | AJ10: =LN($CE$1) -> 4.6051702 | AK10: =LN($CE$1) -> 4.6051702 | AL10: =LN($CE$1) -> 4.6051702 | AM10: =LN($CE$1) -> 4.6051702 | ... CE10: =LN($CE$1) -> 4.6051702 | CF10: =LN($CG$1) -> 5.7037825 | CG10: =LN($CG$1) -> 5.7037825 | CH10: =LN($CN$1) -> 6.9077553 | CI10: =LN($CN$1) -> 6.9077553 | CJ10: =LN($CN$1) -> 6.9077553 | CK10: =LN($CN$1) -> 6.9077553 | CL10: =LN($CN$1) -> 6.9077553 | CM10: =LN($CN$1) -> 6.9077553 | CN10: =LN($CN$1) -> 6.9077553 | CO10: =LN($CP$1) -> 8.0063676 | CP10: =LN($CW$1) -> 9.2103404 | CQ10: =LN($CW$1) -> 9.2103404 | CR10: =LN($CW$1) -> 9.2103404 | CS10: =LN($CW$1) -> 9.2103404 | CT10: =LN($CW$1) -> 9.2103404 | CU10: =LN($CW$1) -> 9.2103404 | CV10: =LN($CW$1) -> 9.2103404 | CW10: =LN($CW$1) -> 9.2103404 | CX10: =LN($CY$1) -> 10.308953 | CY10: =LN($CY$1) -> 10.308953 | CZ10: =LN($DF$1) -> 11.512925 | DA10: =LN($DF$1) -> 11.512925 | DB10: =LN($DF$1) -> 11.512925 | DC10: =LN($DF$1) -> 11.512925 | DD10: =LN($DF$1) -> 11.512925 | DE10: =LN($DF$1) -> 11.512925 | DF10: =LN($DF$1) -> 11.512925 | DG10: =LN($DZ$1) -> 12.611538 | DH10: =LN($DZ$1) -> 12.611538 | DI10: =LN($DZ$1) -> 12.611538 | DJ10: =LN($DZ$1) -> 12.611538 | DK10: =LN($DZ$1) -> 12.611538 | DL10: =LN($DZ$1) -> 12.611538 | DM10: =LN($DZ$1) -> 12.611538 | DN10: =LN($DZ$1) -> 12.611538 | ... DZ10: =LN($DZ$1) -> 12.611538 | EA10: =LN($GR$1) -> 13.815511 | EB10: =LN($GR$1) -> 13.815511 | EC10: =LN($GR$1) -> 13.815511 | ED10: =LN($GR$1) -> 13.815511 | EE10: =LN($GR$1) -> 13.815511 | EF10: =LN($GR$1) -> 13.815511 | EG10: =LN($GR$1) -> 13.815511 | EH10: =LN($GR$1) -> 13.815511 | ... GQ10: =LN($GR$1) -> 13.815511
A11: DH | C11: =EXP(C5) -> 4.3291797e+08 | D11: =EXP(D5) -> 3.62e+08 | E11: =EXP(E5) -> 3.2675754e+08 | F11: =EXP(F5) -> 3.0180189e+08 | G11: =EXP(G5) -> 2.8283322e+08 | H11: =EXP(H5) -> 2.6772862e+08 | I11: =EXP(I5) -> 2.5529803e+08 | J11: =EXP(J5) -> 2.4481341e+08 | L11: =EXP(L5) -> 2.291658e+08 | M11: =EXP(M5) -> 2.2327236e+08 | N11: =EXP(N5) -> 2.1798486e+08 | O11: =EXP(O5) -> 2.132011e+08 | P11: =EXP(P5) -> 2.0884193e+08 | Q11: =EXP(Q5) -> 2.0484492e+08 | R11: =EXP(R5) -> 2.0116002e+08 | S11: =EXP(S5) -> 1.9774653e+08 | ... GQ11: =EXP(GQ5) -> 98372.486
A14: 1 | CC14: 1 | CD14: =EXP($CD$6+($CD$7-$CD$6)*((LN($CD$1-A14))-$CD$9)/($CD$10-$CD$9)) -> 87796480 | CE14: =EXP($CE$6+($CE$7-$CE$6)*((LN($CE$1-A14))-$CE$9)/($CE$10-$CE$9)) -> 82309802 | CF14: =EXP($CF$6+($CF$7-$CF$6)*((LN($CF$1-A14))-$CF$9)/($CF$10-$CF$9)) -> 53017263 | CG14: =EXP($CG$6+($CG$7-$CG$6)*((LN($CG$1-A14))-$CG$9)/($CG$10-$CG$9)) -> 41016238 | CH14: =EXP($CH$6+($CH$7-$CH$6)*((LN($CH$1-A14))-$CH$9)/($CH$10-$CH$9)) -> 33558820 | CI14: =EXP($CI$6+($CI$7-$CI$6)*((LN($CI$1-A14))-$CI$9)/($CI$10-$CI$9)) -> 28719636 | CJ14: =EXP($CJ$6+($CJ$7-$CJ$6)*((LN($CJ$1-A14))-$CJ$9)/($CJ$10-$CJ$9)) -> 25289827 | CK14: =EXP($CK$6+($CK$7-$CK$6)*((LN($CK$1-A14))-$CK$9)/($CK$10-$CK$9)) -> 22712254 | CL14: =EXP($CL$6+($CL$7-$CL$6)*((LN($CL$1-A14))-$CL$9)/($CL$10-$CL$9)) -> 20693203 | CM14: =EXP($CM$6+($CM$7-$CM$6)*((LN($CM$1-A14))-$CM$9)/($CM$10-$CM$9)) -> 19062038 | CN14: =EXP($CN$6+($CN$7-$CN$6)*((LN($CN$1-A14))-$CN$9)/($CN$10-$CN$9)) -> 17712335 | CO14: =EXP($CO$6+($CO$7-$CO$6)*((LN($CO$1-A14))-$CO$9)/($CO$10-$CO$9)) -> 10452326 | CP14: =EXP($CP$6+($CP$7-$CP$6)*((LN($CP$1-A14))-$CP$9)/($CP$10-$CP$9)) -> 7676000 | CQ14: =EXP($CQ$6+($CQ$7-$CQ$6)*((LN($CQ$1-A14))-$CQ$9)/($CQ$10-$CQ$9)) -> 6789572.2 | CR14: =EXP($CR$6+($CR$7-$CR$6)*((LN($CR$1-A14))-$CR$9)/($CR$10-$CR$9)) -> 6172488.2 | CS14: =EXP($CS$6+($CS$7-$CS$6)*((LN($CS$1-A14))-$CS$9)/($CS$10-$CS$9)) -> 5710182.4 | CT14: =EXP($CT$6+($CT$7-$CT$6)*((LN($CT$1-A14))-$CT$9)/($CT$10-$CT$9)) -> 5346438.9 | CU14: =EXP($CU$6+($CU$7-$CU$6)*((LN($CU$1-A14))-$CU$9)/($CU$10-$CU$9)) -> 5050139.2 | CV14: =EXP($CV$6+($CV$7-$CV$6)*((LN($CV$1-A14))-$CV$9)/($CV$10-$CV$9)) -> 4802448.4 | CW14: =EXP($CW$6+($CW$7-$CW$6)*((LN($CW$1-A14))-$CW$9)/($CW$10-$CW$9)) -> 4591196 | CX14: =EXP($CX$6+($CX$7-$CX$6)*((LN($CX$1-A14))-$CX$9)/($CX$10-$CX$9)) -> 2518095.8 | CY14: =EXP($CY$6+($CY$7-$CY$6)*((LN($CY$1-A14))-$CY$9)/($CY$10-$CY$9)) -> 1772051.2 | CZ14: =EXP($CZ$6+($CZ$7-$CZ$6)*((LN($CZ$1-A14))-$CZ$9)/($CZ$10-$CZ$9)) -> 1185679.7 | DA14: =EXP($DA$6+($DA$7-$DA$6)*((LN($DA$1-A14))-$DA$9)/($DA$10-$DA$9)) -> 868165.89 | DB14: =EXP($DB$6+($DB$7-$DB$6)*((LN($DB$1-A14))-$DB$9)/($DB$10-$DB$9)) -> 672980.05 | DC14: =EXP($DC$6+($DC$7-$DC$6)*((LN($DC$1-A14))-$DC$9)/($DC$10-$DC$9)) -> 542614.05 | DD14: =EXP($DD$6+($DD$7-$DD$6)*((LN($DD$1-A14))-$DD$9)/($DD$10-$DD$9)) -> 450285.71 | DE14: =EXP($DE$6+($DE$7-$DE$6)*((LN($DE$1-A14))-$DE$9)/($DE$10-$DE$9)) -> 381978.29 | DF14: =EXP($DF$6+($DF$7-$DF$6)*((LN($DF$1-A14))-$DF$9)/($DF$10-$DF$9)) -> 329704.61
A15: 2 | CC15: 2 | CD15: =EXP($CD$6+($CD$7-$CD$6)*((LN($CD$1-A15))-$CD$9)/($CD$10-$CD$9)) -> 88399753 | CE15: =EXP($CE$6+($CE$7-$CE$6)*((LN($CE$1-A15))-$CE$9)/($CE$10-$CE$9)) -> 82817778 | CF15: =EXP($CF$6+($CF$7-$CF$6)*((LN($CF$1-A15))-$CF$9)/($CF$10-$CF$9)) -> 53185897 | CG15: =EXP($CG$6+($CG$7-$CG$6)*((LN($CG$1-A15))-$CG$9)/($CG$10-$CG$9)) -> 41102948 | CH15: =EXP($CH$6+($CH$7-$CH$6)*((LN($CH$1-A15))-$CH$9)/($CH$10-$CH$9)) -> 33617507 | CI15: =EXP($CI$6+($CI$7-$CI$6)*((LN($CI$1-A15))-$CI$9)/($CI$10-$CI$9)) -> 28759778 | CJ15: =EXP($CJ$6+($CJ$7-$CJ$6)*((LN($CJ$1-A15))-$CJ$9)/($CJ$10-$CJ$9)) -> 25319266 | CK15: =EXP($CK$6+($CK$7-$CK$6)*((LN($CK$1-A15))-$CK$9)/($CK$10-$CK$9)) -> 22734906 | CL15: =EXP($CL$6+($CL$7-$CL$6)*((LN($CL$1-A15))-$CL$9)/($CL$10-$CL$9)) -> 20711255 | CM15: =EXP($CM$6+($CM$7-$CM$6)*((LN($CM$1-A15))-$CM$9)/($CM$10-$CM$9)) -> 19076816 | CN15: =EXP($CN$6+($CN$7-$CN$6)*((LN($CN$1-A15))-$CN$9)/($CN$10-$CN$9)) -> 17724690 | CO15: =EXP($CO$6+($CO$7-$CO$6)*((LN($CO$1-A15))-$CO$9)/($CO$10-$CO$9)) -> 10456304 | CP15: =EXP($CP$6+($CP$7-$CP$6)*((LN($CP$1-A15))-$CP$9)/($CP$10-$CP$9)) -> 7676000 | CQ15: =EXP($CQ$6+($CQ$7-$CQ$6)*((LN($CQ$1-A15))-$CQ$9)/($CQ$10-$CQ$9)) -> 6790297.2 | CR15: =EXP($CR$6+($CR$7-$CR$6)*((LN($CR$1-A15))-$CR$9)/($CR$10-$CR$9)) -> 6173015.4 | CS15: =EXP($CS$6+($CS$7-$CS$6)*((LN($CS$1-A15))-$CS$9)/($CS$10-$CS$9)) -> 5710588.8 | CT15: =EXP($CT$6+($CT$7-$CT$6)*((LN($CT$1-A15))-$CT$9)/($CT$10-$CT$9)) -> 5346765.1 | CU15: =EXP($CU$6+($CU$7-$CU$6)*((LN($CU$1-A15))-$CU$9)/($CU$10-$CU$9)) -> 5050408.7 | CV15: =EXP($CV$6+($CV$7-$CV$6)*((LN($CV$1-A15))-$CV$9)/($CV$10-$CV$9)) -> 4802676.3 | CW15: =EXP($CW$6+($CW$7-$CW$6)*((LN($CW$1-A15))-$CW$9)/($CW$10-$CW$9)) -> 4591392.1 | CX15: =EXP($CX$6+($CX$7-$CX$6)*((LN($CX$1-A15))-$CX$9)/($CX$10-$CX$9)) -> 2518205 | CY15: =EXP($CY$6+($CY$7-$CY$6)*((LN($CY$1-A15))-$CY$9)/($CY$10-$CY$9)) -> 1772102.4 | CZ15: =EXP($CZ$6+($CZ$7-$CZ$6)*((LN($CZ$1-A15))-$CZ$9)/($CZ$10-$CZ$9)) -> 1185721.1 | DA15: =EXP($DA$6+($DA$7-$DA$6)*((LN($DA$1-A15))-$DA$9)/($DA$10-$DA$9)) -> 868190.14 | DB15: =EXP($DB$6+($DB$7-$DB$6)*((LN($DB$1-A15))-$DB$9)/($DB$10-$DB$9)) -> 672995.72 | DC15: =EXP($DC$6+($DC$7-$DC$6)*((LN($DC$1-A15))-$DC$9)/($DC$10-$DC$9)) -> 542624.88 | DD15: =EXP($DD$6+($DD$7-$DD$6)*((LN($DD$1-A15))-$DD$9)/($DD$10-$DD$9)) -> 450293.57 | DE15: =EXP($DE$6+($DE$7-$DE$6)*((LN($DE$1-A15))-$DE$9)/($DE$10-$DE$9)) -> 381984.22 | DF15: =EXP($DF$6+($DF$7-$DF$6)*((LN($DF$1-A15))-$DF$9)/($DF$10-$DF$9)) -> 329709.21
A16: 3 | CC16: 3 | CD16: =EXP($CD$6+($CD$7-$CD$6)*((LN($CD$1-A16))-$CD$9)/($CD$10-$CD$9)) -> 89014138 | CE16: =EXP($CE$6+($CE$7-$CE$6)*((LN($CE$1-A16))-$CE$9)/($CE$10-$CE$9)) -> 83334148 | CF16: =EXP($CF$6+($CF$7-$CF$6)*((LN($CF$1-A16))-$CF$9)/($CF$10-$CF$9)) -> 53355925 | CG16: =EXP($CG$6+($CG$7-$CG$6)*((LN($CG$1-A16))-$CG$9)/($CG$10-$CG$9)) -> 41190134 | CH16: =EXP($CH$6+($CH$7-$CH$6)*((LN($CH$1-A16))-$CH$9)/($CH$10-$CH$9)) -> 33676445 | CI16: =EXP($CI$6+($CI$7-$CI$6)*((LN($CI$1-A16))-$CI$9)/($CI$10-$CI$9)) -> 28800057 | CJ16: =EXP($CJ$6+($CJ$7-$CJ$6)*((LN($CJ$1-A16))-$CJ$9)/($CJ$10-$CJ$9)) -> 25348788 | CK16: =EXP($CK$6+($CK$7-$CK$6)*((LN($CK$1-A16))-$CK$9)/($CK$10-$CK$9)) -> 22757612 | CL16: =EXP($CL$6+($CL$7-$CL$6)*((LN($CL$1-A16))-$CL$9)/($CL$10-$CL$9)) -> 20729345 | CM16: =EXP($CM$6+($CM$7-$CM$6)*((LN($CM$1-A16))-$CM$9)/($CM$10-$CM$9)) -> 19091621 | CN16: =EXP($CN$6+($CN$7-$CN$6)*((LN($CN$1-A16))-$CN$9)/($CN$10-$CN$9)) -> 17737067 | CO16: =EXP($CO$6+($CO$7-$CO$6)*((LN($CO$1-A16))-$CO$9)/($CO$10-$CO$9)) -> 10460286 | CP16: =EXP($CP$6+($CP$7-$CP$6)*((LN($CP$1-A16))-$CP$9)/($CP$10-$CP$9)) -> 7676000 | CQ16: =EXP($CQ$6+($CQ$7-$CQ$6)*((LN($CQ$1-A16))-$CQ$9)/($CQ$10-$CQ$9)) -> 6791022.4 | CR16: =EXP($CR$6+($CR$7-$CR$6)*((LN($CR$1-A16))-$CR$9)/($CR$10-$CR$9)) -> 6173542.7 | CS16: =EXP($CS$6+($CS$7-$CS$6)*((LN($CS$1-A16))-$CS$9)/($CS$10-$CS$9)) -> 5710995.4 | CT16: =EXP($CT$6+($CT$7-$CT$6)*((LN($CT$1-A16))-$CT$9)/($CT$10-$CT$9)) -> 5347091.3 | CU16: =EXP($CU$6+($CU$7-$CU$6)*((LN($CU$1-A16))-$CU$9)/($CU$10-$CU$9)) -> 5050678.3 | CV16: =EXP($CV$6+($CV$7-$CV$6)*((LN($CV$1-A16))-$CV$9)/($CV$10-$CV$9)) -> 4802904.1 | CW16: =EXP($CW$6+($CW$7-$CW$6)*((LN($CW$1-A16))-$CW$9)/($CW$10-$CW$9)) -> 4591588.1 | CX16: =EXP($CX$6+($CX$7-$CX$6)*((LN($CX$1-A16))-$CX$9)/($CX$10-$CX$9)) -> 2518314.1 | CY16: =EXP($CY$6+($CY$7-$CY$6)*((LN($CY$1-A16))-$CY$9)/($CY$10-$CY$9)) -> 1772153.6 | CZ16: =EXP($CZ$6+($CZ$7-$CZ$6)*((LN($CZ$1-A16))-$CZ$9)/($CZ$10-$CZ$9)) -> 1185762.5 | DA16: =EXP($DA$6+($DA$7-$DA$6)*((LN($DA$1-A16))-$DA$9)/($DA$10-$DA$9)) -> 868214.4 | DB16: =EXP($DB$6+($DB$7-$DB$6)*((LN($DB$1-A16))-$DB$9)/($DB$10-$DB$9)) -> 673011.38 | DC16: =EXP($DC$6+($DC$7-$DC$6)*((LN($DC$1-A16))-$DC$9)/($DC$10-$DC$9)) -> 542635.71 | DD16: =EXP($DD$6+($DD$7-$DD$6)*((LN($DD$1-A16))-$DD$9)/($DD$10-$DD$9)) -> 450301.43 | DE16: =EXP($DE$6+($DE$7-$DE$6)*((LN($DE$1-A16))-$DE$9)/($DE$10-$DE$9)) -> 381990.14 | DF16: =EXP($DF$6+($DF$7-$DF$6)*((LN($DF$1-A16))-$DF$9)/($DF$10-$DF$9)) -> 329713.82
A17: 4 | CC17: 4 | CD17: =EXP($CD$6+($CD$7-$CD$6)*((LN($CD$1-A17))-$CD$9)/($CD$10-$CD$9)) -> 89639970 | CE17: =EXP($CE$6+($CE$7-$CE$6)*((LN($CE$1-A17))-$CE$9)/($CE$10-$CE$9)) -> 83859138 | CF17: =EXP($CF$6+($CF$7-$CF$6)*((LN($CF$1-A17))-$CF$9)/($CF$10-$CF$9)) -> 53527367 | CG17: =EXP($CG$6+($CG$7-$CG$6)*((LN($CG$1-A17))-$CG$9)/($CG$10-$CG$9)) -> 41277799 | CH17: =EXP($CH$6+($CH$7-$CH$6)*((LN($CH$1-A17))-$CH$9)/($CH$10-$CH$9)) -> 33735634 | CI17: =EXP($CI$6+($CI$7-$CI$6)*((LN($CI$1-A17))-$CI$9)/($CI$10-$CI$9)) -> 28840474 | CJ17: =EXP($CJ$6+($CJ$7-$CJ$6)*((LN($CJ$1-A17))-$CJ$9)/($CJ$10-$CJ$9)) -> 25378394 | CK17: =EXP($CK$6+($CK$7-$CK$6)*((LN($CK$1-A17))-$CK$9)/($CK$10-$CK$9)) -> 22780374 | CL17: =EXP($CL$6+($CL$7-$CL$6)*((LN($CL$1-A17))-$CL$9)/($CL$10-$CL$9)) -> 20747474 | CM17: =EXP($CM$6+($CM$7-$CM$6)*((LN($CM$1-A17))-$CM$9)/($CM$10-$CM$9)) -> 19106455 | CN17: =EXP($CN$6+($CN$7-$CN$6)*((LN($CN$1-A17))-$CN$9)/($CN$10-$CN$9)) -> 17749464 | CO17: =EXP($CO$6+($CO$7-$CO$6)*((LN($CO$1-A17))-$CO$9)/($CO$10-$CO$9)) -> 10464271 | CP17: =EXP($CP$6+($CP$7-$CP$6)*((LN($CP$1-A17))-$CP$9)/($CP$10-$CP$9)) -> 7676000 | CQ17: =EXP($CQ$6+($CQ$7-$CQ$6)*((LN($CQ$1-A17))-$CQ$9)/($CQ$10-$CQ$9)) -> 6791747.9 | CR17: =EXP($CR$6+($CR$7-$CR$6)*((LN($CR$1-A17))-$CR$9)/($CR$10-$CR$9)) -> 6174070.2 | CS17: =EXP($CS$6+($CS$7-$CS$6)*((LN($CS$1-A17))-$CS$9)/($CS$10-$CS$9)) -> 5711402 | CT17: =EXP($CT$6+($CT$7-$CT$6)*((LN($CT$1-A17))-$CT$9)/($CT$10-$CT$9)) -> 5347417.6 | CU17: =EXP($CU$6+($CU$7-$CU$6)*((LN($CU$1-A17))-$CU$9)/($CU$10-$CU$9)) -> 5050948 | CV17: =EXP($CV$6+($CV$7-$CV$6)*((LN($CV$1-A17))-$CV$9)/($CV$10-$CV$9)) -> 4803132.1 | CW17: =EXP($CW$6+($CW$7-$CW$6)*((LN($CW$1-A17))-$CW$9)/($CW$10-$CW$9)) -> 4591784.2 | CX17: =EXP($CX$6+($CX$7-$CX$6)*((LN($CX$1-A17))-$CX$9)/($CX$10-$CX$9)) -> 2518423.2 | CY17: =EXP($CY$6+($CY$7-$CY$6)*((LN($CY$1-A17))-$CY$9)/($CY$10-$CY$9)) -> 1772204.8 | CZ17: =EXP($CZ$6+($CZ$7-$CZ$6)*((LN($CZ$1-A17))-$CZ$9)/($CZ$10-$CZ$9)) -> 1185803.9 | DA17: =EXP($DA$6+($DA$7-$DA$6)*((LN($DA$1-A17))-$DA$9)/($DA$10-$DA$9)) -> 868238.65 | DB17: =EXP($DB$6+($DB$7-$DB$6)*((LN($DB$1-A17))-$DB$9)/($DB$10-$DB$9)) -> 673027.05 | DC17: =EXP($DC$6+($DC$7-$DC$6)*((LN($DC$1-A17))-$DC$9)/($DC$10-$DC$9)) -> 542646.54 | DD17: =EXP($DD$6+($DD$7-$DD$6)*((LN($DD$1-A17))-$DD$9)/($DD$10-$DD$9)) -> 450309.3 | DE17: =EXP($DE$6+($DE$7-$DE$6)*((LN($DE$1-A17))-$DE$9)/($DE$10-$DE$9)) -> 381996.07 | DF17: =EXP($DF$6+($DF$7-$DF$6)*((LN($DF$1-A17))-$DF$9)/($DF$10-$DF$9)) -> 329718.42
A18: 5 | CC18: 5 | CD18: =EXP($CD$6+($CD$7-$CD$6)*((LN($CD$1-A18))-$CD$9)/($CD$10-$CD$9)) -> 90277599 | CE18: =EXP($CE$6+($CE$7-$CE$6)*((LN($CE$1-A18))-$CE$9)/($CE$10-$CE$9)) -> 84392986 | CF18: =EXP($CF$6+($CF$7-$CF$6)*((LN($CF$1-A18))-$CF$9)/($CF$10-$CF$9)) -> 53700240 | CG18: =EXP($CG$6+($CG$7-$CG$6)*((LN($CG$1-A18))-$CG$9)/($CG$10-$CG$9)) -> 41365949 | CH18: =EXP($CH$6+($CH$7-$CH$6)*((LN($CH$1-A18))-$CH$9)/($CH$10-$CH$9)) -> 33795078 | CI18: =EXP($CI$6+($CI$7-$CI$6)*((LN($CI$1-A18))-$CI$9)/($CI$10-$CI$9)) -> 28881029 | CJ18: =EXP($CJ$6+($CJ$7-$CJ$6)*((LN($CJ$1-A18))-$CJ$9)/($CJ$10-$CJ$9)) -> 25408085 | CK18: =EXP($CK$6+($CK$7-$CK$6)*((LN($CK$1-A18))-$CK$9)/($CK$10-$CK$9)) -> 22803191 | CL18: =EXP($CL$6+($CL$7-$CL$6)*((LN($CL$1-A18))-$CL$9)/($CL$10-$CL$9)) -> 20765641 | CM18: =EXP($CM$6+($CM$7-$CM$6)*((LN($CM$1-A18))-$CM$9)/($CM$10-$CM$9)) -> 19121316 | CN18: =EXP($CN$6+($CN$7-$CN$6)*((LN($CN$1-A18))-$CN$9)/($CN$10-$CN$9)) -> 17761883 | CO18: =EXP($CO$6+($CO$7-$CO$6)*((LN($CO$1-A18))-$CO$9)/($CO$10-$CO$9)) -> 10468260 | CP18: =EXP($CP$6+($CP$7-$CP$6)*((LN($CP$1-A18))-$CP$9)/($CP$10-$CP$9)) -> 7676000 | CQ18: =EXP($CQ$6+($CQ$7-$CQ$6)*((LN($CQ$1-A18))-$CQ$9)/($CQ$10-$CQ$9)) -> 6792473.6 | CR18: =EXP($CR$6+($CR$7-$CR$6)*((LN($CR$1-A18))-$CR$9)/($CR$10-$CR$9)) -> 6174597.9 | CS18: =EXP($CS$6+($CS$7-$CS$6)*((LN($CS$1-A18))-$CS$9)/($CS$10-$CS$9)) -> 5711808.7 | CT18: =EXP($CT$6+($CT$7-$CT$6)*((LN($CT$1-A18))-$CT$9)/($CT$10-$CT$9)) -> 5347743.9 | CU18: =EXP($CU$6+($CU$7-$CU$6)*((LN($CU$1-A18))-$CU$9)/($CU$10-$CU$9)) -> 5051217.7 | CV18: =EXP($CV$6+($CV$7-$CV$6)*((LN($CV$1-A18))-$CV$9)/($CV$10-$CV$9)) -> 4803360 | CW18: =EXP($CW$6+($CW$7-$CW$6)*((LN($CW$1-A18))-$CW$9)/($CW$10-$CW$9)) -> 4591980.3 | CX18: =EXP($CX$6+($CX$7-$CX$6)*((LN($CX$1-A18))-$CX$9)/($CX$10-$CX$9)) -> 2518532.4 | CY18: =EXP($CY$6+($CY$7-$CY$6)*((LN($CY$1-A18))-$CY$9)/($CY$10-$CY$9)) -> 1772256 | CZ18: =EXP($CZ$6+($CZ$7-$CZ$6)*((LN($CZ$1-A18))-$CZ$9)/($CZ$10-$CZ$9)) -> 1185845.3 | DA18: =EXP($DA$6+($DA$7-$DA$6)*((LN($DA$1-A18))-$DA$9)/($DA$10-$DA$9)) -> 868262.91 | DB18: =EXP($DB$6+($DB$7-$DB$6)*((LN($DB$1-A18))-$DB$9)/($DB$10-$DB$9)) -> 673042.72 | DC18: =EXP($DC$6+($DC$7-$DC$6)*((LN($DC$1-A18))-$DC$9)/($DC$10-$DC$9)) -> 542657.37 | DD18: =EXP($DD$6+($DD$7-$DD$6)*((LN($DD$1-A18))-$DD$9)/($DD$10-$DD$9)) -> 450317.16 | DE18: =EXP($DE$6+($DE$7-$DE$6)*((LN($DE$1-A18))-$DE$9)/($DE$10-$DE$9)) -> 382002 | DF18: =EXP($DF$6+($DF$7-$DF$6)*((LN($DF$1-A18))-$DF$9)/($DF$10-$DF$9)) -> 329723.03
A19: 6 | CC19: 6 | CD19: =EXP($CD$6+($CD$7-$CD$6)*((LN($CD$1-A19))-$CD$9)/($CD$10-$CD$9)) -> 90927391 | CE19: =EXP($CE$6+($CE$7-$CE$6)*((LN($CE$1-A19))-$CE$9)/($CE$10-$CE$9)) -> 84935936 | CF19: =EXP($CF$6+($CF$7-$CF$6)*((LN($CF$1-A19))-$CF$9)/($CF$10-$CF$9)) -> 53874565 | CG19: =EXP($CG$6+($CG$7-$CG$6)*((LN($CG$1-A19))-$CG$9)/($CG$10-$CG$9)) -> 41454587 | CH19: =EXP($CH$6+($CH$7-$CH$6)*((LN($CH$1-A19))-$CH$9)/($CH$10-$CH$9)) -> 33854778 | CI19: =EXP($CI$6+($CI$7-$CI$6)*((LN($CI$1-A19))-$CI$9)/($CI$10-$CI$9)) -> 28921723 | CJ19: =EXP($CJ$6+($CJ$7-$CJ$6)*((LN($CJ$1-A19))-$CJ$9)/($CJ$10-$CJ$9)) -> 25437860 | CK19: =EXP($CK$6+($CK$7-$CK$6)*((LN($CK$1-A19))-$CK$9)/($CK$10-$CK$9)) -> 22826064 | CL19: =EXP($CL$6+($CL$7-$CL$6)*((LN($CL$1-A19))-$CL$9)/($CL$10-$CL$9)) -> 20783848 | CM19: =EXP($CM$6+($CM$7-$CM$6)*((LN($CM$1-A19))-$CM$9)/($CM$10-$CM$9)) -> 19136206 | CN19: =EXP($CN$6+($CN$7-$CN$6)*((LN($CN$1-A19))-$CN$9)/($CN$10-$CN$9)) -> 17774323 | CO19: =EXP($CO$6+($CO$7-$CO$6)*((LN($CO$1-A19))-$CO$9)/($CO$10-$CO$9)) -> 10472252 | CP19: =EXP($CP$6+($CP$7-$CP$6)*((LN($CP$1-A19))-$CP$9)/($CP$10-$CP$9)) -> 7676000 | CQ19: =EXP($CQ$6+($CQ$7-$CQ$6)*((LN($CQ$1-A19))-$CQ$9)/($CQ$10-$CQ$9)) -> 6793199.6 | CR19: =EXP($CR$6+($CR$7-$CR$6)*((LN($CR$1-A19))-$CR$9)/($CR$10-$CR$9)) -> 6175125.7 | CS19: =EXP($CS$6+($CS$7-$CS$6)*((LN($CS$1-A19))-$CS$9)/($CS$10-$CS$9)) -> 5712215.5 | CT19: =EXP($CT$6+($CT$7-$CT$6)*((LN($CT$1-A19))-$CT$9)/($CT$10-$CT$9)) -> 5348070.3 | CU19: =EXP($CU$6+($CU$7-$CU$6)*((LN($CU$1-A19))-$CU$9)/($CU$10-$CU$9)) -> 5051487.4 | CV19: =EXP($CV$6+($CV$7-$CV$6)*((LN($CV$1-A19))-$CV$9)/($CV$10-$CV$9)) -> 4803588 | CW19: =EXP($CW$6+($CW$7-$CW$6)*((LN($CW$1-A19))-$CW$9)/($CW$10-$CW$9)) -> 4592176.5 | CX19: =EXP($CX$6+($CX$7-$CX$6)*((LN($CX$1-A19))-$CX$9)/($CX$10-$CX$9)) -> 2518641.5 | CY19: =EXP($CY$6+($CY$7-$CY$6)*((LN($CY$1-A19))-$CY$9)/($CY$10-$CY$9)) -> 1772307.2 | CZ19: =EXP($CZ$6+($CZ$7-$CZ$6)*((LN($CZ$1-A19))-$CZ$9)/($CZ$10-$CZ$9)) -> 1185886.8 | DA19: =EXP($DA$6+($DA$7-$DA$6)*((LN($DA$1-A19))-$DA$9)/($DA$10-$DA$9)) -> 868287.17 | DB19: =EXP($DB$6+($DB$7-$DB$6)*((LN($DB$1-A19))-$DB$9)/($DB$10-$DB$9)) -> 673058.39 | DC19: =EXP($DC$6+($DC$7-$DC$6)*((LN($DC$1-A19))-$DC$9)/($DC$10-$DC$9)) -> 542668.2 | DD19: =EXP($DD$6+($DD$7-$DD$6)*((LN($DD$1-A19))-$DD$9)/($DD$10-$DD$9)) -> 450325.02 | DE19: =EXP($DE$6+($DE$7-$DE$6)*((LN($DE$1-A19))-$DE$9)/($DE$10-$DE$9)) -> 382007.93 | DF19: =EXP($DF$6+($DF$7-$DF$6)*((LN($DF$1-A19))-$DF$9)/($DF$10-$DF$9)) -> 329727.63
A20: 7 | CC20: 7 | CD20: =EXP($CD$6+($CD$7-$CD$6)*((LN($CD$1-A20))-$CD$9)/($CD$10-$CD$9)) -> 91589726 | CE20: =EXP($CE$6+($CE$7-$CE$6)*((LN($CE$1-A20))-$CE$9)/($CE$10-$CE$9)) -> 85488242 | CF20: =EXP($CF$6+($CF$7-$CF$6)*((LN($CF$1-A20))-$CF$9)/($CF$10-$CF$9)) -> 54050361 | CG20: =EXP($CG$6+($CG$7-$CG$6)*((LN($CG$1-A20))-$CG$9)/($CG$10-$CG$9)) -> 41543718 | CH20: =EXP($CH$6+($CH$7-$CH$6)*((LN($CH$1-A20))-$CH$9)/($CH$10-$CH$9)) -> 33914735 | CI20: =EXP($CI$6+($CI$7-$CI$6)*((LN($CI$1-A20))-$CI$9)/($CI$10-$CI$9)) -> 28962558 | CJ20: =EXP($CJ$6+($CJ$7-$CJ$6)*((LN($CJ$1-A20))-$CJ$9)/($CJ$10-$CJ$9)) -> 25467721 | CK20: =EXP($CK$6+($CK$7-$CK$6)*((LN($CK$1-A20))-$CK$9)/($CK$10-$CK$9)) -> 22848993 | CL20: =EXP($CL$6+($CL$7-$CL$6)*((LN($CL$1-A20))-$CL$9)/($CL$10-$CL$9)) -> 20802093 | CM20: =EXP($CM$6+($CM$7-$CM$6)*((LN($CM$1-A20))-$CM$9)/($CM$10-$CM$9)) -> 19151124 | CN20: =EXP($CN$6+($CN$7-$CN$6)*((LN($CN$1-A20))-$CN$9)/($CN$10-$CN$9)) -> 17786784 | CO20: =EXP($CO$6+($CO$7-$CO$6)*((LN($CO$1-A20))-$CO$9)/($CO$10-$CO$9)) -> 10476248 | CP20: =EXP($CP$6+($CP$7-$CP$6)*((LN($CP$1-A20))-$CP$9)/($CP$10-$CP$9)) -> 7676000 | CQ20: =EXP($CQ$6+($CQ$7-$CQ$6)*((LN($CQ$1-A20))-$CQ$9)/($CQ$10-$CQ$9)) -> 6793925.9 | CR20: =EXP($CR$6+($CR$7-$CR$6)*((LN($CR$1-A20))-$CR$9)/($CR$10-$CR$9)) -> 6175653.7 | CS20: =EXP($CS$6+($CS$7-$CS$6)*((LN($CS$1-A20))-$CS$9)/($CS$10-$CS$9)) -> 5712622.4 | CT20: =EXP($CT$6+($CT$7-$CT$6)*((LN($CT$1-A20))-$CT$9)/($CT$10-$CT$9)) -> 5348396.8 | CU20: =EXP($CU$6+($CU$7-$CU$6)*((LN($CU$1-A20))-$CU$9)/($CU$10-$CU$9)) -> 5051757.2 | CV20: =EXP($CV$6+($CV$7-$CV$6)*((LN($CV$1-A20))-$CV$9)/($CV$10-$CV$9)) -> 4803816 | CW20: =EXP($CW$6+($CW$7-$CW$6)*((LN($CW$1-A20))-$CW$9)/($CW$10-$CW$9)) -> 4592372.7 | CX20: =EXP($CX$6+($CX$7-$CX$6)*((LN($CX$1-A20))-$CX$9)/($CX$10-$CX$9)) -> 2518750.7 | CY20: =EXP($CY$6+($CY$7-$CY$6)*((LN($CY$1-A20))-$CY$9)/($CY$10-$CY$9)) -> 1772358.4 | CZ20: =EXP($CZ$6+($CZ$7-$CZ$6)*((LN($CZ$1-A20))-$CZ$9)/($CZ$10-$CZ$9)) -> 1185928.2 | DA20: =EXP($DA$6+($DA$7-$DA$6)*((LN($DA$1-A20))-$DA$9)/($DA$10-$DA$9)) -> 868311.43 | DB20: =EXP($DB$6+($DB$7-$DB$6)*((LN($DB$1-A20))-$DB$9)/($DB$10-$DB$9)) -> 673074.06 | DC20: =EXP($DC$6+($DC$7-$DC$6)*((LN($DC$1-A20))-$DC$9)/($DC$10-$DC$9)) -> 542679.03 | DD20: =EXP($DD$6+($DD$7-$DD$6)*((LN($DD$1-A20))-$DD$9)/($DD$10-$DD$9)) -> 450332.88 | DE20: =EXP($DE$6+($DE$7-$DE$6)*((LN($DE$1-A20))-$DE$9)/($DE$10-$DE$9)) -> 382013.86 | DF20: =EXP($DF$6+($DF$7-$DF$6)*((LN($DF$1-A20))-$DF$9)/($DF$10-$DF$9)) -> 329732.24
A21: 8 | CC21: 8 | CD21: =EXP($CD$6+($CD$7-$CD$6)*((LN($CD$1-A21))-$CD$9)/($CD$10-$CD$9)) -> 92265003 | CE21: =EXP($CE$6+($CE$7-$CE$6)*((LN($CE$1-A21))-$CE$9)/($CE$10-$CE$9)) -> 86050169 | CF21: =EXP($CF$6+($CF$7-$CF$6)*((LN($CF$1-A21))-$CF$9)/($CF$10-$CF$9)) -> 54227649 | CG21: =EXP($CG$6+($CG$7-$CG$6)*((LN($CG$1-A21))-$CG$9)/($CG$10-$CG$9)) -> 41633347 | CH21: =EXP($CH$6+($CH$7-$CH$6)*((LN($CH$1-A21))-$CH$9)/($CH$10-$CH$9)) -> 33974952 | CI21: =EXP($CI$6+($CI$7-$CI$6)*((LN($CI$1-A21))-$CI$9)/($CI$10-$CI$9)) -> 29003533 | CJ21: =EXP($CJ$6+($CJ$7-$CJ$6)*((LN($CJ$1-A21))-$CJ$9)/($CJ$10-$CJ$9)) -> 25497667 | CK21: =EXP($CK$6+($CK$7-$CK$6)*((LN($CK$1-A21))-$CK$9)/($CK$10-$CK$9)) -> 22871978 | CL21: =EXP($CL$6+($CL$7-$CL$6)*((LN($CL$1-A21))-$CL$9)/($CL$10-$CL$9)) -> 20820378 | CM21: =EXP($CM$6+($CM$7-$CM$6)*((LN($CM$1-A21))-$CM$9)/($CM$10-$CM$9)) -> 19166070 | CN21: =EXP($CN$6+($CN$7-$CN$6)*((LN($CN$1-A21))-$CN$9)/($CN$10-$CN$9)) -> 17799267 | CO21: =EXP($CO$6+($CO$7-$CO$6)*((LN($CO$1-A21))-$CO$9)/($CO$10-$CO$9)) -> 10480247 | CP21: =EXP($CP$6+($CP$7-$CP$6)*((LN($CP$1-A21))-$CP$9)/($CP$10-$CP$9)) -> 7676000 | CQ21: =EXP($CQ$6+($CQ$7-$CQ$6)*((LN($CQ$1-A21))-$CQ$9)/($CQ$10-$CQ$9)) -> 6794652.4 | CR21: =EXP($CR$6+($CR$7-$CR$6)*((LN($CR$1-A21))-$CR$9)/($CR$10-$CR$9)) -> 6176181.8 | CS21: =EXP($CS$6+($CS$7-$CS$6)*((LN($CS$1-A21))-$CS$9)/($CS$10-$CS$9)) -> 5713029.4 | CT21: =EXP($CT$6+($CT$7-$CT$6)*((LN($CT$1-A21))-$CT$9)/($CT$10-$CT$9)) -> 5348723.4 | CU21: =EXP($CU$6+($CU$7-$CU$6)*((LN($CU$1-A21))-$CU$9)/($CU$10-$CU$9)) -> 5052027.1 | CV21: =EXP($CV$6+($CV$7-$CV$6)*((LN($CV$1-A21))-$CV$9)/($CV$10-$CV$9)) -> 4804044.1 | CW21: =EXP($CW$6+($CW$7-$CW$6)*((LN($CW$1-A21))-$CW$9)/($CW$10-$CW$9)) -> 4592568.9 | CX21: =EXP($CX$6+($CX$7-$CX$6)*((LN($CX$1-A21))-$CX$9)/($CX$10-$CX$9)) -> 2518859.8 | CY21: =EXP($CY$6+($CY$7-$CY$6)*((LN($CY$1-A21))-$CY$9)/($CY$10-$CY$9)) -> 1772409.6 | CZ21: =EXP($CZ$6+($CZ$7-$CZ$6)*((LN($CZ$1-A21))-$CZ$9)/($CZ$10-$CZ$9)) -> 1185969.6 | DA21: =EXP($DA$6+($DA$7-$DA$6)*((LN($DA$1-A21))-$DA$9)/($DA$10-$DA$9)) -> 868335.69 | DB21: =EXP($DB$6+($DB$7-$DB$6)*((LN($DB$1-A21))-$DB$9)/($DB$10-$DB$9)) -> 673089.73 | DC21: =EXP($DC$6+($DC$7-$DC$6)*((LN($DC$1-A21))-$DC$9)/($DC$10-$DC$9)) -> 542689.86 | DD21: =EXP($DD$6+($DD$7-$DD$6)*((LN($DD$1-A21))-$DD$9)/($DD$10-$DD$9)) -> 450340.75 | DE21: =EXP($DE$6+($DE$7-$DE$6)*((LN($DE$1-A21))-$DE$9)/($DE$10-$DE$9)) -> 382019.79 | DF21: =EXP($DF$6+($DF$7-$DF$6)*((LN($DF$1-A21))-$DF$9)/($DF$10-$DF$9)) -> 329736.84
A22: 9 | CC22: 9 | CD22: =EXP($CD$6+($CD$7-$CD$6)*((LN($CD$1-A22))-$CD$9)/($CD$10-$CD$9)) -> 92953636 | CE22: =EXP($CE$6+($CE$7-$CE$6)*((LN($CE$1-A22))-$CE$9)/($CE$10-$CE$9)) -> 86621992 | CF22: =EXP($CF$6+($CF$7-$CF$6)*((LN($CF$1-A22))-$CF$9)/($CF$10-$CF$9)) -> 54406448 | CG22: =EXP($CG$6+($CG$7-$CG$6)*((LN($CG$1-A22))-$CG$9)/($CG$10-$CG$9)) -> 41723477 | CH22: =EXP($CH$6+($CH$7-$CH$6)*((LN($CH$1-A22))-$CH$9)/($CH$10-$CH$9)) -> 34035430 | CI22: =EXP($CI$6+($CI$7-$CI$6)*((LN($CI$1-A22))-$CI$9)/($CI$10-$CI$9)) -> 29044649 | CJ22: =EXP($CJ$6+($CJ$7-$CJ$6)*((LN($CJ$1-A22))-$CJ$9)/($CJ$10-$CJ$9)) -> 25527699 | CK22: =EXP($CK$6+($CK$7-$CK$6)*((LN($CK$1-A22))-$CK$9)/($CK$10-$CK$9)) -> 22895020 | CL22: =EXP($CL$6+($CL$7-$CL$6)*((LN($CL$1-A22))-$CL$9)/($CL$10-$CL$9)) -> 20838701 | CM22: =EXP($CM$6+($CM$7-$CM$6)*((LN($CM$1-A22))-$CM$9)/($CM$10-$CM$9)) -> 19181045 | CN22: =EXP($CN$6+($CN$7-$CN$6)*((LN($CN$1-A22))-$CN$9)/($CN$10-$CN$9)) -> 17811770 | CO22: =EXP($CO$6+($CO$7-$CO$6)*((LN($CO$1-A22))-$CO$9)/($CO$10-$CO$9)) -> 10484250 | CP22: =EXP($CP$6+($CP$7-$CP$6)*((LN($CP$1-A22))-$CP$9)/($CP$10-$CP$9)) -> 7676000 | CQ22: =EXP($CQ$6+($CQ$7-$CQ$6)*((LN($CQ$1-A22))-$CQ$9)/($CQ$10-$CQ$9)) -> 6795379.2 | CR22: =EXP($CR$6+($CR$7-$CR$6)*((LN($CR$1-A22))-$CR$9)/($CR$10-$CR$9)) -> 6176710.1 | CS22: =EXP($CS$6+($CS$7-$CS$6)*((LN($CS$1-A22))-$CS$9)/($CS$10-$CS$9)) -> 5713436.5 | CT22: =EXP($CT$6+($CT$7-$CT$6)*((LN($CT$1-A22))-$CT$9)/($CT$10-$CT$9)) -> 5349050 | CU22: =EXP($CU$6+($CU$7-$CU$6)*((LN($CU$1-A22))-$CU$9)/($CU$10-$CU$9)) -> 5052297 | CV22: =EXP($CV$6+($CV$7-$CV$6)*((LN($CV$1-A22))-$CV$9)/($CV$10-$CV$9)) -> 4804272.2 | CW22: =EXP($CW$6+($CW$7-$CW$6)*((LN($CW$1-A22))-$CW$9)/($CW$10-$CW$9)) -> 4592765.1 | CX22: =EXP($CX$6+($CX$7-$CX$6)*((LN($CX$1-A22))-$CX$9)/($CX$10-$CX$9)) -> 2518969 | CY22: =EXP($CY$6+($CY$7-$CY$6)*((LN($CY$1-A22))-$CY$9)/($CY$10-$CY$9)) -> 1772460.8 | CZ22: =EXP($CZ$6+($CZ$7-$CZ$6)*((LN($CZ$1-A22))-$CZ$9)/($CZ$10-$CZ$9)) -> 1186011 | DA22: =EXP($DA$6+($DA$7-$DA$6)*((LN($DA$1-A22))-$DA$9)/($DA$10-$DA$9)) -> 868359.95 | DB22: =EXP($DB$6+($DB$7-$DB$6)*((LN($DB$1-A22))-$DB$9)/($DB$10-$DB$9)) -> 673105.4 | DC22: =EXP($DC$6+($DC$7-$DC$6)*((LN($DC$1-A22))-$DC$9)/($DC$10-$DC$9)) -> 542700.69 | DD22: =EXP($DD$6+($DD$7-$DD$6)*((LN($DD$1-A22))-$DD$9)/($DD$10-$DD$9)) -> 450348.61 | DE22: =EXP($DE$6+($DE$7-$DE$6)*((LN($DE$1-A22))-$DE$9)/($DE$10-$DE$9)) -> 382025.72 | DF22: =EXP($DF$6+($DF$7-$DF$6)*((LN($DF$1-A22))-$DF$9)/($DF$10-$DF$9)) -> 329741.45
A23: 10 | CC23: 10 | CD23: =EXP($CD$6+($CD$7-$CD$6)*((LN($CD$1-A23))-$CD$9)/($CD$10-$CD$9)) -> 93656061 | CE23: =EXP($CE$6+($CE$7-$CE$6)*((LN($CE$1-A23))-$CE$9)/($CE$10-$CE$9)) -> 87203996 | CF23: =EXP($CF$6+($CF$7-$CF$6)*((LN($CF$1-A23))-$CF$9)/($CF$10-$CF$9)) -> 54586780 | CG23: =EXP($CG$6+($CG$7-$CG$6)*((LN($CG$1-A23))-$CG$9)/($CG$10-$CG$9)) -> 41814114 | CH23: =EXP($CH$6+($CH$7-$CH$6)*((LN($CH$1-A23))-$CH$9)/($CH$10-$CH$9)) -> 34096170 | CI23: =EXP($CI$6+($CI$7-$CI$6)*((LN($CI$1-A23))-$CI$9)/($CI$10-$CI$9)) -> 29085908 | CJ23: =EXP($CJ$6+($CJ$7-$CJ$6)*((LN($CJ$1-A23))-$CJ$9)/($CJ$10-$CJ$9)) -> 25557817 | CK23: =EXP($CK$6+($CK$7-$CK$6)*((LN($CK$1-A23))-$CK$9)/($CK$10-$CK$9)) -> 22918118 | CL23: =EXP($CL$6+($CL$7-$CL$6)*((LN($CL$1-A23))-$CL$9)/($CL$10-$CL$9)) -> 20857064 | CM23: =EXP($CM$6+($CM$7-$CM$6)*((LN($CM$1-A23))-$CM$9)/($CM$10-$CM$9)) -> 19196049 | CN23: =EXP($CN$6+($CN$7-$CN$6)*((LN($CN$1-A23))-$CN$9)/($CN$10-$CN$9)) -> 17824296 | CO23: =EXP($CO$6+($CO$7-$CO$6)*((LN($CO$1-A23))-$CO$9)/($CO$10-$CO$9)) -> 10488256 | CP23: =EXP($CP$6+($CP$7-$CP$6)*((LN($CP$1-A23))-$CP$9)/($CP$10-$CP$9)) -> 7676000 | CQ23: =EXP($CQ$6+($CQ$7-$CQ$6)*((LN($CQ$1-A23))-$CQ$9)/($CQ$10-$CQ$9)) -> 6796106.2 | CR23: =EXP($CR$6+($CR$7-$CR$6)*((LN($CR$1-A23))-$CR$9)/($CR$10-$CR$9)) -> 6177238.5 | CS23: =EXP($CS$6+($CS$7-$CS$6)*((LN($CS$1-A23))-$CS$9)/($CS$10-$CS$9)) -> 5713843.7 | CT23: =EXP($CT$6+($CT$7-$CT$6)*((LN($CT$1-A23))-$CT$9)/($CT$10-$CT$9)) -> 5349376.7 | CU23: =EXP($CU$6+($CU$7-$CU$6)*((LN($CU$1-A23))-$CU$9)/($CU$10-$CU$9)) -> 5052566.9 | CV23: =EXP($CV$6+($CV$7-$CV$6)*((LN($CV$1-A23))-$CV$9)/($CV$10-$CV$9)) -> 4804500.4 | CW23: =EXP($CW$6+($CW$7-$CW$6)*((LN($CW$1-A23))-$CW$9)/($CW$10-$CW$9)) -> 4592961.4 | CX23: =EXP($CX$6+($CX$7-$CX$6)*((LN($CX$1-A23))-$CX$9)/($CX$10-$CX$9)) -> 2519078.2 | CY23: =EXP($CY$6+($CY$7-$CY$6)*((LN($CY$1-A23))-$CY$9)/($CY$10-$CY$9)) -> 1772512 | CZ23: =EXP($CZ$6+($CZ$7-$CZ$6)*((LN($CZ$1-A23))-$CZ$9)/($CZ$10-$CZ$9)) -> 1186052.4 | DA23: =EXP($DA$6+($DA$7-$DA$6)*((LN($DA$1-A23))-$DA$9)/($DA$10-$DA$9)) -> 868384.22 | DB23: =EXP($DB$6+($DB$7-$DB$6)*((LN($DB$1-A23))-$DB$9)/($DB$10-$DB$9)) -> 673121.08 | DC23: =EXP($DC$6+($DC$7-$DC$6)*((LN($DC$1-A23))-$DC$9)/($DC$10-$DC$9)) -> 542711.52 | DD23: =EXP($DD$6+($DD$7-$DD$6)*((LN($DD$1-A23))-$DD$9)/($DD$10-$DD$9)) -> 450356.48 | DE23: =EXP($DE$6+($DE$7-$DE$6)*((LN($DE$1-A23))-$DE$9)/($DE$10-$DE$9)) -> 382031.65 | DF23: =EXP($DF$6+($DF$7-$DF$6)*((LN($DF$1-A23))-$DF$9)/($DF$10-$DF$9)) -> 329746.06
A24: 11 | CC24: 11 | CD24: =EXP($CD$6+($CD$7-$CD$6)*((LN($CD$1-A24))-$CD$9)/($CD$10-$CD$9)) -> 94372729 | CE24: =EXP($CE$6+($CE$7-$CE$6)*((LN($CE$1-A24))-$CE$9)/($CE$10-$CE$9)) -> 87796480 | CF24: =EXP($CF$6+($CF$7-$CF$6)*((LN($CF$1-A24))-$CF$9)/($CF$10-$CF$9)) -> 54768667 | CG24: =EXP($CG$6+($CG$7-$CG$6)*((LN($CG$1-A24))-$CG$9)/($CG$10-$CG$9)) -> 41905262 | CH24: =EXP($CH$6+($CH$7-$CH$6)*((LN($CH$1-A24))-$CH$9)/($CH$10-$CH$9)) -> 34157176 | CI24: =EXP($CI$6+($CI$7-$CI$6)*((LN($CI$1-A24))-$CI$9)/($CI$10-$CI$9)) -> 29127310 | CJ24: =EXP($CJ$6+($CJ$7-$CJ$6)*((LN($CJ$1-A24))-$CJ$9)/($CJ$10-$CJ$9)) -> 25588022 | CK24: =EXP($CK$6+($CK$7-$CK$6)*((LN($CK$1-A24))-$CK$9)/($CK$10-$CK$9)) -> 22941273 | CL24: =EXP($CL$6+($CL$7-$CL$6)*((LN($CL$1-A24))-$CL$9)/($CL$10-$CL$9)) -> 20875466 | CM24: =EXP($CM$6+($CM$7-$CM$6)*((LN($CM$1-A24))-$CM$9)/($CM$10-$CM$9)) -> 19211081 | CN24: =EXP($CN$6+($CN$7-$CN$6)*((LN($CN$1-A24))-$CN$9)/($CN$10-$CN$9)) -> 17836843 | CO24: =EXP($CO$6+($CO$7-$CO$6)*((LN($CO$1-A24))-$CO$9)/($CO$10-$CO$9)) -> 10492266 | CP24: =EXP($CP$6+($CP$7-$CP$6)*((LN($CP$1-A24))-$CP$9)/($CP$10-$CP$9)) -> 7676000 | CQ24: =EXP($CQ$6+($CQ$7-$CQ$6)*((LN($CQ$1-A24))-$CQ$9)/($CQ$10-$CQ$9)) -> 6796833.5 | CR24: =EXP($CR$6+($CR$7-$CR$6)*((LN($CR$1-A24))-$CR$9)/($CR$10-$CR$9)) -> 6177767.1 | CS24: =EXP($CS$6+($CS$7-$CS$6)*((LN($CS$1-A24))-$CS$9)/($CS$10-$CS$9)) -> 5714250.9 | CT24: =EXP($CT$6+($CT$7-$CT$6)*((LN($CT$1-A24))-$CT$9)/($CT$10-$CT$9)) -> 5349703.4 | CU24: =EXP($CU$6+($CU$7-$CU$6)*((LN($CU$1-A24))-$CU$9)/($CU$10-$CU$9)) -> 5052836.9 | CV24: =EXP($CV$6+($CV$7-$CV$6)*((LN($CV$1-A24))-$CV$9)/($CV$10-$CV$9)) -> 4804728.5 | CW24: =EXP($CW$6+($CW$7-$CW$6)*((LN($CW$1-A24))-$CW$9)/($CW$10-$CW$9)) -> 4593157.7 | CX24: =EXP($CX$6+($CX$7-$CX$6)*((LN($CX$1-A24))-$CX$9)/($CX$10-$CX$9)) -> 2519187.4 | CY24: =EXP($CY$6+($CY$7-$CY$6)*((LN($CY$1-A24))-$CY$9)/($CY$10-$CY$9)) -> 1772563.2 | CZ24: =EXP($CZ$6+($CZ$7-$CZ$6)*((LN($CZ$1-A24))-$CZ$9)/($CZ$10-$CZ$9)) -> 1186093.9 | DA24: =EXP($DA$6+($DA$7-$DA$6)*((LN($DA$1-A24))-$DA$9)/($DA$10-$DA$9)) -> 868408.48 | DB24: =EXP($DB$6+($DB$7-$DB$6)*((LN($DB$1-A24))-$DB$9)/($DB$10-$DB$9)) -> 673136.75 | DC24: =EXP($DC$6+($DC$7-$DC$6)*((LN($DC$1-A24))-$DC$9)/($DC$10-$DC$9)) -> 542722.35 | DD24: =EXP($DD$6+($DD$7-$DD$6)*((LN($DD$1-A24))-$DD$9)/($DD$10-$DD$9)) -> 450364.34 | DE24: =EXP($DE$6+($DE$7-$DE$6)*((LN($DE$1-A24))-$DE$9)/($DE$10-$DE$9)) -> 382037.58 | DF24: =EXP($DF$6+($DF$7-$DF$6)*((LN($DF$1-A24))-$DF$9)/($DF$10-$DF$9)) -> 329750.66
A25: 12 | CC25: 12 | CD25: =EXP($CD$6+($CD$7-$CD$6)*((LN($CD$1-A25))-$CD$9)/($CD$10-$CD$9)) -> 95104117 | CE25: =EXP($CE$6+($CE$7-$CE$6)*((LN($CE$1-A25))-$CE$9)/($CE$10-$CE$9)) -> 88399753 | CF25: =EXP($CF$6+($CF$7-$CF$6)*((LN($CF$1-A25))-$CF$9)/($CF$10-$CF$9)) -> 54952129 | CG25: =EXP($CG$6+($CG$7-$CG$6)*((LN($CG$1-A25))-$CG$9)/($CG$10-$CG$9)) -> 41996925 | CH25: =EXP($CH$6+($CH$7-$CH$6)*((LN($CH$1-A25))-$CH$9)/($CH$10-$CH$9)) -> 34218448 | CI25: =EXP($CI$6+($CI$7-$CI$6)*((LN($CI$1-A25))-$CI$9)/($CI$10-$CI$9)) -> 29168856 | CJ25: =EXP($CJ$6+($CJ$7-$CJ$6)*((LN($CJ$1-A25))-$CJ$9)/($CJ$10-$CJ$9)) -> 25618314 | CK25: =EXP($CK$6+($CK$7-$CK$6)*((LN($CK$1-A25))-$CK$9)/($CK$10-$CK$9)) -> 22964485 | CL25: =EXP($CL$6+($CL$7-$CL$6)*((LN($CL$1-A25))-$CL$9)/($CL$10-$CL$9)) -> 20893908 | CM25: =EXP($CM$6+($CM$7-$CM$6)*((LN($CM$1-A25))-$CM$9)/($CM$10-$CM$9)) -> 19226142 | CN25: =EXP($CN$6+($CN$7-$CN$6)*((LN($CN$1-A25))-$CN$9)/($CN$10-$CN$9)) -> 17849411 | CO25: =EXP($CO$6+($CO$7-$CO$6)*((LN($CO$1-A25))-$CO$9)/($CO$10-$CO$9)) -> 10496279 | CP25: =EXP($CP$6+($CP$7-$CP$6)*((LN($CP$1-A25))-$CP$9)/($CP$10-$CP$9)) -> 7676000 | CQ25: =EXP($CQ$6+($CQ$7-$CQ$6)*((LN($CQ$1-A25))-$CQ$9)/($CQ$10-$CQ$9)) -> 6797561.1 | CR25: =EXP($CR$6+($CR$7-$CR$6)*((LN($CR$1-A25))-$CR$9)/($CR$10-$CR$9)) -> 6178295.8 | CS25: =EXP($CS$6+($CS$7-$CS$6)*((LN($CS$1-A25))-$CS$9)/($CS$10-$CS$9)) -> 5714658.3 | CT25: =EXP($CT$6+($CT$7-$CT$6)*((LN($CT$1-A25))-$CT$9)/($CT$10-$CT$9)) -> 5350030.2 | CU25: =EXP($CU$6+($CU$7-$CU$6)*((LN($CU$1-A25))-$CU$9)/($CU$10-$CU$9)) -> 5053106.9 | CV25: =EXP($CV$6+($CV$7-$CV$6)*((LN($CV$1-A25))-$CV$9)/($CV$10-$CV$9)) -> 4804956.7 | CW25: =EXP($CW$6+($CW$7-$CW$6)*((LN($CW$1-A25))-$CW$9)/($CW$10-$CW$9)) -> 4593354 | CX25: =EXP($CX$6+($CX$7-$CX$6)*((LN($CX$1-A25))-$CX$9)/($CX$10-$CX$9)) -> 2519296.6 | CY25: =EXP($CY$6+($CY$7-$CY$6)*((LN($CY$1-A25))-$CY$9)/($CY$10-$CY$9)) -> 1772614.4 | CZ25: =EXP($CZ$6+($CZ$7-$CZ$6)*((LN($CZ$1-A25))-$CZ$9)/($CZ$10-$CZ$9)) -> 1186135.3 | DA25: =EXP($DA$6+($DA$7-$DA$6)*((LN($DA$1-A25))-$DA$9)/($DA$10-$DA$9)) -> 868432.75 | DB25: =EXP($DB$6+($DB$7-$DB$6)*((LN($DB$1-A25))-$DB$9)/($DB$10-$DB$9)) -> 673152.42 | DC25: =EXP($DC$6+($DC$7-$DC$6)*((LN($DC$1-A25))-$DC$9)/($DC$10-$DC$9)) -> 542733.18 | DD25: =EXP($DD$6+($DD$7-$DD$6)*((LN($DD$1-A25))-$DD$9)/($DD$10-$DD$9)) -> 450372.2 | DE25: =EXP($DE$6+($DE$7-$DE$6)*((LN($DE$1-A25))-$DE$9)/($DE$10-$DE$9)) -> 382043.51 | DF25: =EXP($DF$6+($DF$7-$DF$6)*((LN($DF$1-A25))-$DF$9)/($DF$10-$DF$9)) -> 329755.27
... A73: 60 | CC73: 60 | CD73: =EXP($CD$6+($CD$7-$CD$6)*((LN($CD$1-A73))-$CD$9)/($CD$10-$CD$9)) -> 1.697e+08 | CE73: =EXP($CE$6+($CE$7-$CE$6)*((LN($CE$1-A73))-$CE$9)/($CE$10-$CE$9)) -> 1.4254972e+08 | CF73: =EXP($CF$6+($CF$7-$CF$6)*((LN($CF$1-A73))-$CF$9)/($CF$10-$CF$9)) -> 66174571 | CG73: =EXP($CG$6+($CG$7-$CG$6)*((LN($CG$1-A73))-$CG$9)/($CG$10-$CG$9)) -> 47111969 | CH73: =EXP($CH$6+($CH$7-$CH$6)*((LN($CH$1-A73))-$CH$9)/($CH$10-$CH$9)) -> 37514033 | CI73: =EXP($CI$6+($CI$7-$CI$6)*((LN($CI$1-A73))-$CI$9)/($CI$10-$CI$9)) -> 31349382 | CJ73: =EXP($CJ$6+($CJ$7-$CJ$6)*((LN($CJ$1-A73))-$CJ$9)/($CJ$10-$CJ$9)) -> 27183248 | CK73: =EXP($CK$6+($CK$7-$CK$6)*((LN($CK$1-A73))-$CK$9)/($CK$10-$CK$9)) -> 24150477 | CL73: =EXP($CL$6+($CL$7-$CL$6)*((LN($CL$1-A73))-$CL$9)/($CL$10-$CL$9)) -> 21828516 | CM73: =EXP($CM$6+($CM$7-$CM$6)*((LN($CM$1-A73))-$CM$9)/($CM$10-$CM$9)) -> 19984619 | CN73: =EXP($CN$6+($CN$7-$CN$6)*((LN($CN$1-A73))-$CN$9)/($CN$10-$CN$9)) -> 18479224 | CO73: =EXP($CO$6+($CO$7-$CO$6)*((LN($CO$1-A73))-$CO$9)/($CO$10-$CO$9)) -> 10693196 | CP73: =EXP($CP$6+($CP$7-$CP$6)*((LN($CP$1-A73))-$CP$9)/($CP$10-$CP$9)) -> 7676000 | CQ73: =EXP($CQ$6+($CQ$7-$CQ$6)*((LN($CQ$1-A73))-$CQ$9)/($CQ$10-$CQ$9)) -> 6832793 | CR73: =EXP($CR$6+($CR$7-$CR$6)*((LN($CR$1-A73))-$CR$9)/($CR$10-$CR$9)) -> 6203853.7 | CS73: =EXP($CS$6+($CS$7-$CS$6)*((LN($CS$1-A73))-$CS$9)/($CS$10-$CS$9)) -> 5734327.7 | CT73: =EXP($CT$6+($CT$7-$CT$6)*((LN($CT$1-A73))-$CT$9)/($CT$10-$CT$9)) -> 5365796.4 | CU73: =EXP($CU$6+($CU$7-$CU$6)*((LN($CU$1-A73))-$CU$9)/($CU$10-$CU$9)) -> 5066125.9 | CV73: =EXP($CV$6+($CV$7-$CV$6)*((LN($CV$1-A73))-$CV$9)/($CV$10-$CV$9)) -> 4815953.7 | CW73: =EXP($CW$6+($CW$7-$CW$6)*((LN($CW$1-A73))-$CW$9)/($CW$10-$CW$9)) -> 4602810.5 | CX73: =EXP($CX$6+($CX$7-$CX$6)*((LN($CX$1-A73))-$CX$9)/($CX$10-$CX$9)) -> 2524550.9 | CY73: =EXP($CY$6+($CY$7-$CY$6)*((LN($CY$1-A73))-$CY$9)/($CY$10-$CY$9)) -> 1775076.8 | CZ73: =EXP($CZ$6+($CZ$7-$CZ$6)*((LN($CZ$1-A73))-$CZ$9)/($CZ$10-$CZ$9)) -> 1188126.9 | DA73: =EXP($DA$6+($DA$7-$DA$6)*((LN($DA$1-A73))-$DA$9)/($DA$10-$DA$9)) -> 869598.85 | DB73: =EXP($DB$6+($DB$7-$DB$6)*((LN($DB$1-A73))-$DB$9)/($DB$10-$DB$9)) -> 673905.49 | DC73: =EXP($DC$6+($DC$7-$DC$6)*((LN($DC$1-A73))-$DC$9)/($DC$10-$DC$9)) -> 543253.52 | DD73: =EXP($DD$6+($DD$7-$DD$6)*((LN($DD$1-A73))-$DD$9)/($DD$10-$DD$9)) -> 450749.97 | DE73: =EXP($DE$6+($DE$7-$DE$6)*((LN($DE$1-A73))-$DE$9)/($DE$10-$DE$9)) -> 382328.33 | DF73: =EXP($DF$6+($DF$7-$DF$6)*((LN($DF$1-A73))-$DF$9)/($DF$10-$DF$9)) -> 329976.51
A74: 61 | CC74: 61 | CD74: =AD$2 -> 1.7143139e+08 | CE74: =EXP($CE$6+($CE$7-$CE$6)*((LN($CE$1-A74))-$CE$9)/($CE$10-$CE$9)) -> 1.4475374e+08 | CF74: =EXP($CF$6+($CF$7-$CF$6)*((LN($CF$1-A74))-$CF$9)/($CF$10-$CF$9)) -> 66474279 | CG74: =EXP($CG$6+($CG$7-$CG$6)*((LN($CG$1-A74))-$CG$9)/($CG$10-$CG$9)) -> 47236134 | CH74: =EXP($CH$6+($CH$7-$CH$6)*((LN($CH$1-A74))-$CH$9)/($CH$10-$CH$9)) -> 37591049 | CI74: =EXP($CI$6+($CI$7-$CI$6)*((LN($CI$1-A74))-$CI$9)/($CI$10-$CI$9)) -> 31399087 | CJ74: =EXP($CJ$6+($CJ$7-$CJ$6)*((LN($CJ$1-A74))-$CJ$9)/($CJ$10-$CJ$9)) -> 27218354 | CK74: =EXP($CK$6+($CK$7-$CK$6)*((LN($CK$1-A74))-$CK$9)/($CK$10-$CK$9)) -> 24176786 | CL74: =EXP($CL$6+($CL$7-$CL$6)*((LN($CL$1-A74))-$CL$9)/($CL$10-$CL$9)) -> 21849079 | CM74: =EXP($CM$6+($CM$7-$CM$6)*((LN($CM$1-A74))-$CM$9)/($CM$10-$CM$9)) -> 20001201 | CN74: =EXP($CN$6+($CN$7-$CN$6)*((LN($CN$1-A74))-$CN$9)/($CN$10-$CN$9)) -> 18492924 | CO74: =EXP($CO$6+($CO$7-$CO$6)*((LN($CO$1-A74))-$CO$9)/($CO$10-$CO$9)) -> 10697390 | CP74: =EXP($CP$6+($CP$7-$CP$6)*((LN($CP$1-A74))-$CP$9)/($CP$10-$CP$9)) -> 7676000 | CQ74: =EXP($CQ$6+($CQ$7-$CQ$6)*((LN($CQ$1-A74))-$CQ$9)/($CQ$10-$CQ$9)) -> 6833533.5 | CR74: =EXP($CR$6+($CR$7-$CR$6)*((LN($CR$1-A74))-$CR$9)/($CR$10-$CR$9)) -> 6204389.9 | CS74: =EXP($CS$6+($CS$7-$CS$6)*((LN($CS$1-A74))-$CS$9)/($CS$10-$CS$9)) -> 5734739.8 | CT74: =EXP($CT$6+($CT$7-$CT$6)*((LN($CT$1-A74))-$CT$9)/($CT$10-$CT$9)) -> 5366126.5 | CU74: =EXP($CU$6+($CU$7-$CU$6)*((LN($CU$1-A74))-$CU$9)/($CU$10-$CU$9)) -> 5066398.3 | CV74: =EXP($CV$6+($CV$7-$CV$6)*((LN($CV$1-A74))-$CV$9)/($CV$10-$CV$9)) -> 4816183.7 | CW74: =EXP($CW$6+($CW$7-$CW$6)*((LN($CW$1-A74))-$CW$9)/($CW$10-$CW$9)) -> 4603008.2 | CX74: =EXP($CX$6+($CX$7-$CX$6)*((LN($CX$1-A74))-$CX$9)/($CX$10-$CX$9)) -> 2524660.6 | CY74: =EXP($CY$6+($CY$7-$CY$6)*((LN($CY$1-A74))-$CY$9)/($CY$10-$CY$9)) -> 1775128.1 | CZ74: =EXP($CZ$6+($CZ$7-$CZ$6)*((LN($CZ$1-A74))-$CZ$9)/($CZ$10-$CZ$9)) -> 1188168.4 | DA74: =EXP($DA$6+($DA$7-$DA$6)*((LN($DA$1-A74))-$DA$9)/($DA$10-$DA$9)) -> 869623.18 | DB74: =EXP($DB$6+($DB$7-$DB$6)*((LN($DB$1-A74))-$DB$9)/($DB$10-$DB$9)) -> 673921.19 | DC74: =EXP($DC$6+($DC$7-$DC$6)*((LN($DC$1-A74))-$DC$9)/($DC$10-$DC$9)) -> 543264.37 | DD74: =EXP($DD$6+($DD$7-$DD$6)*((LN($DD$1-A74))-$DD$9)/($DD$10-$DD$9)) -> 450757.85 | DE74: =EXP($DE$6+($DE$7-$DE$6)*((LN($DE$1-A74))-$DE$9)/($DE$10-$DE$9)) -> 382334.27 | DF74: =EXP($DF$6+($DF$7-$DF$6)*((LN($DF$1-A74))-$DF$9)/($DF$10-$DF$9)) -> 329981.12
A75: 62 | CC75: 62 | CD75: =AC$2 -> 1.7324215e+08 | CE75: =EXP($CE$6+($CE$7-$CE$6)*((LN($CE$1-A75))-$CE$9)/($CE$10-$CE$9)) -> 1.4705044e+08 | CF75: =EXP($CF$6+($CF$7-$CF$6)*((LN($CF$1-A75))-$CF$9)/($CF$10-$CF$9)) -> 66777523 | CG75: =EXP($CG$6+($CG$7-$CG$6)*((LN($CG$1-A75))-$CG$9)/($CG$10-$CG$9)) -> 47361148 | CH75: =EXP($CH$6+($CH$7-$CH$6)*((LN($CH$1-A75))-$CH$9)/($CH$10-$CH$9)) -> 37668451 | CI75: =EXP($CI$6+($CI$7-$CI$6)*((LN($CI$1-A75))-$CI$9)/($CI$10-$CI$9)) -> 31448984 | CJ75: =EXP($CJ$6+($CJ$7-$CJ$6)*((LN($CJ$1-A75))-$CJ$9)/($CJ$10-$CJ$9)) -> 27253570 | CK75: =EXP($CK$6+($CK$7-$CK$6)*((LN($CK$1-A75))-$CK$9)/($CK$10-$CK$9)) -> 24203164 | CL75: =EXP($CL$6+($CL$7-$CL$6)*((LN($CL$1-A75))-$CL$9)/($CL$10-$CL$9)) -> 21869688 | CM75: =EXP($CM$6+($CM$7-$CM$6)*((LN($CM$1-A75))-$CM$9)/($CM$10-$CM$9)) -> 20017816 | CN75: =EXP($CN$6+($CN$7-$CN$6)*((LN($CN$1-A75))-$CN$9)/($CN$10-$CN$9)) -> 18506649 | CO75: =EXP($CO$6+($CO$7-$CO$6)*((LN($CO$1-A75))-$CO$9)/($CO$10-$CO$9)) -> 10701587 | CP75: =EXP($CP$6+($CP$7-$CP$6)*((LN($CP$1-A75))-$CP$9)/($CP$10-$CP$9)) -> 7676000 | CQ75: =EXP($CQ$6+($CQ$7-$CQ$6)*((LN($CQ$1-A75))-$CQ$9)/($CQ$10-$CQ$9)) -> 6834274.2 | CR75: =EXP($CR$6+($CR$7-$CR$6)*((LN($CR$1-A75))-$CR$9)/($CR$10-$CR$9)) -> 6204926.3 | CS75: =EXP($CS$6+($CS$7-$CS$6)*((LN($CS$1-A75))-$CS$9)/($CS$10-$CS$9)) -> 5735152.1 | CT75: =EXP($CT$6+($CT$7-$CT$6)*((LN($CT$1-A75))-$CT$9)/($CT$10-$CT$9)) -> 5366456.7 | CU75: =EXP($CU$6+($CU$7-$CU$6)*((LN($CU$1-A75))-$CU$9)/($CU$10-$CU$9)) -> 5066670.8 | CV75: =EXP($CV$6+($CV$7-$CV$6)*((LN($CV$1-A75))-$CV$9)/($CV$10-$CV$9)) -> 4816413.8 | CW75: =EXP($CW$6+($CW$7-$CW$6)*((LN($CW$1-A75))-$CW$9)/($CW$10-$CW$9)) -> 4603206 | CX75: =EXP($CX$6+($CX$7-$CX$6)*((LN($CX$1-A75))-$CX$9)/($CX$10-$CX$9)) -> 2524770.4 | CY75: =EXP($CY$6+($CY$7-$CY$6)*((LN($CY$1-A75))-$CY$9)/($CY$10-$CY$9)) -> 1775179.5 | CZ75: =EXP($CZ$6+($CZ$7-$CZ$6)*((LN($CZ$1-A75))-$CZ$9)/($CZ$10-$CZ$9)) -> 1188210 | DA75: =EXP($DA$6+($DA$7-$DA$6)*((LN($DA$1-A75))-$DA$9)/($DA$10-$DA$9)) -> 869647.5 | DB75: =EXP($DB$6+($DB$7-$DB$6)*((LN($DB$1-A75))-$DB$9)/($DB$10-$DB$9)) -> 673936.9 | DC75: =EXP($DC$6+($DC$7-$DC$6)*((LN($DC$1-A75))-$DC$9)/($DC$10-$DC$9)) -> 543275.22 | DD75: =EXP($DD$6+($DD$7-$DD$6)*((LN($DD$1-A75))-$DD$9)/($DD$10-$DD$9)) -> 450765.73 | DE75: =EXP($DE$6+($DE$7-$DE$6)*((LN($DE$1-A75))-$DE$9)/($DE$10-$DE$9)) -> 382340.21 | DF75: =EXP($DF$6+($DF$7-$DF$6)*((LN($DF$1-A75))-$DF$9)/($DF$10-$DF$9)) -> 329985.73
A76: 63 | CC76: 63 | CD76: =AB$2 -> 1.7513896e+08 | CE76: =EXP($CE$6+($CE$7-$CE$6)*((LN($CE$1-A76))-$CE$9)/($CE$10-$CE$9)) -> 1.494463e+08 | CF76: =EXP($CF$6+($CF$7-$CF$6)*((LN($CF$1-A76))-$CF$9)/($CF$10-$CF$9)) -> 67084371 | CG76: =EXP($CG$6+($CG$7-$CG$6)*((LN($CG$1-A76))-$CG$9)/($CG$10-$CG$9)) -> 47487021 | CH76: =EXP($CH$6+($CH$7-$CH$6)*((LN($CH$1-A76))-$CH$9)/($CH$10-$CH$9)) -> 37746243 | CI76: =EXP($CI$6+($CI$7-$CI$6)*((LN($CI$1-A76))-$CI$9)/($CI$10-$CI$9)) -> 31499075 | CJ76: =EXP($CJ$6+($CJ$7-$CJ$6)*((LN($CJ$1-A76))-$CJ$9)/($CJ$10-$CJ$9)) -> 27288897 | CK76: =EXP($CK$6+($CK$7-$CK$6)*((LN($CK$1-A76))-$CK$9)/($CK$10-$CK$9)) -> 24229614 | CL76: =EXP($CL$6+($CL$7-$CL$6)*((LN($CL$1-A76))-$CL$9)/($CL$10-$CL$9)) -> 21890345 | CM76: =EXP($CM$6+($CM$7-$CM$6)*((LN($CM$1-A76))-$CM$9)/($CM$10-$CM$9)) -> 20034465 | CN76: =EXP($CN$6+($CN$7-$CN$6)*((LN($CN$1-A76))-$CN$9)/($CN$10-$CN$9)) -> 18520399 | CO76: =EXP($CO$6+($CO$7-$CO$6)*((LN($CO$1-A76))-$CO$9)/($CO$10-$CO$9)) -> 10705789 | CP76: =EXP($CP$6+($CP$7-$CP$6)*((LN($CP$1-A76))-$CP$9)/($CP$10-$CP$9)) -> 7676000 | CQ76: =EXP($CQ$6+($CQ$7-$CQ$6)*((LN($CQ$1-A76))-$CQ$9)/($CQ$10-$CQ$9)) -> 6835015.3 | CR76: =EXP($CR$6+($CR$7-$CR$6)*((LN($CR$1-A76))-$CR$9)/($CR$10-$CR$9)) -> 6205462.8 | CS76: =EXP($CS$6+($CS$7-$CS$6)*((LN($CS$1-A76))-$CS$9)/($CS$10-$CS$9)) -> 5735564.5 | CT76: =EXP($CT$6+($CT$7-$CT$6)*((LN($CT$1-A76))-$CT$9)/($CT$10-$CT$9)) -> 5366787 | CU76: =EXP($CU$6+($CU$7-$CU$6)*((LN($CU$1-A76))-$CU$9)/($CU$10-$CU$9)) -> 5066943.3 | CV76: =EXP($CV$6+($CV$7-$CV$6)*((LN($CV$1-A76))-$CV$9)/($CV$10-$CV$9)) -> 4816643.8 | CW76: =EXP($CW$6+($CW$7-$CW$6)*((LN($CW$1-A76))-$CW$9)/($CW$10-$CW$9)) -> 4603403.7 | CX76: =EXP($CX$6+($CX$7-$CX$6)*((LN($CX$1-A76))-$CX$9)/($CX$10-$CX$9)) -> 2524880.1 | CY76: =EXP($CY$6+($CY$7-$CY$6)*((LN($CY$1-A76))-$CY$9)/($CY$10-$CY$9)) -> 1775230.9 | CZ76: =EXP($CZ$6+($CZ$7-$CZ$6)*((LN($CZ$1-A76))-$CZ$9)/($CZ$10-$CZ$9)) -> 1188251.5 | DA76: =EXP($DA$6+($DA$7-$DA$6)*((LN($DA$1-A76))-$DA$9)/($DA$10-$DA$9)) -> 869671.82 | DB76: =EXP($DB$6+($DB$7-$DB$6)*((LN($DB$1-A76))-$DB$9)/($DB$10-$DB$9)) -> 673952.6 | DC76: =EXP($DC$6+($DC$7-$DC$6)*((LN($DC$1-A76))-$DC$9)/($DC$10-$DC$9)) -> 543286.07 | DD76: =EXP($DD$6+($DD$7-$DD$6)*((LN($DD$1-A76))-$DD$9)/($DD$10-$DD$9)) -> 450773.6 | DE76: =EXP($DE$6+($DE$7-$DE$6)*((LN($DE$1-A76))-$DE$9)/($DE$10-$DE$9)) -> 382346.14 | DF76: =EXP($DF$6+($DF$7-$DF$6)*((LN($DF$1-A76))-$DF$9)/($DF$10-$DF$9)) -> 329990.35
A77: 64 | CC77: 64 | CD77: =AA$2 -> 1.7712933e+08 | CE77: =EXP($CE$6+($CE$7-$CE$6)*((LN($CE$1-A77))-$CE$9)/($CE$10-$CE$9)) -> 1.5194848e+08 | CF77: =EXP($CF$6+($CF$7-$CF$6)*((LN($CF$1-A77))-$CF$9)/($CF$10-$CF$9)) -> 67394893 | CG77: =EXP($CG$6+($CG$7-$CG$6)*((LN($CG$1-A77))-$CG$9)/($CG$10-$CG$9)) -> 47613763 | CH77: =EXP($CH$6+($CH$7-$CH$6)*((LN($CH$1-A77))-$CH$9)/($CH$10-$CH$9)) -> 37824428 | CI77: =EXP($CI$6+($CI$7-$CI$6)*((LN($CI$1-A77))-$CI$9)/($CI$10-$CI$9)) -> 31549360 | CJ77: =EXP($CJ$6+($CJ$7-$CJ$6)*((LN($CJ$1-A77))-$CJ$9)/($CJ$10-$CJ$9)) -> 27324336 | CK77: =EXP($CK$6+($CK$7-$CK$6)*((LN($CK$1-A77))-$CK$9)/($CK$10-$CK$9)) -> 24256133 | CL77: =EXP($CL$6+($CL$7-$CL$6)*((LN($CL$1-A77))-$CL$9)/($CL$10-$CL$9)) -> 21911050 | CM77: =EXP($CM$6+($CM$7-$CM$6)*((LN($CM$1-A77))-$CM$9)/($CM$10-$CM$9)) -> 20051148 | CN77: =EXP($CN$6+($CN$7-$CN$6)*((LN($CN$1-A77))-$CN$9)/($CN$10-$CN$9)) -> 18534174 | CO77: =EXP($CO$6+($CO$7-$CO$6)*((LN($CO$1-A77))-$CO$9)/($CO$10-$CO$9)) -> 10709994 | CP77: =EXP($CP$6+($CP$7-$CP$6)*((LN($CP$1-A77))-$CP$9)/($CP$10-$CP$9)) -> 7676000 | CQ77: =EXP($CQ$6+($CQ$7-$CQ$6)*((LN($CQ$1-A77))-$CQ$9)/($CQ$10-$CQ$9)) -> 6835756.6 | CR77: =EXP($CR$6+($CR$7-$CR$6)*((LN($CR$1-A77))-$CR$9)/($CR$10-$CR$9)) -> 6205999.5 | CS77: =EXP($CS$6+($CS$7-$CS$6)*((LN($CS$1-A77))-$CS$9)/($CS$10-$CS$9)) -> 5735977 | CT77: =EXP($CT$6+($CT$7-$CT$6)*((LN($CT$1-A77))-$CT$9)/($CT$10-$CT$9)) -> 5367117.3 | CU77: =EXP($CU$6+($CU$7-$CU$6)*((LN($CU$1-A77))-$CU$9)/($CU$10-$CU$9)) -> 5067215.9 | CV77: =EXP($CV$6+($CV$7-$CV$6)*((LN($CV$1-A77))-$CV$9)/($CV$10-$CV$9)) -> 4816873.9 | CW77: =EXP($CW$6+($CW$7-$CW$6)*((LN($CW$1-A77))-$CW$9)/($CW$10-$CW$9)) -> 4603601.5 | CX77: =EXP($CX$6+($CX$7-$CX$6)*((LN($CX$1-A77))-$CX$9)/($CX$10-$CX$9)) -> 2524989.8 | CY77: =EXP($CY$6+($CY$7-$CY$6)*((LN($CY$1-A77))-$CY$9)/($CY$10-$CY$9)) -> 1775282.3 | CZ77: =EXP($CZ$6+($CZ$7-$CZ$6)*((LN($CZ$1-A77))-$CZ$9)/($CZ$10-$CZ$9)) -> 1188293.1 | DA77: =EXP($DA$6+($DA$7-$DA$6)*((LN($DA$1-A77))-$DA$9)/($DA$10-$DA$9)) -> 869696.15 | DB77: =EXP($DB$6+($DB$7-$DB$6)*((LN($DB$1-A77))-$DB$9)/($DB$10-$DB$9)) -> 673968.31 | DC77: =EXP($DC$6+($DC$7-$DC$6)*((LN($DC$1-A77))-$DC$9)/($DC$10-$DC$9)) -> 543296.92 | DD77: =EXP($DD$6+($DD$7-$DD$6)*((LN($DD$1-A77))-$DD$9)/($DD$10-$DD$9)) -> 450781.48 | DE77: =EXP($DE$6+($DE$7-$DE$6)*((LN($DE$1-A77))-$DE$9)/($DE$10-$DE$9)) -> 382352.08 | DF77: =EXP($DF$6+($DF$7-$DF$6)*((LN($DF$1-A77))-$DF$9)/($DF$10-$DF$9)) -> 329994.96
A78: 65 | CC78: 65 | CD78: =Z$2 -> 1.7922173e+08 | CE78: =EXP($CE$6+($CE$7-$CE$6)*((LN($CE$1-A78))-$CE$9)/($CE$10-$CE$9)) -> 1.5456483e+08 | CF78: =EXP($CF$6+($CF$7-$CF$6)*((LN($CF$1-A78))-$CF$9)/($CF$10-$CF$9)) -> 67709160 | CG78: =EXP($CG$6+($CG$7-$CG$6)*((LN($CG$1-A78))-$CG$9)/($CG$10-$CG$9)) -> 47741384 | CH78: =EXP($CH$6+($CH$7-$CH$6)*((LN($CH$1-A78))-$CH$9)/($CH$10-$CH$9)) -> 37903008 | CI78: =EXP($CI$6+($CI$7-$CI$6)*((LN($CI$1-A78))-$CI$9)/($CI$10-$CI$9)) -> 31599842 | CJ78: =EXP($CJ$6+($CJ$7-$CJ$6)*((LN($CJ$1-A78))-$CJ$9)/($CJ$10-$CJ$9)) -> 27359887 | CK78: =EXP($CK$6+($CK$7-$CK$6)*((LN($CK$1-A78))-$CK$9)/($CK$10-$CK$9)) -> 24282724 | CL78: =EXP($CL$6+($CL$7-$CL$6)*((LN($CL$1-A78))-$CL$9)/($CL$10-$CL$9)) -> 21931802 | CM78: =EXP($CM$6+($CM$7-$CM$6)*((LN($CM$1-A78))-$CM$9)/($CM$10-$CM$9)) -> 20067865 | CN78: =EXP($CN$6+($CN$7-$CN$6)*((LN($CN$1-A78))-$CN$9)/($CN$10-$CN$9)) -> 18547974 | CO78: =EXP($CO$6+($CO$7-$CO$6)*((LN($CO$1-A78))-$CO$9)/($CO$10-$CO$9)) -> 10714202 | CP78: =EXP($CP$6+($CP$7-$CP$6)*((LN($CP$1-A78))-$CP$9)/($CP$10-$CP$9)) -> 7676000 | CQ78: =EXP($CQ$6+($CQ$7-$CQ$6)*((LN($CQ$1-A78))-$CQ$9)/($CQ$10-$CQ$9)) -> 6836498.2 | CR78: =EXP($CR$6+($CR$7-$CR$6)*((LN($CR$1-A78))-$CR$9)/($CR$10-$CR$9)) -> 6206536.4 | CS78: =EXP($CS$6+($CS$7-$CS$6)*((LN($CS$1-A78))-$CS$9)/($CS$10-$CS$9)) -> 5736389.6 | CT78: =EXP($CT$6+($CT$7-$CT$6)*((LN($CT$1-A78))-$CT$9)/($CT$10-$CT$9)) -> 5367447.7 | CU78: =EXP($CU$6+($CU$7-$CU$6)*((LN($CU$1-A78))-$CU$9)/($CU$10-$CU$9)) -> 5067488.5 | CV78: =EXP($CV$6+($CV$7-$CV$6)*((LN($CV$1-A78))-$CV$9)/($CV$10-$CV$9)) -> 4817104.1 | CW78: =EXP($CW$6+($CW$7-$CW$6)*((LN($CW$1-A78))-$CW$9)/($CW$10-$CW$9)) -> 4603799.3 | CX78: =EXP($CX$6+($CX$7-$CX$6)*((LN($CX$1-A78))-$CX$9)/($CX$10-$CX$9)) -> 2525099.6 | CY78: =EXP($CY$6+($CY$7-$CY$6)*((LN($CY$1-A78))-$CY$9)/($CY$10-$CY$9)) -> 1775333.7 | CZ78: =EXP($CZ$6+($CZ$7-$CZ$6)*((LN($CZ$1-A78))-$CZ$9)/($CZ$10-$CZ$9)) -> 1188334.7 | DA78: =EXP($DA$6+($DA$7-$DA$6)*((LN($DA$1-A78))-$DA$9)/($DA$10-$DA$9)) -> 869720.48 | DB78: =EXP($DB$6+($DB$7-$DB$6)*((LN($DB$1-A78))-$DB$9)/($DB$10-$DB$9)) -> 673984.02 | DC78: =EXP($DC$6+($DC$7-$DC$6)*((LN($DC$1-A78))-$DC$9)/($DC$10-$DC$9)) -> 543307.77 | DD78: =EXP($DD$6+($DD$7-$DD$6)*((LN($DD$1-A78))-$DD$9)/($DD$10-$DD$9)) -> 450789.36 | DE78: =EXP($DE$6+($DE$7-$DE$6)*((LN($DE$1-A78))-$DE$9)/($DE$10-$DE$9)) -> 382358.02 | DF78: =EXP($DF$6+($DF$7-$DF$6)*((LN($DF$1-A78))-$DF$9)/($DF$10-$DF$9)) -> 329999.57
A79: 66 | CC79: 66 | CD79: =Y$2 -> 1.8142583e+08 | CE79: =EXP($CE$6+($CE$7-$CE$6)*((LN($CE$1-A79))-$CE$9)/($CE$10-$CE$9)) -> 1.5730407e+08 | CF79: =EXP($CF$6+($CF$7-$CF$6)*((LN($CF$1-A79))-$CF$9)/($CF$10-$CF$9)) -> 68027245 | CG79: =EXP($CG$6+($CG$7-$CG$6)*((LN($CG$1-A79))-$CG$9)/($CG$10-$CG$9)) -> 47869893 | CH79: =EXP($CH$6+($CH$7-$CH$6)*((LN($CH$1-A79))-$CH$9)/($CH$10-$CH$9)) -> 37981987 | CI79: =EXP($CI$6+($CI$7-$CI$6)*((LN($CI$1-A79))-$CI$9)/($CI$10-$CI$9)) -> 31650520 | CJ79: =EXP($CJ$6+($CJ$7-$CJ$6)*((LN($CJ$1-A79))-$CJ$9)/($CJ$10-$CJ$9)) -> 27395551 | CK79: =EXP($CK$6+($CK$7-$CK$6)*((LN($CK$1-A79))-$CK$9)/($CK$10-$CK$9)) -> 24309385 | CL79: =EXP($CL$6+($CL$7-$CL$6)*((LN($CL$1-A79))-$CL$9)/($CL$10-$CL$9)) -> 21952603 | CM79: =EXP($CM$6+($CM$7-$CM$6)*((LN($CM$1-A79))-$CM$9)/($CM$10-$CM$9)) -> 20084616 | CN79: =EXP($CN$6+($CN$7-$CN$6)*((LN($CN$1-A79))-$CN$9)/($CN$10-$CN$9)) -> 18561799 | CO79: =EXP($CO$6+($CO$7-$CO$6)*((LN($CO$1-A79))-$CO$9)/($CO$10-$CO$9)) -> 10718415 | CP79: =EXP($CP$6+($CP$7-$CP$6)*((LN($CP$1-A79))-$CP$9)/($CP$10-$CP$9)) -> 7676000 | CQ79: =EXP($CQ$6+($CQ$7-$CQ$6)*((LN($CQ$1-A79))-$CQ$9)/($CQ$10-$CQ$9)) -> 6837240 | CR79: =EXP($CR$6+($CR$7-$CR$6)*((LN($CR$1-A79))-$CR$9)/($CR$10-$CR$9)) -> 6207073.4 | CS79: =EXP($CS$6+($CS$7-$CS$6)*((LN($CS$1-A79))-$CS$9)/($CS$10-$CS$9)) -> 5736802.3 | CT79: =EXP($CT$6+($CT$7-$CT$6)*((LN($CT$1-A79))-$CT$9)/($CT$10-$CT$9)) -> 5367778.1 | CU79: =EXP($CU$6+($CU$7-$CU$6)*((LN($CU$1-A79))-$CU$9)/($CU$10-$CU$9)) -> 5067761.2 | CV79: =EXP($CV$6+($CV$7-$CV$6)*((LN($CV$1-A79))-$CV$9)/($CV$10-$CV$9)) -> 4817334.3 | CW79: =EXP($CW$6+($CW$7-$CW$6)*((LN($CW$1-A79))-$CW$9)/($CW$10-$CW$9)) -> 4603997.2 | CX79: =EXP($CX$6+($CX$7-$CX$6)*((LN($CX$1-A79))-$CX$9)/($CX$10-$CX$9)) -> 2525209.4 | CY79: =EXP($CY$6+($CY$7-$CY$6)*((LN($CY$1-A79))-$CY$9)/($CY$10-$CY$9)) -> 1775385.1 | CZ79: =EXP($CZ$6+($CZ$7-$CZ$6)*((LN($CZ$1-A79))-$CZ$9)/($CZ$10-$CZ$9)) -> 1188376.2 | DA79: =EXP($DA$6+($DA$7-$DA$6)*((LN($DA$1-A79))-$DA$9)/($DA$10-$DA$9)) -> 869744.81 | DB79: =EXP($DB$6+($DB$7-$DB$6)*((LN($DB$1-A79))-$DB$9)/($DB$10-$DB$9)) -> 673999.72 | DC79: =EXP($DC$6+($DC$7-$DC$6)*((LN($DC$1-A79))-$DC$9)/($DC$10-$DC$9)) -> 543318.62 | DD79: =EXP($DD$6+($DD$7-$DD$6)*((LN($DD$1-A79))-$DD$9)/($DD$10-$DD$9)) -> 450797.23 | DE79: =EXP($DE$6+($DE$7-$DE$6)*((LN($DE$1-A79))-$DE$9)/($DE$10-$DE$9)) -> 382363.96 | DF79: =EXP($DF$6+($DF$7-$DF$6)*((LN($DF$1-A79))-$DF$9)/($DF$10-$DF$9)) -> 330004.18
A80: 67 | CC80: 67 | CD80: =X$2 -> 1.837526e+08 | CE80: =EXP($CE$6+($CE$7-$CE$6)*((LN($CE$1-A80))-$CE$9)/($CE$10-$CE$9)) -> 1.6017584e+08 | CF80: =EXP($CF$6+($CF$7-$CF$6)*((LN($CF$1-A80))-$CF$9)/($CF$10-$CF$9)) -> 68349224 | CG80: =EXP($CG$6+($CG$7-$CG$6)*((LN($CG$1-A80))-$CG$9)/($CG$10-$CG$9)) -> 47999301 | CH80: =EXP($CH$6+($CH$7-$CH$6)*((LN($CH$1-A80))-$CH$9)/($CH$10-$CH$9)) -> 38061368 | CI80: =EXP($CI$6+($CI$7-$CI$6)*((LN($CI$1-A80))-$CI$9)/($CI$10-$CI$9)) -> 31701397 | CJ80: =EXP($CJ$6+($CJ$7-$CJ$6)*((LN($CJ$1-A80))-$CJ$9)/($CJ$10-$CJ$9)) -> 27431329 | CK80: =EXP($CK$6+($CK$7-$CK$6)*((LN($CK$1-A80))-$CK$9)/($CK$10-$CK$9)) -> 24336118 | CL80: =EXP($CL$6+($CL$7-$CL$6)*((LN($CL$1-A80))-$CL$9)/($CL$10-$CL$9)) -> 21973451 | CM80: =EXP($CM$6+($CM$7-$CM$6)*((LN($CM$1-A80))-$CM$9)/($CM$10-$CM$9)) -> 20101401 | CN80: =EXP($CN$6+($CN$7-$CN$6)*((LN($CN$1-A80))-$CN$9)/($CN$10-$CN$9)) -> 18575649 | CO80: =EXP($CO$6+($CO$7-$CO$6)*((LN($CO$1-A80))-$CO$9)/($CO$10-$CO$9)) -> 10722632 | CP80: =EXP($CP$6+($CP$7-$CP$6)*((LN($CP$1-A80))-$CP$9)/($CP$10-$CP$9)) -> 7676000 | CQ80: =EXP($CQ$6+($CQ$7-$CQ$6)*((LN($CQ$1-A80))-$CQ$9)/($CQ$10-$CQ$9)) -> 6837982.1 | CR80: =EXP($CR$6+($CR$7-$CR$6)*((LN($CR$1-A80))-$CR$9)/($CR$10-$CR$9)) -> 6207610.5 | CS80: =EXP($CS$6+($CS$7-$CS$6)*((LN($CS$1-A80))-$CS$9)/($CS$10-$CS$9)) -> 5737215.1 | CT80: =EXP($CT$6+($CT$7-$CT$6)*((LN($CT$1-A80))-$CT$9)/($CT$10-$CT$9)) -> 5368108.7 | CU80: =EXP($CU$6+($CU$7-$CU$6)*((LN($CU$1-A80))-$CU$9)/($CU$10-$CU$9)) -> 5068033.9 | CV80: =EXP($CV$6+($CV$7-$CV$6)*((LN($CV$1-A80))-$CV$9)/($CV$10-$CV$9)) -> 4817564.5 | CW80: =EXP($CW$6+($CW$7-$CW$6)*((LN($CW$1-A80))-$CW$9)/($CW$10-$CW$9)) -> 4604195.1 | CX80: =EXP($CX$6+($CX$7-$CX$6)*((LN($CX$1-A80))-$CX$9)/($CX$10-$CX$9)) -> 2525319.1 | CY80: =EXP($CY$6+($CY$7-$CY$6)*((LN($CY$1-A80))-$CY$9)/($CY$10-$CY$9)) -> 1775436.5 | CZ80: =EXP($CZ$6+($CZ$7-$CZ$6)*((LN($CZ$1-A80))-$CZ$9)/($CZ$10-$CZ$9)) -> 1188417.8 | DA80: =EXP($DA$6+($DA$7-$DA$6)*((LN($DA$1-A80))-$DA$9)/($DA$10-$DA$9)) -> 869769.13 | DB80: =EXP($DB$6+($DB$7-$DB$6)*((LN($DB$1-A80))-$DB$9)/($DB$10-$DB$9)) -> 674015.43 | DC80: =EXP($DC$6+($DC$7-$DC$6)*((LN($DC$1-A80))-$DC$9)/($DC$10-$DC$9)) -> 543329.47 | DD80: =EXP($DD$6+($DD$7-$DD$6)*((LN($DD$1-A80))-$DD$9)/($DD$10-$DD$9)) -> 450805.11 | DE80: =EXP($DE$6+($DE$7-$DE$6)*((LN($DE$1-A80))-$DE$9)/($DE$10-$DE$9)) -> 382369.9 | DF80: =EXP($DF$6+($DF$7-$DF$6)*((LN($DF$1-A80))-$DF$9)/($DF$10-$DF$9)) -> 330008.79
A81: 68 | CC81: 68 | CD81: =W$2 -> 1.8621469e+08 | CE81: =EXP($CE$6+($CE$7-$CE$6)*((LN($CE$1-A81))-$CE$9)/($CE$10-$CE$9)) -> 1.6319087e+08 | CF81: =EXP($CF$6+($CF$7-$CF$6)*((LN($CF$1-A81))-$CF$9)/($CF$10-$CF$9)) -> 68675174 | CG81: =EXP($CG$6+($CG$7-$CG$6)*((LN($CG$1-A81))-$CG$9)/($CG$10-$CG$9)) -> 48129618 | CH81: =EXP($CH$6+($CH$7-$CH$6)*((LN($CH$1-A81))-$CH$9)/($CH$10-$CH$9)) -> 38141155 | CI81: =EXP($CI$6+($CI$7-$CI$6)*((LN($CI$1-A81))-$CI$9)/($CI$10-$CI$9)) -> 31752474 | CJ81: =EXP($CJ$6+($CJ$7-$CJ$6)*((LN($CJ$1-A81))-$CJ$9)/($CJ$10-$CJ$9)) -> 27467220 | CK81: =EXP($CK$6+($CK$7-$CK$6)*((LN($CK$1-A81))-$CK$9)/($CK$10-$CK$9)) -> 24362923 | CL81: =EXP($CL$6+($CL$7-$CL$6)*((LN($CL$1-A81))-$CL$9)/($CL$10-$CL$9)) -> 21994348 | CM81: =EXP($CM$6+($CM$7-$CM$6)*((LN($CM$1-A81))-$CM$9)/($CM$10-$CM$9)) -> 20118220 | CN81: =EXP($CN$6+($CN$7-$CN$6)*((LN($CN$1-A81))-$CN$9)/($CN$10-$CN$9)) -> 18589524 | CO81: =EXP($CO$6+($CO$7-$CO$6)*((LN($CO$1-A81))-$CO$9)/($CO$10-$CO$9)) -> 10726852 | CP81: =EXP($CP$6+($CP$7-$CP$6)*((LN($CP$1-A81))-$CP$9)/($CP$10-$CP$9)) -> 7676000 | CQ81: =EXP($CQ$6+($CQ$7-$CQ$6)*((LN($CQ$1-A81))-$CQ$9)/($CQ$10-$CQ$9)) -> 6838724.5 | CR81: =EXP($CR$6+($CR$7-$CR$6)*((LN($CR$1-A81))-$CR$9)/($CR$10-$CR$9)) -> 6208147.8 | CS81: =EXP($CS$6+($CS$7-$CS$6)*((LN($CS$1-A81))-$CS$9)/($CS$10-$CS$9)) -> 5737627.9 | CT81: =EXP($CT$6+($CT$7-$CT$6)*((LN($CT$1-A81))-$CT$9)/($CT$10-$CT$9)) -> 5368439.3 | CU81: =EXP($CU$6+($CU$7-$CU$6)*((LN($CU$1-A81))-$CU$9)/($CU$10-$CU$9)) -> 5068306.6 | CV81: =EXP($CV$6+($CV$7-$CV$6)*((LN($CV$1-A81))-$CV$9)/($CV$10-$CV$9)) -> 4817794.7 | CW81: =EXP($CW$6+($CW$7-$CW$6)*((LN($CW$1-A81))-$CW$9)/($CW$10-$CW$9)) -> 4604393 | CX81: =EXP($CX$6+($CX$7-$CX$6)*((LN($CX$1-A81))-$CX$9)/($CX$10-$CX$9)) -> 2525428.9 | CY81: =EXP($CY$6+($CY$7-$CY$6)*((LN($CY$1-A81))-$CY$9)/($CY$10-$CY$9)) -> 1775487.9 | CZ81: =EXP($CZ$6+($CZ$7-$CZ$6)*((LN($CZ$1-A81))-$CZ$9)/($CZ$10-$CZ$9)) -> 1188459.4 | DA81: =EXP($DA$6+($DA$7-$DA$6)*((LN($DA$1-A81))-$DA$9)/($DA$10-$DA$9)) -> 869793.47 | DB81: =EXP($DB$6+($DB$7-$DB$6)*((LN($DB$1-A81))-$DB$9)/($DB$10-$DB$9)) -> 674031.14 | DC81: =EXP($DC$6+($DC$7-$DC$6)*((LN($DC$1-A81))-$DC$9)/($DC$10-$DC$9)) -> 543340.33 | DD81: =EXP($DD$6+($DD$7-$DD$6)*((LN($DD$1-A81))-$DD$9)/($DD$10-$DD$9)) -> 450812.99 | DE81: =EXP($DE$6+($DE$7-$DE$6)*((LN($DE$1-A81))-$DE$9)/($DE$10-$DE$9)) -> 382375.84 | DF81: =EXP($DF$6+($DF$7-$DF$6)*((LN($DF$1-A81))-$DF$9)/($DF$10-$DF$9)) -> 330013.41
A82: 69 | CC82: 69 | CD82: =V$2 -> 1.8882667e+08 | CE82: =EXP($CE$6+($CE$7-$CE$6)*((LN($CE$1-A82))-$CE$9)/($CE$10-$CE$9)) -> 1.6636112e+08 | CF82: =EXP($CF$6+($CF$7-$CF$6)*((LN($CF$1-A82))-$CF$9)/($CF$10-$CF$9)) -> 69005175 | CG82: =EXP($CG$6+($CG$7-$CG$6)*((LN($CG$1-A82))-$CG$9)/($CG$10-$CG$9)) -> 48260853 | CH82: =EXP($CH$6+($CH$7-$CH$6)*((LN($CH$1-A82))-$CH$9)/($CH$10-$CH$9)) -> 38221350 | CI82: =EXP($CI$6+($CI$7-$CI$6)*((LN($CI$1-A82))-$CI$9)/($CI$10-$CI$9)) -> 31803752 | CJ82: =EXP($CJ$6+($CJ$7-$CJ$6)*((LN($CJ$1-A82))-$CJ$9)/($CJ$10-$CJ$9)) -> 27503227 | CK82: =EXP($CK$6+($CK$7-$CK$6)*((LN($CK$1-A82))-$CK$9)/($CK$10-$CK$9)) -> 24389800 | CL82: =EXP($CL$6+($CL$7-$CL$6)*((LN($CL$1-A82))-$CL$9)/($CL$10-$CL$9)) -> 22015293 | CM82: =EXP($CM$6+($CM$7-$CM$6)*((LN($CM$1-A82))-$CM$9)/($CM$10-$CM$9)) -> 20135074 | CN82: =EXP($CN$6+($CN$7-$CN$6)*((LN($CN$1-A82))-$CN$9)/($CN$10-$CN$9)) -> 18603424 | CO82: =EXP($CO$6+($CO$7-$CO$6)*((LN($CO$1-A82))-$CO$9)/($CO$10-$CO$9)) -> 10731076 | CP82: =EXP($CP$6+($CP$7-$CP$6)*((LN($CP$1-A82))-$CP$9)/($CP$10-$CP$9)) -> 7676000 | CQ82: =EXP($CQ$6+($CQ$7-$CQ$6)*((LN($CQ$1-A82))-$CQ$9)/($CQ$10-$CQ$9)) -> 6839467.2 | CR82: =EXP($CR$6+($CR$7-$CR$6)*((LN($CR$1-A82))-$CR$9)/($CR$10-$CR$9)) -> 6208685.3 | CS82: =EXP($CS$6+($CS$7-$CS$6)*((LN($CS$1-A82))-$CS$9)/($CS$10-$CS$9)) -> 5738040.9 | CT82: =EXP($CT$6+($CT$7-$CT$6)*((LN($CT$1-A82))-$CT$9)/($CT$10-$CT$9)) -> 5368769.9 | CU82: =EXP($CU$6+($CU$7-$CU$6)*((LN($CU$1-A82))-$CU$9)/($CU$10-$CU$9)) -> 5068579.4 | CV82: =EXP($CV$6+($CV$7-$CV$6)*((LN($CV$1-A82))-$CV$9)/($CV$10-$CV$9)) -> 4818025 | CW82: =EXP($CW$6+($CW$7-$CW$6)*((LN($CW$1-A82))-$CW$9)/($CW$10-$CW$9)) -> 4604590.9 | CX82: =EXP($CX$6+($CX$7-$CX$6)*((LN($CX$1-A82))-$CX$9)/($CX$10-$CX$9)) -> 2525538.7 | CY82: =EXP($CY$6+($CY$7-$CY$6)*((LN($CY$1-A82))-$CY$9)/($CY$10-$CY$9)) -> 1775539.3 | CZ82: =EXP($CZ$6+($CZ$7-$CZ$6)*((LN($CZ$1-A82))-$CZ$9)/($CZ$10-$CZ$9)) -> 1188500.9 | DA82: =EXP($DA$6+($DA$7-$DA$6)*((LN($DA$1-A82))-$DA$9)/($DA$10-$DA$9)) -> 869817.8 | DB82: =EXP($DB$6+($DB$7-$DB$6)*((LN($DB$1-A82))-$DB$9)/($DB$10-$DB$9)) -> 674046.85 | DC82: =EXP($DC$6+($DC$7-$DC$6)*((LN($DC$1-A82))-$DC$9)/($DC$10-$DC$9)) -> 543351.18 | DD82: =EXP($DD$6+($DD$7-$DD$6)*((LN($DD$1-A82))-$DD$9)/($DD$10-$DD$9)) -> 450820.87 | DE82: =EXP($DE$6+($DE$7-$DE$6)*((LN($DE$1-A82))-$DE$9)/($DE$10-$DE$9)) -> 382381.77 | DF82: =EXP($DF$6+($DF$7-$DF$6)*((LN($DF$1-A82))-$DF$9)/($DF$10-$DF$9)) -> 330018.02
A83: 70 | CC83: 70 | CD83: =U$2 -> 1.9160549e+08 | CE83: =EXP($CE$6+($CE$7-$CE$6)*((LN($CE$1-A83))-$CE$9)/($CE$10-$CE$9)) -> 1.697e+08 | CF83: =EXP($CF$6+($CF$7-$CF$6)*((LN($CF$1-A83))-$CF$9)/($CF$10-$CF$9)) -> 69339309 | CG83: =EXP($CG$6+($CG$7-$CG$6)*((LN($CG$1-A83))-$CG$9)/($CG$10-$CG$9)) -> 48393018 | CH83: =EXP($CH$6+($CH$7-$CH$6)*((LN($CH$1-A83))-$CH$9)/($CH$10-$CH$9)) -> 38301957 | CI83: =EXP($CI$6+($CI$7-$CI$6)*((LN($CI$1-A83))-$CI$9)/($CI$10-$CI$9)) -> 31855232 | CJ83: =EXP($CJ$6+($CJ$7-$CJ$6)*((LN($CJ$1-A83))-$CJ$9)/($CJ$10-$CJ$9)) -> 27539348 | CK83: =EXP($CK$6+($CK$7-$CK$6)*((LN($CK$1-A83))-$CK$9)/($CK$10-$CK$9)) -> 24416749 | CL83: =EXP($CL$6+($CL$7-$CL$6)*((LN($CL$1-A83))-$CL$9)/($CL$10-$CL$9)) -> 22036287 | CM83: =EXP($CM$6+($CM$7-$CM$6)*((LN($CM$1-A83))-$CM$9)/($CM$10-$CM$9)) -> 20151962 | CN83: =EXP($CN$6+($CN$7-$CN$6)*((LN($CN$1-A83))-$CN$9)/($CN$10-$CN$9)) -> 18617350 | CO83: =EXP($CO$6+($CO$7-$CO$6)*((LN($CO$1-A83))-$CO$9)/($CO$10-$CO$9)) -> 10735304 | CP83: =EXP($CP$6+($CP$7-$CP$6)*((LN($CP$1-A83))-$CP$9)/($CP$10-$CP$9)) -> 7676000 | CQ83: =EXP($CQ$6+($CQ$7-$CQ$6)*((LN($CQ$1-A83))-$CQ$9)/($CQ$10-$CQ$9)) -> 6840210.1 | CR83: =EXP($CR$6+($CR$7-$CR$6)*((LN($CR$1-A83))-$CR$9)/($CR$10-$CR$9)) -> 6209222.9 | CS83: =EXP($CS$6+($CS$7-$CS$6)*((LN($CS$1-A83))-$CS$9)/($CS$10-$CS$9)) -> 5738454 | CT83: =EXP($CT$6+($CT$7-$CT$6)*((LN($CT$1-A83))-$CT$9)/($CT$10-$CT$9)) -> 5369100.6 | CU83: =EXP($CU$6+($CU$7-$CU$6)*((LN($CU$1-A83))-$CU$9)/($CU$10-$CU$9)) -> 5068852.3 | CV83: =EXP($CV$6+($CV$7-$CV$6)*((LN($CV$1-A83))-$CV$9)/($CV$10-$CV$9)) -> 4818255.4 | CW83: =EXP($CW$6+($CW$7-$CW$6)*((LN($CW$1-A83))-$CW$9)/($CW$10-$CW$9)) -> 4604788.9 | CX83: =EXP($CX$6+($CX$7-$CX$6)*((LN($CX$1-A83))-$CX$9)/($CX$10-$CX$9)) -> 2525648.5 | CY83: =EXP($CY$6+($CY$7-$CY$6)*((LN($CY$1-A83))-$CY$9)/($CY$10-$CY$9)) -> 1775590.7 | CZ83: =EXP($CZ$6+($CZ$7-$CZ$6)*((LN($CZ$1-A83))-$CZ$9)/($CZ$10-$CZ$9)) -> 1188542.5 | DA83: =EXP($DA$6+($DA$7-$DA$6)*((LN($DA$1-A83))-$DA$9)/($DA$10-$DA$9)) -> 869842.13 | DB83: =EXP($DB$6+($DB$7-$DB$6)*((LN($DB$1-A83))-$DB$9)/($DB$10-$DB$9)) -> 674062.56 | DC83: =EXP($DC$6+($DC$7-$DC$6)*((LN($DC$1-A83))-$DC$9)/($DC$10-$DC$9)) -> 543362.03 | DD83: =EXP($DD$6+($DD$7-$DD$6)*((LN($DD$1-A83))-$DD$9)/($DD$10-$DD$9)) -> 450828.74 | DE83: =EXP($DE$6+($DE$7-$DE$6)*((LN($DE$1-A83))-$DE$9)/($DE$10-$DE$9)) -> 382387.71 | DF83: =EXP($DF$6+($DF$7-$DF$6)*((LN($DF$1-A83))-$DF$9)/($DF$10-$DF$9)) -> 330022.63
A84: 71 | CC84: 71 | CD84: =T$2 -> 1.9457097e+08 | CE84: =AD$2 -> 1.7143139e+08 | CF84: =EXP($CF$6+($CF$7-$CF$6)*((LN($CF$1-A84))-$CF$9)/($CF$10-$CF$9)) -> 69677660 | CG84: =EXP($CG$6+($CG$7-$CG$6)*((LN($CG$1-A84))-$CG$9)/($CG$10-$CG$9)) -> 48526124 | CH84: =EXP($CH$6+($CH$7-$CH$6)*((LN($CH$1-A84))-$CH$9)/($CH$10-$CH$9)) -> 38382980 | CI84: =EXP($CI$6+($CI$7-$CI$6)*((LN($CI$1-A84))-$CI$9)/($CI$10-$CI$9)) -> 31906916 | CJ84: =EXP($CJ$6+($CJ$7-$CJ$6)*((LN($CJ$1-A84))-$CJ$9)/($CJ$10-$CJ$9)) -> 27575585 | CK84: =EXP($CK$6+($CK$7-$CK$6)*((LN($CK$1-A84))-$CK$9)/($CK$10-$CK$9)) -> 24443771 | CL84: =EXP($CL$6+($CL$7-$CL$6)*((LN($CL$1-A84))-$CL$9)/($CL$10-$CL$9)) -> 22057330 | CM84: =EXP($CM$6+($CM$7-$CM$6)*((LN($CM$1-A84))-$CM$9)/($CM$10-$CM$9)) -> 20168884 | CN84: =EXP($CN$6+($CN$7-$CN$6)*((LN($CN$1-A84))-$CN$9)/($CN$10-$CN$9)) -> 18631301 | CO84: =EXP($CO$6+($CO$7-$CO$6)*((LN($CO$1-A84))-$CO$9)/($CO$10-$CO$9)) -> 10739536 | CP84: =EXP($CP$6+($CP$7-$CP$6)*((LN($CP$1-A84))-$CP$9)/($CP$10-$CP$9)) -> 7676000 | CQ84: =EXP($CQ$6+($CQ$7-$CQ$6)*((LN($CQ$1-A84))-$CQ$9)/($CQ$10-$CQ$9)) -> 6840953.3 | CR84: =EXP($CR$6+($CR$7-$CR$6)*((LN($CR$1-A84))-$CR$9)/($CR$10-$CR$9)) -> 6209760.7 | CS84: =EXP($CS$6+($CS$7-$CS$6)*((LN($CS$1-A84))-$CS$9)/($CS$10-$CS$9)) -> 5738867.2 | CT84: =EXP($CT$6+($CT$7-$CT$6)*((LN($CT$1-A84))-$CT$9)/($CT$10-$CT$9)) -> 5369431.4 | CU84: =EXP($CU$6+($CU$7-$CU$6)*((LN($CU$1-A84))-$CU$9)/($CU$10-$CU$9)) -> 5069125.2 | CV84: =EXP($CV$6+($CV$7-$CV$6)*((LN($CV$1-A84))-$CV$9)/($CV$10-$CV$9)) -> 4818485.7 | CW84: =EXP($CW$6+($CW$7-$CW$6)*((LN($CW$1-A84))-$CW$9)/($CW$10-$CW$9)) -> 4604986.8 | CX84: =EXP($CX$6+($CX$7-$CX$6)*((LN($CX$1-A84))-$CX$9)/($CX$10-$CX$9)) -> 2525758.3 | CY84: =EXP($CY$6+($CY$7-$CY$6)*((LN($CY$1-A84))-$CY$9)/($CY$10-$CY$9)) -> 1775642.1 | CZ84: =EXP($CZ$6+($CZ$7-$CZ$6)*((LN($CZ$1-A84))-$CZ$9)/($CZ$10-$CZ$9)) -> 1188584.1 | DA84: =EXP($DA$6+($DA$7-$DA$6)*((LN($DA$1-A84))-$DA$9)/($DA$10-$DA$9)) -> 869866.46 | DB84: =EXP($DB$6+($DB$7-$DB$6)*((LN($DB$1-A84))-$DB$9)/($DB$10-$DB$9)) -> 674078.27 | DC84: =EXP($DC$6+($DC$7-$DC$6)*((LN($DC$1-A84))-$DC$9)/($DC$10-$DC$9)) -> 543372.89 | DD84: =EXP($DD$6+($DD$7-$DD$6)*((LN($DD$1-A84))-$DD$9)/($DD$10-$DD$9)) -> 450836.62 | DE84: =EXP($DE$6+($DE$7-$DE$6)*((LN($DE$1-A84))-$DE$9)/($DE$10-$DE$9)) -> 382393.65 | DF84: =EXP($DF$6+($DF$7-$DF$6)*((LN($DF$1-A84))-$DF$9)/($DF$10-$DF$9)) -> 330027.25
A85: 72 | CC85: 72 | CD85: =S$2 -> 1.9774653e+08 | CE85: =AC$2 -> 1.7324215e+08 | CF85: =EXP($CF$6+($CF$7-$CF$6)*((LN($CF$1-A85))-$CF$9)/($CF$10-$CF$9)) -> 70020314 | CG85: =EXP($CG$6+($CG$7-$CG$6)*((LN($CG$1-A85))-$CG$9)/($CG$10-$CG$9)) -> 48660180 | CH85: =EXP($CH$6+($CH$7-$CH$6)*((LN($CH$1-A85))-$CH$9)/($CH$10-$CH$9)) -> 38464422 | CI85: =EXP($CI$6+($CI$7-$CI$6)*((LN($CI$1-A85))-$CI$9)/($CI$10-$CI$9)) -> 31958804 | CJ85: =EXP($CJ$6+($CJ$7-$CJ$6)*((LN($CJ$1-A85))-$CJ$9)/($CJ$10-$CJ$9)) -> 27611939 | CK85: =EXP($CK$6+($CK$7-$CK$6)*((LN($CK$1-A85))-$CK$9)/($CK$10-$CK$9)) -> 24470866 | CL85: =EXP($CL$6+($CL$7-$CL$6)*((LN($CL$1-A85))-$CL$9)/($CL$10-$CL$9)) -> 22078422 | CM85: =EXP($CM$6+($CM$7-$CM$6)*((LN($CM$1-A85))-$CM$9)/($CM$10-$CM$9)) -> 20185842 | CN85: =EXP($CN$6+($CN$7-$CN$6)*((LN($CN$1-A85))-$CN$9)/($CN$10-$CN$9)) -> 18645278 | CO85: =EXP($CO$6+($CO$7-$CO$6)*((LN($CO$1-A85))-$CO$9)/($CO$10-$CO$9)) -> 10743772 | CP85: =EXP($CP$6+($CP$7-$CP$6)*((LN($CP$1-A85))-$CP$9)/($CP$10-$CP$9)) -> 7676000 | CQ85: =EXP($CQ$6+($CQ$7-$CQ$6)*((LN($CQ$1-A85))-$CQ$9)/($CQ$10-$CQ$9)) -> 6841696.8 | CR85: =EXP($CR$6+($CR$7-$CR$6)*((LN($CR$1-A85))-$CR$9)/($CR$10-$CR$9)) -> 6210298.6 | CS85: =EXP($CS$6+($CS$7-$CS$6)*((LN($CS$1-A85))-$CS$9)/($CS$10-$CS$9)) -> 5739280.5 | CT85: =EXP($CT$6+($CT$7-$CT$6)*((LN($CT$1-A85))-$CT$9)/($CT$10-$CT$9)) -> 5369762.3 | CU85: =EXP($CU$6+($CU$7-$CU$6)*((LN($CU$1-A85))-$CU$9)/($CU$10-$CU$9)) -> 5069398.2 | CV85: =EXP($CV$6+($CV$7-$CV$6)*((LN($CV$1-A85))-$CV$9)/($CV$10-$CV$9)) -> 4818716.1 | CW85: =EXP($CW$6+($CW$7-$CW$6)*((LN($CW$1-A85))-$CW$9)/($CW$10-$CW$9)) -> 4605184.9 | CX85: =EXP($CX$6+($CX$7-$CX$6)*((LN($CX$1-A85))-$CX$9)/($CX$10-$CX$9)) -> 2525868.2 | CY85: =EXP($CY$6+($CY$7-$CY$6)*((LN($CY$1-A85))-$CY$9)/($CY$10-$CY$9)) -> 1775693.5 | CZ85: =EXP($CZ$6+($CZ$7-$CZ$6)*((LN($CZ$1-A85))-$CZ$9)/($CZ$10-$CZ$9)) -> 1188625.7 | DA85: =EXP($DA$6+($DA$7-$DA$6)*((LN($DA$1-A85))-$DA$9)/($DA$10-$DA$9)) -> 869890.8 | DB85: =EXP($DB$6+($DB$7-$DB$6)*((LN($DB$1-A85))-$DB$9)/($DB$10-$DB$9)) -> 674093.98 | DC85: =EXP($DC$6+($DC$7-$DC$6)*((LN($DC$1-A85))-$DC$9)/($DC$10-$DC$9)) -> 543383.74 | DD85: =EXP($DD$6+($DD$7-$DD$6)*((LN($DD$1-A85))-$DD$9)/($DD$10-$DD$9)) -> 450844.5 | DE85: =EXP($DE$6+($DE$7-$DE$6)*((LN($DE$1-A85))-$DE$9)/($DE$10-$DE$9)) -> 382399.59 | DF85: =EXP($DF$6+($DF$7-$DF$6)*((LN($DF$1-A85))-$DF$9)/($DF$10-$DF$9)) -> 330031.86
A86: 73 | CC86: 73 | CD86: =R$2 -> 2.0116002e+08 | CE86: =AB$2 -> 1.7513896e+08 | CF86: =EXP($CF$6+($CF$7-$CF$6)*((LN($CF$1-A86))-$CF$9)/($CF$10-$CF$9)) -> 70367361 | CG86: =EXP($CG$6+($CG$7-$CG$6)*((LN($CG$1-A86))-$CG$9)/($CG$10-$CG$9)) -> 48795198 | CH86: =EXP($CH$6+($CH$7-$CH$6)*((LN($CH$1-A86))-$CH$9)/($CH$10-$CH$9)) -> 38546285 | CI86: =EXP($CI$6+($CI$7-$CI$6)*((LN($CI$1-A86))-$CI$9)/($CI$10-$CI$9)) -> 32010898 | CJ86: =EXP($CJ$6+($CJ$7-$CJ$6)*((LN($CJ$1-A86))-$CJ$9)/($CJ$10-$CJ$9)) -> 27648410 | CK86: =EXP($CK$6+($CK$7-$CK$6)*((LN($CK$1-A86))-$CK$9)/($CK$10-$CK$9)) -> 24498034 | CL86: =EXP($CL$6+($CL$7-$CL$6)*((LN($CL$1-A86))-$CL$9)/($CL$10-$CL$9)) -> 22099563 | CM86: =EXP($CM$6+($CM$7-$CM$6)*((LN($CM$1-A86))-$CM$9)/($CM$10-$CM$9)) -> 20202834 | CN86: =EXP($CN$6+($CN$7-$CN$6)*((LN($CN$1-A86))-$CN$9)/($CN$10-$CN$9)) -> 18659280 | CO86: =EXP($CO$6+($CO$7-$CO$6)*((LN($CO$1-A86))-$CO$9)/($CO$10-$CO$9)) -> 10748012 | CP86: =EXP($CP$6+($CP$7-$CP$6)*((LN($CP$1-A86))-$CP$9)/($CP$10-$CP$9)) -> 7676000 | CQ86: =EXP($CQ$6+($CQ$7-$CQ$6)*((LN($CQ$1-A86))-$CQ$9)/($CQ$10-$CQ$9)) -> 6842440.5 | CR86: =EXP($CR$6+($CR$7-$CR$6)*((LN($CR$1-A86))-$CR$9)/($CR$10-$CR$9)) -> 6210836.7 | CS86: =EXP($CS$6+($CS$7-$CS$6)*((LN($CS$1-A86))-$CS$9)/($CS$10-$CS$9)) -> 5739693.8 | CT86: =EXP($CT$6+($CT$7-$CT$6)*((LN($CT$1-A86))-$CT$9)/($CT$10-$CT$9)) -> 5370093.2 | CU86: =EXP($CU$6+($CU$7-$CU$6)*((LN($CU$1-A86))-$CU$9)/($CU$10-$CU$9)) -> 5069671.2 | CV86: =EXP($CV$6+($CV$7-$CV$6)*((LN($CV$1-A86))-$CV$9)/($CV$10-$CV$9)) -> 4818946.6 | CW86: =EXP($CW$6+($CW$7-$CW$6)*((LN($CW$1-A86))-$CW$9)/($CW$10-$CW$9)) -> 4605382.9 | CX86: =EXP($CX$6+($CX$7-$CX$6)*((LN($CX$1-A86))-$CX$9)/($CX$10-$CX$9)) -> 2525978 | CY86: =EXP($CY$6+($CY$7-$CY$6)*((LN($CY$1-A86))-$CY$9)/($CY$10-$CY$9)) -> 1775744.9 | CZ86: =EXP($CZ$6+($CZ$7-$CZ$6)*((LN($CZ$1-A86))-$CZ$9)/($CZ$10-$CZ$9)) -> 1188667.3 | DA86: =EXP($DA$6+($DA$7-$DA$6)*((LN($DA$1-A86))-$DA$9)/($DA$10-$DA$9)) -> 869915.14 | DB86: =EXP($DB$6+($DB$7-$DB$6)*((LN($DB$1-A86))-$DB$9)/($DB$10-$DB$9)) -> 674109.69 | DC86: =EXP($DC$6+($DC$7-$DC$6)*((LN($DC$1-A86))-$DC$9)/($DC$10-$DC$9)) -> 543394.59 | DD86: =EXP($DD$6+($DD$7-$DD$6)*((LN($DD$1-A86))-$DD$9)/($DD$10-$DD$9)) -> 450852.38 | DE86: =EXP($DE$6+($DE$7-$DE$6)*((LN($DE$1-A86))-$DE$9)/($DE$10-$DE$9)) -> 382405.53 | DF86: =EXP($DF$6+($DF$7-$DF$6)*((LN($DF$1-A86))-$DF$9)/($DF$10-$DF$9)) -> 330036.47
A87: 74 | CC87: 74 | CD87: =Q$2 -> 2.0484492e+08 | CE87: =AA$2 -> 1.7712933e+08 | CF87: =EXP($CF$6+($CF$7-$CF$6)*((LN($CF$1-A87))-$CF$9)/($CF$10-$CF$9)) -> 70718892 | CG87: =EXP($CG$6+($CG$7-$CG$6)*((LN($CG$1-A87))-$CG$9)/($CG$10-$CG$9)) -> 48931190 | CH87: =EXP($CH$6+($CH$7-$CH$6)*((LN($CH$1-A87))-$CH$9)/($CH$10-$CH$9)) -> 38628575 | CI87: =EXP($CI$6+($CI$7-$CI$6)*((LN($CI$1-A87))-$CI$9)/($CI$10-$CI$9)) -> 32063200 | CJ87: =EXP($CJ$6+($CJ$7-$CJ$6)*((LN($CJ$1-A87))-$CJ$9)/($CJ$10-$CJ$9)) -> 27684998 | CK87: =EXP($CK$6+($CK$7-$CK$6)*((LN($CK$1-A87))-$CK$9)/($CK$10-$CK$9)) -> 24525275 | CL87: =EXP($CL$6+($CL$7-$CL$6)*((LN($CL$1-A87))-$CL$9)/($CL$10-$CL$9)) -> 22120753 | CM87: =EXP($CM$6+($CM$7-$CM$6)*((LN($CM$1-A87))-$CM$9)/($CM$10-$CM$9)) -> 20219861 | CN87: =EXP($CN$6+($CN$7-$CN$6)*((LN($CN$1-A87))-$CN$9)/($CN$10-$CN$9)) -> 18673308 | CO87: =EXP($CO$6+($CO$7-$CO$6)*((LN($CO$1-A87))-$CO$9)/($CO$10-$CO$9)) -> 10752255 | CP87: =EXP($CP$6+($CP$7-$CP$6)*((LN($CP$1-A87))-$CP$9)/($CP$10-$CP$9)) -> 7676000 | CQ87: =EXP($CQ$6+($CQ$7-$CQ$6)*((LN($CQ$1-A87))-$CQ$9)/($CQ$10-$CQ$9)) -> 6843184.5 | CR87: =EXP($CR$6+($CR$7-$CR$6)*((LN($CR$1-A87))-$CR$9)/($CR$10-$CR$9)) -> 6211374.9 | CS87: =EXP($CS$6+($CS$7-$CS$6)*((LN($CS$1-A87))-$CS$9)/($CS$10-$CS$9)) -> 5740107.3 | CT87: =EXP($CT$6+($CT$7-$CT$6)*((LN($CT$1-A87))-$CT$9)/($CT$10-$CT$9)) -> 5370424.2 | CU87: =EXP($CU$6+($CU$7-$CU$6)*((LN($CU$1-A87))-$CU$9)/($CU$10-$CU$9)) -> 5069944.3 | CV87: =EXP($CV$6+($CV$7-$CV$6)*((LN($CV$1-A87))-$CV$9)/($CV$10-$CV$9)) -> 4819177.1 | CW87: =EXP($CW$6+($CW$7-$CW$6)*((LN($CW$1-A87))-$CW$9)/($CW$10-$CW$9)) -> 4605581 | CX87: =EXP($CX$6+($CX$7-$CX$6)*((LN($CX$1-A87))-$CX$9)/($CX$10-$CX$9)) -> 2526087.9 | CY87: =EXP($CY$6+($CY$7-$CY$6)*((LN($CY$1-A87))-$CY$9)/($CY$10-$CY$9)) -> 1775796.3 | CZ87: =EXP($CZ$6+($CZ$7-$CZ$6)*((LN($CZ$1-A87))-$CZ$9)/($CZ$10-$CZ$9)) -> 1188708.8 | DA87: =EXP($DA$6+($DA$7-$DA$6)*((LN($DA$1-A87))-$DA$9)/($DA$10-$DA$9)) -> 869939.47 | DB87: =EXP($DB$6+($DB$7-$DB$6)*((LN($DB$1-A87))-$DB$9)/($DB$10-$DB$9)) -> 674125.41 | DC87: =EXP($DC$6+($DC$7-$DC$6)*((LN($DC$1-A87))-$DC$9)/($DC$10-$DC$9)) -> 543405.45 | DD87: =EXP($DD$6+($DD$7-$DD$6)*((LN($DD$1-A87))-$DD$9)/($DD$10-$DD$9)) -> 450860.26 | DE87: =EXP($DE$6+($DE$7-$DE$6)*((LN($DE$1-A87))-$DE$9)/($DE$10-$DE$9)) -> 382411.47 | DF87: =EXP($DF$6+($DF$7-$DF$6)*((LN($DF$1-A87))-$DF$9)/($DF$10-$DF$9)) -> 330041.09
A88: 75 | CC88: 75 | CD88: =P$2 -> 2.0884193e+08 | CE88: =Z$2 -> 1.7922173e+08 | CF88: =EXP($CF$6+($CF$7-$CF$6)*((LN($CF$1-A88))-$CF$9)/($CF$10-$CF$9)) -> 71075002 | CG88: =EXP($CG$6+($CG$7-$CG$6)*((LN($CG$1-A88))-$CG$9)/($CG$10-$CG$9)) -> 49068166 | CH88: =EXP($CH$6+($CH$7-$CH$6)*((LN($CH$1-A88))-$CH$9)/($CH$10-$CH$9)) -> 38711294 | CI88: =EXP($CI$6+($CI$7-$CI$6)*((LN($CI$1-A88))-$CI$9)/($CI$10-$CI$9)) -> 32115710 | CJ88: =EXP($CJ$6+($CJ$7-$CJ$6)*((LN($CJ$1-A88))-$CJ$9)/($CJ$10-$CJ$9)) -> 27721704 | CK88: =EXP($CK$6+($CK$7-$CK$6)*((LN($CK$1-A88))-$CK$9)/($CK$10-$CK$9)) -> 24552591 | CL88: =EXP($CL$6+($CL$7-$CL$6)*((LN($CL$1-A88))-$CL$9)/($CL$10-$CL$9)) -> 22141993 | CM88: =EXP($CM$6+($CM$7-$CM$6)*((LN($CM$1-A88))-$CM$9)/($CM$10-$CM$9)) -> 20236922 | CN88: =EXP($CN$6+($CN$7-$CN$6)*((LN($CN$1-A88))-$CN$9)/($CN$10-$CN$9)) -> 18687362 | CO88: =EXP($CO$6+($CO$7-$CO$6)*((LN($CO$1-A88))-$CO$9)/($CO$10-$CO$9)) -> 10756503 | CP88: =EXP($CP$6+($CP$7-$CP$6)*((LN($CP$1-A88))-$CP$9)/($CP$10-$CP$9)) -> 7676000 | CQ88: =EXP($CQ$6+($CQ$7-$CQ$6)*((LN($CQ$1-A88))-$CQ$9)/($CQ$10-$CQ$9)) -> 6843928.8 | CR88: =EXP($CR$6+($CR$7-$CR$6)*((LN($CR$1-A88))-$CR$9)/($CR$10-$CR$9)) -> 6211913.3 | CS88: =EXP($CS$6+($CS$7-$CS$6)*((LN($CS$1-A88))-$CS$9)/($CS$10-$CS$9)) -> 5740520.9 | CT88: =EXP($CT$6+($CT$7-$CT$6)*((LN($CT$1-A88))-$CT$9)/($CT$10-$CT$9)) -> 5370755.3 | CU88: =EXP($CU$6+($CU$7-$CU$6)*((LN($CU$1-A88))-$CU$9)/($CU$10-$CU$9)) -> 5070217.4 | CV88: =EXP($CV$6+($CV$7-$CV$6)*((LN($CV$1-A88))-$CV$9)/($CV$10-$CV$9)) -> 4819407.6 | CW88: =EXP($CW$6+($CW$7-$CW$6)*((LN($CW$1-A88))-$CW$9)/($CW$10-$CW$9)) -> 4605779.1 | CX88: =EXP($CX$6+($CX$7-$CX$6)*((LN($CX$1-A88))-$CX$9)/($CX$10-$CX$9)) -> 2526197.7 | CY88: =EXP($CY$6+($CY$7-$CY$6)*((LN($CY$1-A88))-$CY$9)/($CY$10-$CY$9)) -> 1775847.7 | CZ88: =EXP($CZ$6+($CZ$7-$CZ$6)*((LN($CZ$1-A88))-$CZ$9)/($CZ$10-$CZ$9)) -> 1188750.4 | DA88: =EXP($DA$6+($DA$7-$DA$6)*((LN($DA$1-A88))-$DA$9)/($DA$10-$DA$9)) -> 869963.81 | DB88: =EXP($DB$6+($DB$7-$DB$6)*((LN($DB$1-A88))-$DB$9)/($DB$10-$DB$9)) -> 674141.12 | DC88: =EXP($DC$6+($DC$7-$DC$6)*((LN($DC$1-A88))-$DC$9)/($DC$10-$DC$9)) -> 543416.3 | DD88: =EXP($DD$6+($DD$7-$DD$6)*((LN($DD$1-A88))-$DD$9)/($DD$10-$DD$9)) -> 450868.14 | DE88: =EXP($DE$6+($DE$7-$DE$6)*((LN($DE$1-A88))-$DE$9)/($DE$10-$DE$9)) -> 382417.41 | DF88: =EXP($DF$6+($DF$7-$DF$6)*((LN($DF$1-A88))-$DF$9)/($DF$10-$DF$9)) -> 330045.7
A89: 76 | CC89: 76 | CD89: =O$2 -> 2.132011e+08 | CE89: =Y$2 -> 1.8142583e+08 | CF89: =EXP($CF$6+($CF$7-$CF$6)*((LN($CF$1-A89))-$CF$9)/($CF$10-$CF$9)) -> 71435786 | CG89: =EXP($CG$6+($CG$7-$CG$6)*((LN($CG$1-A89))-$CG$9)/($CG$10-$CG$9)) -> 49206139 | CH89: =EXP($CH$6+($CH$7-$CH$6)*((LN($CH$1-A89))-$CH$9)/($CH$10-$CH$9)) -> 38794446 | CI89: =EXP($CI$6+($CI$7-$CI$6)*((LN($CI$1-A89))-$CI$9)/($CI$10-$CI$9)) -> 32168431 | CJ89: =EXP($CJ$6+($CJ$7-$CJ$6)*((LN($CJ$1-A89))-$CJ$9)/($CJ$10-$CJ$9)) -> 27758529 | CK89: =EXP($CK$6+($CK$7-$CK$6)*((LN($CK$1-A89))-$CK$9)/($CK$10-$CK$9)) -> 24579981 | CL89: =EXP($CL$6+($CL$7-$CL$6)*((LN($CL$1-A89))-$CL$9)/($CL$10-$CL$9)) -> 22163283 | CM89: =EXP($CM$6+($CM$7-$CM$6)*((LN($CM$1-A89))-$CM$9)/($CM$10-$CM$9)) -> 20254019 | CN89: =EXP($CN$6+($CN$7-$CN$6)*((LN($CN$1-A89))-$CN$9)/($CN$10-$CN$9)) -> 18701442 | CO89: =EXP($CO$6+($CO$7-$CO$6)*((LN($CO$1-A89))-$CO$9)/($CO$10-$CO$9)) -> 10760754 | CP89: =EXP($CP$6+($CP$7-$CP$6)*((LN($CP$1-A89))-$CP$9)/($CP$10-$CP$9)) -> 7676000 | CQ89: =EXP($CQ$6+($CQ$7-$CQ$6)*((LN($CQ$1-A89))-$CQ$9)/($CQ$10-$CQ$9)) -> 6844673.3 | CR89: =EXP($CR$6+($CR$7-$CR$6)*((LN($CR$1-A89))-$CR$9)/($CR$10-$CR$9)) -> 6212451.9 | CS89: =EXP($CS$6+($CS$7-$CS$6)*((LN($CS$1-A89))-$CS$9)/($CS$10-$CS$9)) -> 5740934.6 | CT89: =EXP($CT$6+($CT$7-$CT$6)*((LN($CT$1-A89))-$CT$9)/($CT$10-$CT$9)) -> 5371086.4 | CU89: =EXP($CU$6+($CU$7-$CU$6)*((LN($CU$1-A89))-$CU$9)/($CU$10-$CU$9)) -> 5070490.5 | CV89: =EXP($CV$6+($CV$7-$CV$6)*((LN($CV$1-A89))-$CV$9)/($CV$10-$CV$9)) -> 4819638.1 | CW89: =EXP($CW$6+($CW$7-$CW$6)*((LN($CW$1-A89))-$CW$9)/($CW$10-$CW$9)) -> 4605977.2 | CX89: =EXP($CX$6+($CX$7-$CX$6)*((LN($CX$1-A89))-$CX$9)/($CX$10-$CX$9)) -> 2526307.6 | CY89: =EXP($CY$6+($CY$7-$CY$6)*((LN($CY$1-A89))-$CY$9)/($CY$10-$CY$9)) -> 1775899.2 | CZ89: =EXP($CZ$6+($CZ$7-$CZ$6)*((LN($CZ$1-A89))-$CZ$9)/($CZ$10-$CZ$9)) -> 1188792 | DA89: =EXP($DA$6+($DA$7-$DA$6)*((LN($DA$1-A89))-$DA$9)/($DA$10-$DA$9)) -> 869988.15 | DB89: =EXP($DB$6+($DB$7-$DB$6)*((LN($DB$1-A89))-$DB$9)/($DB$10-$DB$9)) -> 674156.83 | DC89: =EXP($DC$6+($DC$7-$DC$6)*((LN($DC$1-A89))-$DC$9)/($DC$10-$DC$9)) -> 543427.16 | DD89: =EXP($DD$6+($DD$7-$DD$6)*((LN($DD$1-A89))-$DD$9)/($DD$10-$DD$9)) -> 450876.02 | DE89: =EXP($DE$6+($DE$7-$DE$6)*((LN($DE$1-A89))-$DE$9)/($DE$10-$DE$9)) -> 382423.35 | DF89: =EXP($DF$6+($DF$7-$DF$6)*((LN($DF$1-A89))-$DF$9)/($DF$10-$DF$9)) -> 330050.31
A90: 77 | CC90: 77 | CD90: =N$2 -> 2.1798486e+08 | CE90: =X$2 -> 1.837526e+08 | CF90: =EXP($CF$6+($CF$7-$CF$6)*((LN($CF$1-A90))-$CF$9)/($CF$10-$CF$9)) -> 71801346 | CG90: =EXP($CG$6+($CG$7-$CG$6)*((LN($CG$1-A90))-$CG$9)/($CG$10-$CG$9)) -> 49345119 | CH90: =EXP($CH$6+($CH$7-$CH$6)*((LN($CH$1-A90))-$CH$9)/($CH$10-$CH$9)) -> 38878034 | CI90: =EXP($CI$6+($CI$7-$CI$6)*((LN($CI$1-A90))-$CI$9)/($CI$10-$CI$9)) -> 32221362 | CJ90: =EXP($CJ$6+($CJ$7-$CJ$6)*((LN($CJ$1-A90))-$CJ$9)/($CJ$10-$CJ$9)) -> 27795474 | CK90: =EXP($CK$6+($CK$7-$CK$6)*((LN($CK$1-A90))-$CK$9)/($CK$10-$CK$9)) -> 24607445 | CL90: =EXP($CL$6+($CL$7-$CL$6)*((LN($CL$1-A90))-$CL$9)/($CL$10-$CL$9)) -> 22184622 | CM90: =EXP($CM$6+($CM$7-$CM$6)*((LN($CM$1-A90))-$CM$9)/($CM$10-$CM$9)) -> 20271152 | CN90: =EXP($CN$6+($CN$7-$CN$6)*((LN($CN$1-A90))-$CN$9)/($CN$10-$CN$9)) -> 18715547 | CO90: =EXP($CO$6+($CO$7-$CO$6)*((LN($CO$1-A90))-$CO$9)/($CO$10-$CO$9)) -> 10765009 | CP90: =EXP($CP$6+($CP$7-$CP$6)*((LN($CP$1-A90))-$CP$9)/($CP$10-$CP$9)) -> 7676000 | CQ90: =EXP($CQ$6+($CQ$7-$CQ$6)*((LN($CQ$1-A90))-$CQ$9)/($CQ$10-$CQ$9)) -> 6845418.1 | CR90: =EXP($CR$6+($CR$7-$CR$6)*((LN($CR$1-A90))-$CR$9)/($CR$10-$CR$9)) -> 6212990.6 | CS90: =EXP($CS$6+($CS$7-$CS$6)*((LN($CS$1-A90))-$CS$9)/($CS$10-$CS$9)) -> 5741348.3 | CT90: =EXP($CT$6+($CT$7-$CT$6)*((LN($CT$1-A90))-$CT$9)/($CT$10-$CT$9)) -> 5371417.7 | CU90: =EXP($CU$6+($CU$7-$CU$6)*((LN($CU$1-A90))-$CU$9)/($CU$10-$CU$9)) -> 5070763.7 | CV90: =EXP($CV$6+($CV$7-$CV$6)*((LN($CV$1-A90))-$CV$9)/($CV$10-$CV$9)) -> 4819868.7 | CW90: =EXP($CW$6+($CW$7-$CW$6)*((LN($CW$1-A90))-$CW$9)/($CW$10-$CW$9)) -> 4606175.4 | CX90: =EXP($CX$6+($CX$7-$CX$6)*((LN($CX$1-A90))-$CX$9)/($CX$10-$CX$9)) -> 2526417.5 | CY90: =EXP($CY$6+($CY$7-$CY$6)*((LN($CY$1-A90))-$CY$9)/($CY$10-$CY$9)) -> 1775950.6 | CZ90: =EXP($CZ$6+($CZ$7-$CZ$6)*((LN($CZ$1-A90))-$CZ$9)/($CZ$10-$CZ$9)) -> 1188833.6 | DA90: =EXP($DA$6+($DA$7-$DA$6)*((LN($DA$1-A90))-$DA$9)/($DA$10-$DA$9)) -> 870012.49 | DB90: =EXP($DB$6+($DB$7-$DB$6)*((LN($DB$1-A90))-$DB$9)/($DB$10-$DB$9)) -> 674172.55 | DC90: =EXP($DC$6+($DC$7-$DC$6)*((LN($DC$1-A90))-$DC$9)/($DC$10-$DC$9)) -> 543438.01 | DD90: =EXP($DD$6+($DD$7-$DD$6)*((LN($DD$1-A90))-$DD$9)/($DD$10-$DD$9)) -> 450883.9 | DE90: =EXP($DE$6+($DE$7-$DE$6)*((LN($DE$1-A90))-$DE$9)/($DE$10-$DE$9)) -> 382429.29 | DF90: =EXP($DF$6+($DF$7-$DF$6)*((LN($DF$1-A90))-$DF$9)/($DF$10-$DF$9)) -> 330054.93
A91: 78 | CC91: 78 | CD91: =M$2 -> 2.2327236e+08 | CE91: =W$2 -> 1.8621469e+08 | CF91: =EXP($CF$6+($CF$7-$CF$6)*((LN($CF$1-A91))-$CF$9)/($CF$10-$CF$9)) -> 72171783 | CG91: =EXP($CG$6+($CG$7-$CG$6)*((LN($CG$1-A91))-$CG$9)/($CG$10-$CG$9)) -> 49485119 | CH91: =EXP($CH$6+($CH$7-$CH$6)*((LN($CH$1-A91))-$CH$9)/($CH$10-$CH$9)) -> 38962062 | CI91: =EXP($CI$6+($CI$7-$CI$6)*((LN($CI$1-A91))-$CI$9)/($CI$10-$CI$9)) -> 32274507 | CJ91: =EXP($CJ$6+($CJ$7-$CJ$6)*((LN($CJ$1-A91))-$CJ$9)/($CJ$10-$CJ$9)) -> 27832539 | CK91: =EXP($CK$6+($CK$7-$CK$6)*((LN($CK$1-A91))-$CK$9)/($CK$10-$CK$9)) -> 24634984 | CL91: =EXP($CL$6+($CL$7-$CL$6)*((LN($CL$1-A91))-$CL$9)/($CL$10-$CL$9)) -> 22206012 | CM91: =EXP($CM$6+($CM$7-$CM$6)*((LN($CM$1-A91))-$CM$9)/($CM$10-$CM$9)) -> 20288319 | CN91: =EXP($CN$6+($CN$7-$CN$6)*((LN($CN$1-A91))-$CN$9)/($CN$10-$CN$9)) -> 18729678 | CO91: =EXP($CO$6+($CO$7-$CO$6)*((LN($CO$1-A91))-$CO$9)/($CO$10-$CO$9)) -> 10769268 | CP91: =EXP($CP$6+($CP$7-$CP$6)*((LN($CP$1-A91))-$CP$9)/($CP$10-$CP$9)) -> 7676000 | CQ91: =EXP($CQ$6+($CQ$7-$CQ$6)*((LN($CQ$1-A91))-$CQ$9)/($CQ$10-$CQ$9)) -> 6846163.2 | CR91: =EXP($CR$6+($CR$7-$CR$6)*((LN($CR$1-A91))-$CR$9)/($CR$10-$CR$9)) -> 6213529.5 | CS91: =EXP($CS$6+($CS$7-$CS$6)*((LN($CS$1-A91))-$CS$9)/($CS$10-$CS$9)) -> 5741762.2 | CT91: =EXP($CT$6+($CT$7-$CT$6)*((LN($CT$1-A91))-$CT$9)/($CT$10-$CT$9)) -> 5371748.9 | CU91: =EXP($CU$6+($CU$7-$CU$6)*((LN($CU$1-A91))-$CU$9)/($CU$10-$CU$9)) -> 5071037 | CV91: =EXP($CV$6+($CV$7-$CV$6)*((LN($CV$1-A91))-$CV$9)/($CV$10-$CV$9)) -> 4820099.3 | CW91: =EXP($CW$6+($CW$7-$CW$6)*((LN($CW$1-A91))-$CW$9)/($CW$10-$CW$9)) -> 4606373.6 | CX91: =EXP($CX$6+($CX$7-$CX$6)*((LN($CX$1-A91))-$CX$9)/($CX$10-$CX$9)) -> 2526527.4 | CY91: =EXP($CY$6+($CY$7-$CY$6)*((LN($CY$1-A91))-$CY$9)/($CY$10-$CY$9)) -> 1776002 | CZ91: =EXP($CZ$6+($CZ$7-$CZ$6)*((LN($CZ$1-A91))-$CZ$9)/($CZ$10-$CZ$9)) -> 1188875.2 | DA91: =EXP($DA$6+($DA$7-$DA$6)*((LN($DA$1-A91))-$DA$9)/($DA$10-$DA$9)) -> 870036.84 | DB91: =EXP($DB$6+($DB$7-$DB$6)*((LN($DB$1-A91))-$DB$9)/($DB$10-$DB$9)) -> 674188.26 | DC91: =EXP($DC$6+($DC$7-$DC$6)*((LN($DC$1-A91))-$DC$9)/($DC$10-$DC$9)) -> 543448.87 | DD91: =EXP($DD$6+($DD$7-$DD$6)*((LN($DD$1-A91))-$DD$9)/($DD$10-$DD$9)) -> 450891.78 | DE91: =EXP($DE$6+($DE$7-$DE$6)*((LN($DE$1-A91))-$DE$9)/($DE$10-$DE$9)) -> 382435.23 | DF91: =EXP($DF$6+($DF$7-$DF$6)*((LN($DF$1-A91))-$DF$9)/($DF$10-$DF$9)) -> 330059.54
A92: 79 | CC92: 79 | CD92: =L$2 -> 2.291658e+08 | CE92: =V$2 -> 1.8882667e+08 | CF92: =EXP($CF$6+($CF$7-$CF$6)*((LN($CF$1-A92))-$CF$9)/($CF$10-$CF$9)) -> 72547204 | CG92: =EXP($CG$6+($CG$7-$CG$6)*((LN($CG$1-A92))-$CG$9)/($CG$10-$CG$9)) -> 49626151 | CH92: =EXP($CH$6+($CH$7-$CH$6)*((LN($CH$1-A92))-$CH$9)/($CH$10-$CH$9)) -> 39046534 | CI92: =EXP($CI$6+($CI$7-$CI$6)*((LN($CI$1-A92))-$CI$9)/($CI$10-$CI$9)) -> 32327865 | CJ92: =EXP($CJ$6+($CJ$7-$CJ$6)*((LN($CJ$1-A92))-$CJ$9)/($CJ$10-$CJ$9)) -> 27869724 | CK92: =EXP($CK$6+($CK$7-$CK$6)*((LN($CK$1-A92))-$CK$9)/($CK$10-$CK$9)) -> 24662599 | CL92: =EXP($CL$6+($CL$7-$CL$6)*((LN($CL$1-A92))-$CL$9)/($CL$10-$CL$9)) -> 22227452 | CM92: =EXP($CM$6+($CM$7-$CM$6)*((LN($CM$1-A92))-$CM$9)/($CM$10-$CM$9)) -> 20305522 | CN92: =EXP($CN$6+($CN$7-$CN$6)*((LN($CN$1-A92))-$CN$9)/($CN$10-$CN$9)) -> 18743836 | CO92: =EXP($CO$6+($CO$7-$CO$6)*((LN($CO$1-A92))-$CO$9)/($CO$10-$CO$9)) -> 10773531 | CP92: =EXP($CP$6+($CP$7-$CP$6)*((LN($CP$1-A92))-$CP$9)/($CP$10-$CP$9)) -> 7676000 | CQ92: =EXP($CQ$6+($CQ$7-$CQ$6)*((LN($CQ$1-A92))-$CQ$9)/($CQ$10-$CQ$9)) -> 6846908.6 | CR92: =EXP($CR$6+($CR$7-$CR$6)*((LN($CR$1-A92))-$CR$9)/($CR$10-$CR$9)) -> 6214068.5 | CS92: =EXP($CS$6+($CS$7-$CS$6)*((LN($CS$1-A92))-$CS$9)/($CS$10-$CS$9)) -> 5742176.2 | CT92: =EXP($CT$6+($CT$7-$CT$6)*((LN($CT$1-A92))-$CT$9)/($CT$10-$CT$9)) -> 5372080.3 | CU92: =EXP($CU$6+($CU$7-$CU$6)*((LN($CU$1-A92))-$CU$9)/($CU$10-$CU$9)) -> 5071310.3 | CV92: =EXP($CV$6+($CV$7-$CV$6)*((LN($CV$1-A92))-$CV$9)/($CV$10-$CV$9)) -> 4820330 | CW92: =EXP($CW$6+($CW$7-$CW$6)*((LN($CW$1-A92))-$CW$9)/($CW$10-$CW$9)) -> 4606571.8 | CX92: =EXP($CX$6+($CX$7-$CX$6)*((LN($CX$1-A92))-$CX$9)/($CX$10-$CX$9)) -> 2526637.3 | CY92: =EXP($CY$6+($CY$7-$CY$6)*((LN($CY$1-A92))-$CY$9)/($CY$10-$CY$9)) -> 1776053.5 | CZ92: =EXP($CZ$6+($CZ$7-$CZ$6)*((LN($CZ$1-A92))-$CZ$9)/($CZ$10-$CZ$9)) -> 1188916.8 | DA92: =EXP($DA$6+($DA$7-$DA$6)*((LN($DA$1-A92))-$DA$9)/($DA$10-$DA$9)) -> 870061.18 | DB92: =EXP($DB$6+($DB$7-$DB$6)*((LN($DB$1-A92))-$DB$9)/($DB$10-$DB$9)) -> 674203.98 | DC92: =EXP($DC$6+($DC$7-$DC$6)*((LN($DC$1-A92))-$DC$9)/($DC$10-$DC$9)) -> 543459.72 | DD92: =EXP($DD$6+($DD$7-$DD$6)*((LN($DD$1-A92))-$DD$9)/($DD$10-$DD$9)) -> 450899.66 | DE92: =EXP($DE$6+($DE$7-$DE$6)*((LN($DE$1-A92))-$DE$9)/($DE$10-$DE$9)) -> 382441.17 | DF92: =EXP($DF$6+($DF$7-$DF$6)*((LN($DF$1-A92))-$DF$9)/($DF$10-$DF$9)) -> 330064.15
A93: 80 | CC93: 80 | CD93: =K$2 -> 235800000 | CE93: =U$2 -> 1.9160549e+08 | CF93: =EXP($CF$6+($CF$7-$CF$6)*((LN($CF$1-A93))-$CF$9)/($CF$10-$CF$9)) -> 72927718 | CG93: =EXP($CG$6+($CG$7-$CG$6)*((LN($CG$1-A93))-$CG$9)/($CG$10-$CG$9)) -> 49768227 | CH93: =EXP($CH$6+($CH$7-$CH$6)*((LN($CH$1-A93))-$CH$9)/($CH$10-$CH$9)) -> 39131454 | CI93: =EXP($CI$6+($CI$7-$CI$6)*((LN($CI$1-A93))-$CI$9)/($CI$10-$CI$9)) -> 32381439 | CJ93: =EXP($CJ$6+($CJ$7-$CJ$6)*((LN($CJ$1-A93))-$CJ$9)/($CJ$10-$CJ$9)) -> 27907030 | CK93: =EXP($CK$6+($CK$7-$CK$6)*((LN($CK$1-A93))-$CK$9)/($CK$10-$CK$9)) -> 24690289 | CL93: =EXP($CL$6+($CL$7-$CL$6)*((LN($CL$1-A93))-$CL$9)/($CL$10-$CL$9)) -> 22248943 | CM93: =EXP($CM$6+($CM$7-$CM$6)*((LN($CM$1-A93))-$CM$9)/($CM$10-$CM$9)) -> 20322761 | CN93: =EXP($CN$6+($CN$7-$CN$6)*((LN($CN$1-A93))-$CN$9)/($CN$10-$CN$9)) -> 18758019 | CO93: =EXP($CO$6+($CO$7-$CO$6)*((LN($CO$1-A93))-$CO$9)/($CO$10-$CO$9)) -> 10777798 | CP93: =EXP($CP$6+($CP$7-$CP$6)*((LN($CP$1-A93))-$CP$9)/($CP$10-$CP$9)) -> 7676000 | CQ93: =EXP($CQ$6+($CQ$7-$CQ$6)*((LN($CQ$1-A93))-$CQ$9)/($CQ$10-$CQ$9)) -> 6847654.2 | CR93: =EXP($CR$6+($CR$7-$CR$6)*((LN($CR$1-A93))-$CR$9)/($CR$10-$CR$9)) -> 6214607.7 | CS93: =EXP($CS$6+($CS$7-$CS$6)*((LN($CS$1-A93))-$CS$9)/($CS$10-$CS$9)) -> 5742590.3 | CT93: =EXP($CT$6+($CT$7-$CT$6)*((LN($CT$1-A93))-$CT$9)/($CT$10-$CT$9)) -> 5372411.7 | CU93: =EXP($CU$6+($CU$7-$CU$6)*((LN($CU$1-A93))-$CU$9)/($CU$10-$CU$9)) -> 5071583.6 | CV93: =EXP($CV$6+($CV$7-$CV$6)*((LN($CV$1-A93))-$CV$9)/($CV$10-$CV$9)) -> 4820560.7 | CW93: =EXP($CW$6+($CW$7-$CW$6)*((LN($CW$1-A93))-$CW$9)/($CW$10-$CW$9)) -> 4606770 | CX93: =EXP($CX$6+($CX$7-$CX$6)*((LN($CX$1-A93))-$CX$9)/($CX$10-$CX$9)) -> 2526747.2 | CY93: =EXP($CY$6+($CY$7-$CY$6)*((LN($CY$1-A93))-$CY$9)/($CY$10-$CY$9)) -> 1776104.9 | CZ93: =EXP($CZ$6+($CZ$7-$CZ$6)*((LN($CZ$1-A93))-$CZ$9)/($CZ$10-$CZ$9)) -> 1188958.4 | DA93: =EXP($DA$6+($DA$7-$DA$6)*((LN($DA$1-A93))-$DA$9)/($DA$10-$DA$9)) -> 870085.52 | DB93: =EXP($DB$6+($DB$7-$DB$6)*((LN($DB$1-A93))-$DB$9)/($DB$10-$DB$9)) -> 674219.69 | DC93: =EXP($DC$6+($DC$7-$DC$6)*((LN($DC$1-A93))-$DC$9)/($DC$10-$DC$9)) -> 543470.58 | DD93: =EXP($DD$6+($DD$7-$DD$6)*((LN($DD$1-A93))-$DD$9)/($DD$10-$DD$9)) -> 450907.54 | DE93: =EXP($DE$6+($DE$7-$DE$6)*((LN($DE$1-A93))-$DE$9)/($DE$10-$DE$9)) -> 382447.11 | DF93: =EXP($DF$6+($DF$7-$DF$6)*((LN($DF$1-A93))-$DF$9)/($DF$10-$DF$9)) -> 330068.77
A94: 81 | CC94: 81 | CD94: =J$2 -> 2.4481341e+08 | CE94: =T$2 -> 1.9457097e+08 | CF94: =EXP($CF$6+($CF$7-$CF$6)*((LN($CF$1-A94))-$CF$9)/($CF$10-$CF$9)) -> 73313437 | CG94: =EXP($CG$6+($CG$7-$CG$6)*((LN($CG$1-A94))-$CG$9)/($CG$10-$CG$9)) -> 49911360 | CH94: =EXP($CH$6+($CH$7-$CH$6)*((LN($CH$1-A94))-$CH$9)/($CH$10-$CH$9)) -> 39216825 | CI94: =EXP($CI$6+($CI$7-$CI$6)*((LN($CI$1-A94))-$CI$9)/($CI$10-$CI$9)) -> 32435230 | CJ94: =EXP($CJ$6+($CJ$7-$CJ$6)*((LN($CJ$1-A94))-$CJ$9)/($CJ$10-$CJ$9)) -> 27944459 | CK94: =EXP($CK$6+($CK$7-$CK$6)*((LN($CK$1-A94))-$CK$9)/($CK$10-$CK$9)) -> 24718055 | CL94: =EXP($CL$6+($CL$7-$CL$6)*((LN($CL$1-A94))-$CL$9)/($CL$10-$CL$9)) -> 22270484 | CM94: =EXP($CM$6+($CM$7-$CM$6)*((LN($CM$1-A94))-$CM$9)/($CM$10-$CM$9)) -> 20340035 | CN94: =EXP($CN$6+($CN$7-$CN$6)*((LN($CN$1-A94))-$CN$9)/($CN$10-$CN$9)) -> 18772229 | CO94: =EXP($CO$6+($CO$7-$CO$6)*((LN($CO$1-A94))-$CO$9)/($CO$10-$CO$9)) -> 10782069 | CP94: =EXP($CP$6+($CP$7-$CP$6)*((LN($CP$1-A94))-$CP$9)/($CP$10-$CP$9)) -> 7676000 | CQ94: =EXP($CQ$6+($CQ$7-$CQ$6)*((LN($CQ$1-A94))-$CQ$9)/($CQ$10-$CQ$9)) -> 6848400.1 | CR94: =EXP($CR$6+($CR$7-$CR$6)*((LN($CR$1-A94))-$CR$9)/($CR$10-$CR$9)) -> 6215147 | CS94: =EXP($CS$6+($CS$7-$CS$6)*((LN($CS$1-A94))-$CS$9)/($CS$10-$CS$9)) -> 5743004.5 | CT94: =EXP($CT$6+($CT$7-$CT$6)*((LN($CT$1-A94))-$CT$9)/($CT$10-$CT$9)) -> 5372743.2 | CU94: =EXP($CU$6+($CU$7-$CU$6)*((LN($CU$1-A94))-$CU$9)/($CU$10-$CU$9)) -> 5071857 | CV94: =EXP($CV$6+($CV$7-$CV$6)*((LN($CV$1-A94))-$CV$9)/($CV$10-$CV$9)) -> 4820791.4 | CW94: =EXP($CW$6+($CW$7-$CW$6)*((LN($CW$1-A94))-$CW$9)/($CW$10-$CW$9)) -> 4606968.3 | CX94: =EXP($CX$6+($CX$7-$CX$6)*((LN($CX$1-A94))-$CX$9)/($CX$10-$CX$9)) -> 2526857.1 | CY94: =EXP($CY$6+($CY$7-$CY$6)*((LN($CY$1-A94))-$CY$9)/($CY$10-$CY$9)) -> 1776156.3 | CZ94: =EXP($CZ$6+($CZ$7-$CZ$6)*((LN($CZ$1-A94))-$CZ$9)/($CZ$10-$CZ$9)) -> 1189000 | DA94: =EXP($DA$6+($DA$7-$DA$6)*((LN($DA$1-A94))-$DA$9)/($DA$10-$DA$9)) -> 870109.87 | DB94: =EXP($DB$6+($DB$7-$DB$6)*((LN($DB$1-A94))-$DB$9)/($DB$10-$DB$9)) -> 674235.41 | DC94: =EXP($DC$6+($DC$7-$DC$6)*((LN($DC$1-A94))-$DC$9)/($DC$10-$DC$9)) -> 543481.44 | DD94: =EXP($DD$6+($DD$7-$DD$6)*((LN($DD$1-A94))-$DD$9)/($DD$10-$DD$9)) -> 450915.42 | DE94: =EXP($DE$6+($DE$7-$DE$6)*((LN($DE$1-A94))-$DE$9)/($DE$10-$DE$9)) -> 382453.05 | DF94: =EXP($DF$6+($DF$7-$DF$6)*((LN($DF$1-A94))-$DF$9)/($DF$10-$DF$9)) -> 330073.38
A95: 82 | CC95: 82 | CD95: =I$2 -> 2.5529803e+08 | CE95: =S$2 -> 1.9774653e+08 | CF95: =EXP($CF$6+($CF$7-$CF$6)*((LN($CF$1-A95))-$CF$9)/($CF$10-$CF$9)) -> 73704478 | CG95: =EXP($CG$6+($CG$7-$CG$6)*((LN($CG$1-A95))-$CG$9)/($CG$10-$CG$9)) -> 50055563 | CH95: =EXP($CH$6+($CH$7-$CH$6)*((LN($CH$1-A95))-$CH$9)/($CH$10-$CH$9)) -> 39302652 | CI95: =EXP($CI$6+($CI$7-$CI$6)*((LN($CI$1-A95))-$CI$9)/($CI$10-$CI$9)) -> 32489239 | CJ95: =EXP($CJ$6+($CJ$7-$CJ$6)*((LN($CJ$1-A95))-$CJ$9)/($CJ$10-$CJ$9)) -> 27982010 | CK95: =EXP($CK$6+($CK$7-$CK$6)*((LN($CK$1-A95))-$CK$9)/($CK$10-$CK$9)) -> 24745897 | CL95: =EXP($CL$6+($CL$7-$CL$6)*((LN($CL$1-A95))-$CL$9)/($CL$10-$CL$9)) -> 22292076 | CM95: =EXP($CM$6+($CM$7-$CM$6)*((LN($CM$1-A95))-$CM$9)/($CM$10-$CM$9)) -> 20357345 | CN95: =EXP($CN$6+($CN$7-$CN$6)*((LN($CN$1-A95))-$CN$9)/($CN$10-$CN$9)) -> 18786464 | CO95: =EXP($CO$6+($CO$7-$CO$6)*((LN($CO$1-A95))-$CO$9)/($CO$10-$CO$9)) -> 10786344 | CP95: =EXP($CP$6+($CP$7-$CP$6)*((LN($CP$1-A95))-$CP$9)/($CP$10-$CP$9)) -> 7676000 | CQ95: =EXP($CQ$6+($CQ$7-$CQ$6)*((LN($CQ$1-A95))-$CQ$9)/($CQ$10-$CQ$9)) -> 6849146.3 | CR95: =EXP($CR$6+($CR$7-$CR$6)*((LN($CR$1-A95))-$CR$9)/($CR$10-$CR$9)) -> 6215686.5 | CS95: =EXP($CS$6+($CS$7-$CS$6)*((LN($CS$1-A95))-$CS$9)/($CS$10-$CS$9)) -> 5743418.7 | CT95: =EXP($CT$6+($CT$7-$CT$6)*((LN($CT$1-A95))-$CT$9)/($CT$10-$CT$9)) -> 5373074.7 | CU95: =EXP($CU$6+($CU$7-$CU$6)*((LN($CU$1-A95))-$CU$9)/($CU$10-$CU$9)) -> 5072130.5 | CV95: =EXP($CV$6+($CV$7-$CV$6)*((LN($CV$1-A95))-$CV$9)/($CV$10-$CV$9)) -> 4821022.2 | CW95: =EXP($CW$6+($CW$7-$CW$6)*((LN($CW$1-A95))-$CW$9)/($CW$10-$CW$9)) -> 4607166.6 | CX95: =EXP($CX$6+($CX$7-$CX$6)*((LN($CX$1-A95))-$CX$9)/($CX$10-$CX$9)) -> 2526967 | CY95: =EXP($CY$6+($CY$7-$CY$6)*((LN($CY$1-A95))-$CY$9)/($CY$10-$CY$9)) -> 1776207.8 | CZ95: =EXP($CZ$6+($CZ$7-$CZ$6)*((LN($CZ$1-A95))-$CZ$9)/($CZ$10-$CZ$9)) -> 1189041.6 | DA95: =EXP($DA$6+($DA$7-$DA$6)*((LN($DA$1-A95))-$DA$9)/($DA$10-$DA$9)) -> 870134.22 | DB95: =EXP($DB$6+($DB$7-$DB$6)*((LN($DB$1-A95))-$DB$9)/($DB$10-$DB$9)) -> 674251.13 | DC95: =EXP($DC$6+($DC$7-$DC$6)*((LN($DC$1-A95))-$DC$9)/($DC$10-$DC$9)) -> 543492.3 | DD95: =EXP($DD$6+($DD$7-$DD$6)*((LN($DD$1-A95))-$DD$9)/($DD$10-$DD$9)) -> 450923.3 | DE95: =EXP($DE$6+($DE$7-$DE$6)*((LN($DE$1-A95))-$DE$9)/($DE$10-$DE$9)) -> 382459 | DF95: =EXP($DF$6+($DF$7-$DF$6)*((LN($DF$1-A95))-$DF$9)/($DF$10-$DF$9)) -> 330078
A96: 83 | CC96: 83 | CD96: =H$2 -> 2.6772862e+08 | CE96: =R$2 -> 2.0116002e+08 | CF96: =EXP($CF$6+($CF$7-$CF$6)*((LN($CF$1-A96))-$CF$9)/($CF$10-$CF$9)) -> 74100958 | CG96: =EXP($CG$6+($CG$7-$CG$6)*((LN($CG$1-A96))-$CG$9)/($CG$10-$CG$9)) -> 50200848 | CH96: =EXP($CH$6+($CH$7-$CH$6)*((LN($CH$1-A96))-$CH$9)/($CH$10-$CH$9)) -> 39388937 | CI96: =EXP($CI$6+($CI$7-$CI$6)*((LN($CI$1-A96))-$CI$9)/($CI$10-$CI$9)) -> 32543467 | CJ96: =EXP($CJ$6+($CJ$7-$CJ$6)*((LN($CJ$1-A96))-$CJ$9)/($CJ$10-$CJ$9)) -> 28019684 | CK96: =EXP($CK$6+($CK$7-$CK$6)*((LN($CK$1-A96))-$CK$9)/($CK$10-$CK$9)) -> 24773815 | CL96: =EXP($CL$6+($CL$7-$CL$6)*((LN($CL$1-A96))-$CL$9)/($CL$10-$CL$9)) -> 22313719 | CM96: =EXP($CM$6+($CM$7-$CM$6)*((LN($CM$1-A96))-$CM$9)/($CM$10-$CM$9)) -> 20374691 | CN96: =EXP($CN$6+($CN$7-$CN$6)*((LN($CN$1-A96))-$CN$9)/($CN$10-$CN$9)) -> 18800727 | CO96: =EXP($CO$6+($CO$7-$CO$6)*((LN($CO$1-A96))-$CO$9)/($CO$10-$CO$9)) -> 10790623 | CP96: =EXP($CP$6+($CP$7-$CP$6)*((LN($CP$1-A96))-$CP$9)/($CP$10-$CP$9)) -> 7676000 | CQ96: =EXP($CQ$6+($CQ$7-$CQ$6)*((LN($CQ$1-A96))-$CQ$9)/($CQ$10-$CQ$9)) -> 6849892.7 | CR96: =EXP($CR$6+($CR$7-$CR$6)*((LN($CR$1-A96))-$CR$9)/($CR$10-$CR$9)) -> 6216226.1 | CS96: =EXP($CS$6+($CS$7-$CS$6)*((LN($CS$1-A96))-$CS$9)/($CS$10-$CS$9)) -> 5743833.1 | CT96: =EXP($CT$6+($CT$7-$CT$6)*((LN($CT$1-A96))-$CT$9)/($CT$10-$CT$9)) -> 5373406.3 | CU96: =EXP($CU$6+($CU$7-$CU$6)*((LN($CU$1-A96))-$CU$9)/($CU$10-$CU$9)) -> 5072404 | CV96: =EXP($CV$6+($CV$7-$CV$6)*((LN($CV$1-A96))-$CV$9)/($CV$10-$CV$9)) -> 4821253 | CW96: =EXP($CW$6+($CW$7-$CW$6)*((LN($CW$1-A96))-$CW$9)/($CW$10-$CW$9)) -> 4607364.9 | CX96: =EXP($CX$6+($CX$7-$CX$6)*((LN($CX$1-A96))-$CX$9)/($CX$10-$CX$9)) -> 2527077 | CY96: =EXP($CY$6+($CY$7-$CY$6)*((LN($CY$1-A96))-$CY$9)/($CY$10-$CY$9)) -> 1776259.2 | CZ96: =EXP($CZ$6+($CZ$7-$CZ$6)*((LN($CZ$1-A96))-$CZ$9)/($CZ$10-$CZ$9)) -> 1189083.2 | DA96: =EXP($DA$6+($DA$7-$DA$6)*((LN($DA$1-A96))-$DA$9)/($DA$10-$DA$9)) -> 870158.57 | DB96: =EXP($DB$6+($DB$7-$DB$6)*((LN($DB$1-A96))-$DB$9)/($DB$10-$DB$9)) -> 674266.85 | DC96: =EXP($DC$6+($DC$7-$DC$6)*((LN($DC$1-A96))-$DC$9)/($DC$10-$DC$9)) -> 543503.15 | DD96: =EXP($DD$6+($DD$7-$DD$6)*((LN($DD$1-A96))-$DD$9)/($DD$10-$DD$9)) -> 450931.18 | DE96: =EXP($DE$6+($DE$7-$DE$6)*((LN($DE$1-A96))-$DE$9)/($DE$10-$DE$9)) -> 382464.94 | DF96: =EXP($DF$6+($DF$7-$DF$6)*((LN($DF$1-A96))-$DF$9)/($DF$10-$DF$9)) -> 330082.61
A97: 84 | CC97: 84 | CD97: =G$2 -> 2.8283322e+08 | CE97: =Q$2 -> 2.0484492e+08 | CF97: =EXP($CF$6+($CF$7-$CF$6)*((LN($CF$1-A97))-$CF$9)/($CF$10-$CF$9)) -> 74503003 | CG97: =EXP($CG$6+($CG$7-$CG$6)*((LN($CG$1-A97))-$CG$9)/($CG$10-$CG$9)) -> 50347229 | CH97: =EXP($CH$6+($CH$7-$CH$6)*((LN($CH$1-A97))-$CH$9)/($CH$10-$CH$9)) -> 39475685 | CI97: =EXP($CI$6+($CI$7-$CI$6)*((LN($CI$1-A97))-$CI$9)/($CI$10-$CI$9)) -> 32597917 | CJ97: =EXP($CJ$6+($CJ$7-$CJ$6)*((LN($CJ$1-A97))-$CJ$9)/($CJ$10-$CJ$9)) -> 28057482 | CK97: =EXP($CK$6+($CK$7-$CK$6)*((LN($CK$1-A97))-$CK$9)/($CK$10-$CK$9)) -> 24801811 | CL97: =EXP($CL$6+($CL$7-$CL$6)*((LN($CL$1-A97))-$CL$9)/($CL$10-$CL$9)) -> 22335414 | CM97: =EXP($CM$6+($CM$7-$CM$6)*((LN($CM$1-A97))-$CM$9)/($CM$10-$CM$9)) -> 20392073 | CN97: =EXP($CN$6+($CN$7-$CN$6)*((LN($CN$1-A97))-$CN$9)/($CN$10-$CN$9)) -> 18815015 | CO97: =EXP($CO$6+($CO$7-$CO$6)*((LN($CO$1-A97))-$CO$9)/($CO$10-$CO$9)) -> 10794905 | CP97: =EXP($CP$6+($CP$7-$CP$6)*((LN($CP$1-A97))-$CP$9)/($CP$10-$CP$9)) -> 7676000 | CQ97: =EXP($CQ$6+($CQ$7-$CQ$6)*((LN($CQ$1-A97))-$CQ$9)/($CQ$10-$CQ$9)) -> 6850639.5 | CR97: =EXP($CR$6+($CR$7-$CR$6)*((LN($CR$1-A97))-$CR$9)/($CR$10-$CR$9)) -> 6216765.9 | CS97: =EXP($CS$6+($CS$7-$CS$6)*((LN($CS$1-A97))-$CS$9)/($CS$10-$CS$9)) -> 5744247.6 | CT97: =EXP($CT$6+($CT$7-$CT$6)*((LN($CT$1-A97))-$CT$9)/($CT$10-$CT$9)) -> 5373738 | CU97: =EXP($CU$6+($CU$7-$CU$6)*((LN($CU$1-A97))-$CU$9)/($CU$10-$CU$9)) -> 5072677.6 | CV97: =EXP($CV$6+($CV$7-$CV$6)*((LN($CV$1-A97))-$CV$9)/($CV$10-$CV$9)) -> 4821483.9 | CW97: =EXP($CW$6+($CW$7-$CW$6)*((LN($CW$1-A97))-$CW$9)/($CW$10-$CW$9)) -> 4607563.3 | CX97: =EXP($CX$6+($CX$7-$CX$6)*((LN($CX$1-A97))-$CX$9)/($CX$10-$CX$9)) -> 2527186.9 | CY97: =EXP($CY$6+($CY$7-$CY$6)*((LN($CY$1-A97))-$CY$9)/($CY$10-$CY$9)) -> 1776310.7 | CZ97: =EXP($CZ$6+($CZ$7-$CZ$6)*((LN($CZ$1-A97))-$CZ$9)/($CZ$10-$CZ$9)) -> 1189124.8 | DA97: =EXP($DA$6+($DA$7-$DA$6)*((LN($DA$1-A97))-$DA$9)/($DA$10-$DA$9)) -> 870182.91 | DB97: =EXP($DB$6+($DB$7-$DB$6)*((LN($DB$1-A97))-$DB$9)/($DB$10-$DB$9)) -> 674282.57 | DC97: =EXP($DC$6+($DC$7-$DC$6)*((LN($DC$1-A97))-$DC$9)/($DC$10-$DC$9)) -> 543514.01 | DD97: =EXP($DD$6+($DD$7-$DD$6)*((LN($DD$1-A97))-$DD$9)/($DD$10-$DD$9)) -> 450939.06 | DE97: =EXP($DE$6+($DE$7-$DE$6)*((LN($DE$1-A97))-$DE$9)/($DE$10-$DE$9)) -> 382470.88 | DF97: =EXP($DF$6+($DF$7-$DF$6)*((LN($DF$1-A97))-$DF$9)/($DF$10-$DF$9)) -> 330087.22
A98: 85 | CC98: 85 | CD98: =F$2 -> 3.0180189e+08 | CE98: =P$2 -> 2.0884193e+08 | CF98: =EXP($CF$6+($CF$7-$CF$6)*((LN($CF$1-A98))-$CF$9)/($CF$10-$CF$9)) -> 74910738 | CG98: =EXP($CG$6+($CG$7-$CG$6)*((LN($CG$1-A98))-$CG$9)/($CG$10-$CG$9)) -> 50494719 | CH98: =EXP($CH$6+($CH$7-$CH$6)*((LN($CH$1-A98))-$CH$9)/($CH$10-$CH$9)) -> 39562900 | CI98: =EXP($CI$6+($CI$7-$CI$6)*((LN($CI$1-A98))-$CI$9)/($CI$10-$CI$9)) -> 32652589 | CJ98: =EXP($CJ$6+($CJ$7-$CJ$6)*((LN($CJ$1-A98))-$CJ$9)/($CJ$10-$CJ$9)) -> 28095404 | CK98: =EXP($CK$6+($CK$7-$CK$6)*((LN($CK$1-A98))-$CK$9)/($CK$10-$CK$9)) -> 24829883 | CL98: =EXP($CL$6+($CL$7-$CL$6)*((LN($CL$1-A98))-$CL$9)/($CL$10-$CL$9)) -> 22357160 | CM98: =EXP($CM$6+($CM$7-$CM$6)*((LN($CM$1-A98))-$CM$9)/($CM$10-$CM$9)) -> 20409492 | CN98: =EXP($CN$6+($CN$7-$CN$6)*((LN($CN$1-A98))-$CN$9)/($CN$10-$CN$9)) -> 18829330 | CO98: =EXP($CO$6+($CO$7-$CO$6)*((LN($CO$1-A98))-$CO$9)/($CO$10-$CO$9)) -> 10799192 | CP98: =EXP($CP$6+($CP$7-$CP$6)*((LN($CP$1-A98))-$CP$9)/($CP$10-$CP$9)) -> 7676000 | CQ98: =EXP($CQ$6+($CQ$7-$CQ$6)*((LN($CQ$1-A98))-$CQ$9)/($CQ$10-$CQ$9)) -> 6851386.5 | CR98: =EXP($CR$6+($CR$7-$CR$6)*((LN($CR$1-A98))-$CR$9)/($CR$10-$CR$9)) -> 6217305.9 | CS98: =EXP($CS$6+($CS$7-$CS$6)*((LN($CS$1-A98))-$CS$9)/($CS$10-$CS$9)) -> 5744662.2 | CT98: =EXP($CT$6+($CT$7-$CT$6)*((LN($CT$1-A98))-$CT$9)/($CT$10-$CT$9)) -> 5374069.8 | CU98: =EXP($CU$6+($CU$7-$CU$6)*((LN($CU$1-A98))-$CU$9)/($CU$10-$CU$9)) -> 5072951.2 | CV98: =EXP($CV$6+($CV$7-$CV$6)*((LN($CV$1-A98))-$CV$9)/($CV$10-$CV$9)) -> 4821714.7 | CW98: =EXP($CW$6+($CW$7-$CW$6)*((LN($CW$1-A98))-$CW$9)/($CW$10-$CW$9)) -> 4607761.7 | CX98: =EXP($CX$6+($CX$7-$CX$6)*((LN($CX$1-A98))-$CX$9)/($CX$10-$CX$9)) -> 2527296.9 | CY98: =EXP($CY$6+($CY$7-$CY$6)*((LN($CY$1-A98))-$CY$9)/($CY$10-$CY$9)) -> 1776362.1 | CZ98: =EXP($CZ$6+($CZ$7-$CZ$6)*((LN($CZ$1-A98))-$CZ$9)/($CZ$10-$CZ$9)) -> 1189166.4 | DA98: =EXP($DA$6+($DA$7-$DA$6)*((LN($DA$1-A98))-$DA$9)/($DA$10-$DA$9)) -> 870207.27 | DB98: =EXP($DB$6+($DB$7-$DB$6)*((LN($DB$1-A98))-$DB$9)/($DB$10-$DB$9)) -> 674298.29 | DC98: =EXP($DC$6+($DC$7-$DC$6)*((LN($DC$1-A98))-$DC$9)/($DC$10-$DC$9)) -> 543524.87 | DD98: =EXP($DD$6+($DD$7-$DD$6)*((LN($DD$1-A98))-$DD$9)/($DD$10-$DD$9)) -> 450946.95 | DE98: =EXP($DE$6+($DE$7-$DE$6)*((LN($DE$1-A98))-$DE$9)/($DE$10-$DE$9)) -> 382476.82 | DF98: =EXP($DF$6+($DF$7-$DF$6)*((LN($DF$1-A98))-$DF$9)/($DF$10-$DF$9)) -> 330091.84
A99: 86 | CC99: 86 | CD99: =E$2 -> 3.2675754e+08 | CE99: =O$2 -> 2.132011e+08 | CF99: =EXP($CF$6+($CF$7-$CF$6)*((LN($CF$1-A99))-$CF$9)/($CF$10-$CF$9)) -> 75324295 | CG99: =EXP($CG$6+($CG$7-$CG$6)*((LN($CG$1-A99))-$CG$9)/($CG$10-$CG$9)) -> 50643332 | CH99: =EXP($CH$6+($CH$7-$CH$6)*((LN($CH$1-A99))-$CH$9)/($CH$10-$CH$9)) -> 39650586 | CI99: =EXP($CI$6+($CI$7-$CI$6)*((LN($CI$1-A99))-$CI$9)/($CI$10-$CI$9)) -> 32707485 | CJ99: =EXP($CJ$6+($CJ$7-$CJ$6)*((LN($CJ$1-A99))-$CJ$9)/($CJ$10-$CJ$9)) -> 28133452 | CK99: =EXP($CK$6+($CK$7-$CK$6)*((LN($CK$1-A99))-$CK$9)/($CK$10-$CK$9)) -> 24858034 | CL99: =EXP($CL$6+($CL$7-$CL$6)*((LN($CL$1-A99))-$CL$9)/($CL$10-$CL$9)) -> 22378957 | CM99: =EXP($CM$6+($CM$7-$CM$6)*((LN($CM$1-A99))-$CM$9)/($CM$10-$CM$9)) -> 20426946 | CN99: =EXP($CN$6+($CN$7-$CN$6)*((LN($CN$1-A99))-$CN$9)/($CN$10-$CN$9)) -> 18843672 | CO99: =EXP($CO$6+($CO$7-$CO$6)*((LN($CO$1-A99))-$CO$9)/($CO$10-$CO$9)) -> 10803482 | CP99: =EXP($CP$6+($CP$7-$CP$6)*((LN($CP$1-A99))-$CP$9)/($CP$10-$CP$9)) -> 7676000 | CQ99: =EXP($CQ$6+($CQ$7-$CQ$6)*((LN($CQ$1-A99))-$CQ$9)/($CQ$10-$CQ$9)) -> 6852133.7 | CR99: =EXP($CR$6+($CR$7-$CR$6)*((LN($CR$1-A99))-$CR$9)/($CR$10-$CR$9)) -> 6217846 | CS99: =EXP($CS$6+($CS$7-$CS$6)*((LN($CS$1-A99))-$CS$9)/($CS$10-$CS$9)) -> 5745076.8 | CT99: =EXP($CT$6+($CT$7-$CT$6)*((LN($CT$1-A99))-$CT$9)/($CT$10-$CT$9)) -> 5374401.6 | CU99: =EXP($CU$6+($CU$7-$CU$6)*((LN($CU$1-A99))-$CU$9)/($CU$10-$CU$9)) -> 5073224.8 | CV99: =EXP($CV$6+($CV$7-$CV$6)*((LN($CV$1-A99))-$CV$9)/($CV$10-$CV$9)) -> 4821945.7 | CW99: =EXP($CW$6+($CW$7-$CW$6)*((LN($CW$1-A99))-$CW$9)/($CW$10-$CW$9)) -> 4607960.1 | CX99: =EXP($CX$6+($CX$7-$CX$6)*((LN($CX$1-A99))-$CX$9)/($CX$10-$CX$9)) -> 2527406.9 | CY99: =EXP($CY$6+($CY$7-$CY$6)*((LN($CY$1-A99))-$CY$9)/($CY$10-$CY$9)) -> 1776413.6 | CZ99: =EXP($CZ$6+($CZ$7-$CZ$6)*((LN($CZ$1-A99))-$CZ$9)/($CZ$10-$CZ$9)) -> 1189208.1 | DA99: =EXP($DA$6+($DA$7-$DA$6)*((LN($DA$1-A99))-$DA$9)/($DA$10-$DA$9)) -> 870231.62 | DB99: =EXP($DB$6+($DB$7-$DB$6)*((LN($DB$1-A99))-$DB$9)/($DB$10-$DB$9)) -> 674314.01 | DC99: =EXP($DC$6+($DC$7-$DC$6)*((LN($DC$1-A99))-$DC$9)/($DC$10-$DC$9)) -> 543535.73 | DD99: =EXP($DD$6+($DD$7-$DD$6)*((LN($DD$1-A99))-$DD$9)/($DD$10-$DD$9)) -> 450954.83 | DE99: =EXP($DE$6+($DE$7-$DE$6)*((LN($DE$1-A99))-$DE$9)/($DE$10-$DE$9)) -> 382482.76 | DF99: =EXP($DF$6+($DF$7-$DF$6)*((LN($DF$1-A99))-$DF$9)/($DF$10-$DF$9)) -> 330096.45
A100: 87 | CC100: 87 | CD100: =D$2 -> 362000000 | CE100: =N$2 -> 2.1798486e+08 | CF100: =EXP($CF$6+($CF$7-$CF$6)*((LN($CF$1-A100))-$CF$9)/($CF$10-$CF$9)) -> 75743809 | CG100: =EXP($CG$6+($CG$7-$CG$6)*((LN($CG$1-A100))-$CG$9)/($CG$10-$CG$9)) -> 50793081 | CH100: =EXP($CH$6+($CH$7-$CH$6)*((LN($CH$1-A100))-$CH$9)/($CH$10-$CH$9)) -> 39738747 | CI100: =EXP($CI$6+($CI$7-$CI$6)*((LN($CI$1-A100))-$CI$9)/($CI$10-$CI$9)) -> 32762606 | CJ100: =EXP($CJ$6+($CJ$7-$CJ$6)*((LN($CJ$1-A100))-$CJ$9)/($CJ$10-$CJ$9)) -> 28171625 | CK100: =EXP($CK$6+($CK$7-$CK$6)*((LN($CK$1-A100))-$CK$9)/($CK$10-$CK$9)) -> 24886262 | CL100: =EXP($CL$6+($CL$7-$CL$6)*((LN($CL$1-A100))-$CL$9)/($CL$10-$CL$9)) -> 22400807 | CM100: =EXP($CM$6+($CM$7-$CM$6)*((LN($CM$1-A100))-$CM$9)/($CM$10-$CM$9)) -> 20444437 | CN100: =EXP($CN$6+($CN$7-$CN$6)*((LN($CN$1-A100))-$CN$9)/($CN$10-$CN$9)) -> 18858040 | CO100: =EXP($CO$6+($CO$7-$CO$6)*((LN($CO$1-A100))-$CO$9)/($CO$10-$CO$9)) -> 10807777 | CP100: =EXP($CP$6+($CP$7-$CP$6)*((LN($CP$1-A100))-$CP$9)/($CP$10-$CP$9)) -> 7676000 | CQ100: =EXP($CQ$6+($CQ$7-$CQ$6)*((LN($CQ$1-A100))-$CQ$9)/($CQ$10-$CQ$9)) -> 6852881.2 | CR100: =EXP($CR$6+($CR$7-$CR$6)*((LN($CR$1-A100))-$CR$9)/($CR$10-$CR$9)) -> 6218386.3 | CS100: =EXP($CS$6+($CS$7-$CS$6)*((LN($CS$1-A100))-$CS$9)/($CS$10-$CS$9)) -> 5745491.6 | CT100: =EXP($CT$6+($CT$7-$CT$6)*((LN($CT$1-A100))-$CT$9)/($CT$10-$CT$9)) -> 5374733.5 | CU100: =EXP($CU$6+($CU$7-$CU$6)*((LN($CU$1-A100))-$CU$9)/($CU$10-$CU$9)) -> 5073498.5 | CV100: =EXP($CV$6+($CV$7-$CV$6)*((LN($CV$1-A100))-$CV$9)/($CV$10-$CV$9)) -> 4822176.6 | CW100: =EXP($CW$6+($CW$7-$CW$6)*((LN($CW$1-A100))-$CW$9)/($CW$10-$CW$9)) -> 4608158.5 | CX100: =EXP($CX$6+($CX$7-$CX$6)*((LN($CX$1-A100))-$CX$9)/($CX$10-$CX$9)) -> 2527516.8 | CY100: =EXP($CY$6+($CY$7-$CY$6)*((LN($CY$1-A100))-$CY$9)/($CY$10-$CY$9)) -> 1776465 | CZ100: =EXP($CZ$6+($CZ$7-$CZ$6)*((LN($CZ$1-A100))-$CZ$9)/($CZ$10-$CZ$9)) -> 1189249.7 | DA100: =EXP($DA$6+($DA$7-$DA$6)*((LN($DA$1-A100))-$DA$9)/($DA$10-$DA$9)) -> 870255.97 | DB100: =EXP($DB$6+($DB$7-$DB$6)*((LN($DB$1-A100))-$DB$9)/($DB$10-$DB$9)) -> 674329.73 | DC100: =EXP($DC$6+($DC$7-$DC$6)*((LN($DC$1-A100))-$DC$9)/($DC$10-$DC$9)) -> 543546.59 | DD100: =EXP($DD$6+($DD$7-$DD$6)*((LN($DD$1-A100))-$DD$9)/($DD$10-$DD$9)) -> 450962.71 | DE100: =EXP($DE$6+($DE$7-$DE$6)*((LN($DE$1-A100))-$DE$9)/($DE$10-$DE$9)) -> 382488.7 | DF100: =EXP($DF$6+($DF$7-$DF$6)*((LN($DF$1-A100))-$DF$9)/($DF$10-$DF$9)) -> 330101.07
A101: 88 | CC101: 88 | CD101: =C$2 -> 4.3291797e+08 | CE101: =M$2 -> 2.2327236e+08 | CF101: =EXP($CF$6+($CF$7-$CF$6)*((LN($CF$1-A101))-$CF$9)/($CF$10-$CF$9)) -> 76169420 | CG101: =EXP($CG$6+($CG$7-$CG$6)*((LN($CG$1-A101))-$CG$9)/($CG$10-$CG$9)) -> 50943981 | CH101: =EXP($CH$6+($CH$7-$CH$6)*((LN($CH$1-A101))-$CH$9)/($CH$10-$CH$9)) -> 39827388 | CI101: =EXP($CI$6+($CI$7-$CI$6)*((LN($CI$1-A101))-$CI$9)/($CI$10-$CI$9)) -> 32817954 | CJ101: =EXP($CJ$6+($CJ$7-$CJ$6)*((LN($CJ$1-A101))-$CJ$9)/($CJ$10-$CJ$9)) -> 28209925 | CK101: =EXP($CK$6+($CK$7-$CK$6)*((LN($CK$1-A101))-$CK$9)/($CK$10-$CK$9)) -> 24914568 | CL101: =EXP($CL$6+($CL$7-$CL$6)*((LN($CL$1-A101))-$CL$9)/($CL$10-$CL$9)) -> 22422708 | CM101: =EXP($CM$6+($CM$7-$CM$6)*((LN($CM$1-A101))-$CM$9)/($CM$10-$CM$9)) -> 20461965 | CN101: =EXP($CN$6+($CN$7-$CN$6)*((LN($CN$1-A101))-$CN$9)/($CN$10-$CN$9)) -> 18872435 | CO101: =EXP($CO$6+($CO$7-$CO$6)*((LN($CO$1-A101))-$CO$9)/($CO$10-$CO$9)) -> 10812075 | CP101: =EXP($CP$6+($CP$7-$CP$6)*((LN($CP$1-A101))-$CP$9)/($CP$10-$CP$9)) -> 7676000 | CQ101: =EXP($CQ$6+($CQ$7-$CQ$6)*((LN($CQ$1-A101))-$CQ$9)/($CQ$10-$CQ$9)) -> 6853629.1 | CR101: =EXP($CR$6+($CR$7-$CR$6)*((LN($CR$1-A101))-$CR$9)/($CR$10-$CR$9)) -> 6218926.7 | CS101: =EXP($CS$6+($CS$7-$CS$6)*((LN($CS$1-A101))-$CS$9)/($CS$10-$CS$9)) -> 5745906.5 | CT101: =EXP($CT$6+($CT$7-$CT$6)*((LN($CT$1-A101))-$CT$9)/($CT$10-$CT$9)) -> 5375065.4 | CU101: =EXP($CU$6+($CU$7-$CU$6)*((LN($CU$1-A101))-$CU$9)/($CU$10-$CU$9)) -> 5073772.3 | CV101: =EXP($CV$6+($CV$7-$CV$6)*((LN($CV$1-A101))-$CV$9)/($CV$10-$CV$9)) -> 4822407.6 | CW101: =EXP($CW$6+($CW$7-$CW$6)*((LN($CW$1-A101))-$CW$9)/($CW$10-$CW$9)) -> 4608357 | CX101: =EXP($CX$6+($CX$7-$CX$6)*((LN($CX$1-A101))-$CX$9)/($CX$10-$CX$9)) -> 2527626.8 | CY101: =EXP($CY$6+($CY$7-$CY$6)*((LN($CY$1-A101))-$CY$9)/($CY$10-$CY$9)) -> 1776516.5 | CZ101: =EXP($CZ$6+($CZ$7-$CZ$6)*((LN($CZ$1-A101))-$CZ$9)/($CZ$10-$CZ$9)) -> 1189291.3 | DA101: =EXP($DA$6+($DA$7-$DA$6)*((LN($DA$1-A101))-$DA$9)/($DA$10-$DA$9)) -> 870280.32 | DB101: =EXP($DB$6+($DB$7-$DB$6)*((LN($DB$1-A101))-$DB$9)/($DB$10-$DB$9)) -> 674345.45 | DC101: =EXP($DC$6+($DC$7-$DC$6)*((LN($DC$1-A101))-$DC$9)/($DC$10-$DC$9)) -> 543557.45 | DD101: =EXP($DD$6+($DD$7-$DD$6)*((LN($DD$1-A101))-$DD$9)/($DD$10-$DD$9)) -> 450970.59 | DE101: =EXP($DE$6+($DE$7-$DE$6)*((LN($DE$1-A101))-$DE$9)/($DE$10-$DE$9)) -> 382494.64 | DF101: =EXP($DF$6+($DF$7-$DF$6)*((LN($DF$1-A101))-$DF$9)/($DF$10-$DF$9)) -> 330105.68
A102: 89 | CC102: 89 | CD102: =B$2 -> 587800000 | CE102: =L$2 -> 2.291658e+08 | CF102: =EXP($CF$6+($CF$7-$CF$6)*((LN($CF$1-A102))-$CF$9)/($CF$10-$CF$9)) -> 76601272 | CG102: =EXP($CG$6+($CG$7-$CG$6)*((LN($CG$1-A102))-$CG$9)/($CG$10-$CG$9)) -> 51096046 | CH102: =EXP($CH$6+($CH$7-$CH$6)*((LN($CH$1-A102))-$CH$9)/($CH$10-$CH$9)) -> 39916511 | CI102: =EXP($CI$6+($CI$7-$CI$6)*((LN($CI$1-A102))-$CI$9)/($CI$10-$CI$9)) -> 32873531 | CJ102: =EXP($CJ$6+($CJ$7-$CJ$6)*((LN($CJ$1-A102))-$CJ$9)/($CJ$10-$CJ$9)) -> 28248351 | CK102: =EXP($CK$6+($CK$7-$CK$6)*((LN($CK$1-A102))-$CK$9)/($CK$10-$CK$9)) -> 24942953 | CL102: =EXP($CL$6+($CL$7-$CL$6)*((LN($CL$1-A102))-$CL$9)/($CL$10-$CL$9)) -> 22444662 | CM102: =EXP($CM$6+($CM$7-$CM$6)*((LN($CM$1-A102))-$CM$9)/($CM$10-$CM$9)) -> 20479529 | CN102: =EXP($CN$6+($CN$7-$CN$6)*((LN($CN$1-A102))-$CN$9)/($CN$10-$CN$9)) -> 18886857 | CO102: =EXP($CO$6+($CO$7-$CO$6)*((LN($CO$1-A102))-$CO$9)/($CO$10-$CO$9)) -> 10816377 | CP102: =EXP($CP$6+($CP$7-$CP$6)*((LN($CP$1-A102))-$CP$9)/($CP$10-$CP$9)) -> 7676000 | CQ102: =EXP($CQ$6+($CQ$7-$CQ$6)*((LN($CQ$1-A102))-$CQ$9)/($CQ$10-$CQ$9)) -> 6854377.1 | CR102: =EXP($CR$6+($CR$7-$CR$6)*((LN($CR$1-A102))-$CR$9)/($CR$10-$CR$9)) -> 6219467.3 | CS102: =EXP($CS$6+($CS$7-$CS$6)*((LN($CS$1-A102))-$CS$9)/($CS$10-$CS$9)) -> 5746321.5 | CT102: =EXP($CT$6+($CT$7-$CT$6)*((LN($CT$1-A102))-$CT$9)/($CT$10-$CT$9)) -> 5375397.4 | CU102: =EXP($CU$6+($CU$7-$CU$6)*((LN($CU$1-A102))-$CU$9)/($CU$10-$CU$9)) -> 5074046.1 | CV102: =EXP($CV$6+($CV$7-$CV$6)*((LN($CV$1-A102))-$CV$9)/($CV$10-$CV$9)) -> 4822638.6 | CW102: =EXP($CW$6+($CW$7-$CW$6)*((LN($CW$1-A102))-$CW$9)/($CW$10-$CW$9)) -> 4608555.5 | CX102: =EXP($CX$6+($CX$7-$CX$6)*((LN($CX$1-A102))-$CX$9)/($CX$10-$CX$9)) -> 2527736.8 | CY102: =EXP($CY$6+($CY$7-$CY$6)*((LN($CY$1-A102))-$CY$9)/($CY$10-$CY$9)) -> 1776568 | CZ102: =EXP($CZ$6+($CZ$7-$CZ$6)*((LN($CZ$1-A102))-$CZ$9)/($CZ$10-$CZ$9)) -> 1189332.9 | DA102: =EXP($DA$6+($DA$7-$DA$6)*((LN($DA$1-A102))-$DA$9)/($DA$10-$DA$9)) -> 870304.68 | DB102: =EXP($DB$6+($DB$7-$DB$6)*((LN($DB$1-A102))-$DB$9)/($DB$10-$DB$9)) -> 674361.17 | DC102: =EXP($DC$6+($DC$7-$DC$6)*((LN($DC$1-A102))-$DC$9)/($DC$10-$DC$9)) -> 543568.31 | DD102: =EXP($DD$6+($DD$7-$DD$6)*((LN($DD$1-A102))-$DD$9)/($DD$10-$DD$9)) -> 450978.47 | DE102: =EXP($DE$6+($DE$7-$DE$6)*((LN($DE$1-A102))-$DE$9)/($DE$10-$DE$9)) -> 382500.59 | DF102: =EXP($DF$6+($DF$7-$DF$6)*((LN($DF$1-A102))-$DF$9)/($DF$10-$DF$9)) -> 330110.3
A103: 90 | CC103: 90 | CE103: =K$2 -> 235800000 | CF103: =EXP($CF$6+($CF$7-$CF$6)*((LN($CF$1-A103))-$CF$9)/($CF$10-$CF$9)) -> 77039514 | CG103: =EXP($CG$6+($CG$7-$CG$6)*((LN($CG$1-A103))-$CG$9)/($CG$10-$CG$9)) -> 51249290 | CH103: =EXP($CH$6+($CH$7-$CH$6)*((LN($CH$1-A103))-$CH$9)/($CH$10-$CH$9)) -> 40006122 | CI103: =EXP($CI$6+($CI$7-$CI$6)*((LN($CI$1-A103))-$CI$9)/($CI$10-$CI$9)) -> 32929337 | CJ103: =EXP($CJ$6+($CJ$7-$CJ$6)*((LN($CJ$1-A103))-$CJ$9)/($CJ$10-$CJ$9)) -> 28286906 | CK103: =EXP($CK$6+($CK$7-$CK$6)*((LN($CK$1-A103))-$CK$9)/($CK$10-$CK$9)) -> 24971417 | CL103: =EXP($CL$6+($CL$7-$CL$6)*((LN($CL$1-A103))-$CL$9)/($CL$10-$CL$9)) -> 22466668 | CM103: =EXP($CM$6+($CM$7-$CM$6)*((LN($CM$1-A103))-$CM$9)/($CM$10-$CM$9)) -> 20497130 | CN103: =EXP($CN$6+($CN$7-$CN$6)*((LN($CN$1-A103))-$CN$9)/($CN$10-$CN$9)) -> 18901306 | CO103: =EXP($CO$6+($CO$7-$CO$6)*((LN($CO$1-A103))-$CO$9)/($CO$10-$CO$9)) -> 10820684 | CP103: =EXP($CP$6+($CP$7-$CP$6)*((LN($CP$1-A103))-$CP$9)/($CP$10-$CP$9)) -> 7676000 | CQ103: =EXP($CQ$6+($CQ$7-$CQ$6)*((LN($CQ$1-A103))-$CQ$9)/($CQ$10-$CQ$9)) -> 6855125.5 | CR103: =EXP($CR$6+($CR$7-$CR$6)*((LN($CR$1-A103))-$CR$9)/($CR$10-$CR$9)) -> 6220008.1 | CS103: =EXP($CS$6+($CS$7-$CS$6)*((LN($CS$1-A103))-$CS$9)/($CS$10-$CS$9)) -> 5746736.5 | CT103: =EXP($CT$6+($CT$7-$CT$6)*((LN($CT$1-A103))-$CT$9)/($CT$10-$CT$9)) -> 5375729.5 | CU103: =EXP($CU$6+($CU$7-$CU$6)*((LN($CU$1-A103))-$CU$9)/($CU$10-$CU$9)) -> 5074319.9 | CV103: =EXP($CV$6+($CV$7-$CV$6)*((LN($CV$1-A103))-$CV$9)/($CV$10-$CV$9)) -> 4822869.7 | CW103: =EXP($CW$6+($CW$7-$CW$6)*((LN($CW$1-A103))-$CW$9)/($CW$10-$CW$9)) -> 4608754 | CX103: =EXP($CX$6+($CX$7-$CX$6)*((LN($CX$1-A103))-$CX$9)/($CX$10-$CX$9)) -> 2527846.8 | CY103: =EXP($CY$6+($CY$7-$CY$6)*((LN($CY$1-A103))-$CY$9)/($CY$10-$CY$9)) -> 1776619.4 | CZ103: =EXP($CZ$6+($CZ$7-$CZ$6)*((LN($CZ$1-A103))-$CZ$9)/($CZ$10-$CZ$9)) -> 1189374.5 | DA103: =EXP($DA$6+($DA$7-$DA$6)*((LN($DA$1-A103))-$DA$9)/($DA$10-$DA$9)) -> 870329.04 | DB103: =EXP($DB$6+($DB$7-$DB$6)*((LN($DB$1-A103))-$DB$9)/($DB$10-$DB$9)) -> 674376.89 | DC103: =EXP($DC$6+($DC$7-$DC$6)*((LN($DC$1-A103))-$DC$9)/($DC$10-$DC$9)) -> 543579.17 | DD103: =EXP($DD$6+($DD$7-$DD$6)*((LN($DD$1-A103))-$DD$9)/($DD$10-$DD$9)) -> 450986.36 | DE103: =EXP($DE$6+($DE$7-$DE$6)*((LN($DE$1-A103))-$DE$9)/($DE$10-$DE$9)) -> 382506.53 | DF103: =EXP($DF$6+($DF$7-$DF$6)*((LN($DF$1-A103))-$DF$9)/($DF$10-$DF$9)) -> 330114.91
A104: 91 | CC104: 91 | CE104: =J$2 -> 2.4481341e+08 | CF104: =EXP($CF$6+($CF$7-$CF$6)*((LN($CF$1-A104))-$CF$9)/($CF$10-$CF$9)) -> 77484300 | CG104: =EXP($CG$6+($CG$7-$CG$6)*((LN($CG$1-A104))-$CG$9)/($CG$10-$CG$9)) -> 51403729 | CH104: =EXP($CH$6+($CH$7-$CH$6)*((LN($CH$1-A104))-$CH$9)/($CH$10-$CH$9)) -> 40096224 | CI104: =EXP($CI$6+($CI$7-$CI$6)*((LN($CI$1-A104))-$CI$9)/($CI$10-$CI$9)) -> 32985375 | CJ104: =EXP($CJ$6+($CJ$7-$CJ$6)*((LN($CJ$1-A104))-$CJ$9)/($CJ$10-$CJ$9)) -> 28325589 | CK104: =EXP($CK$6+($CK$7-$CK$6)*((LN($CK$1-A104))-$CK$9)/($CK$10-$CK$9)) -> 24999960 | CL104: =EXP($CL$6+($CL$7-$CL$6)*((LN($CL$1-A104))-$CL$9)/($CL$10-$CL$9)) -> 22488727 | CM104: =EXP($CM$6+($CM$7-$CM$6)*((LN($CM$1-A104))-$CM$9)/($CM$10-$CM$9)) -> 20514768 | CN104: =EXP($CN$6+($CN$7-$CN$6)*((LN($CN$1-A104))-$CN$9)/($CN$10-$CN$9)) -> 18915781 | CO104: =EXP($CO$6+($CO$7-$CO$6)*((LN($CO$1-A104))-$CO$9)/($CO$10-$CO$9)) -> 10824994 | CP104: =EXP($CP$6+($CP$7-$CP$6)*((LN($CP$1-A104))-$CP$9)/($CP$10-$CP$9)) -> 7676000 | CQ104: =EXP($CQ$6+($CQ$7-$CQ$6)*((LN($CQ$1-A104))-$CQ$9)/($CQ$10-$CQ$9)) -> 6855874.1 | CR104: =EXP($CR$6+($CR$7-$CR$6)*((LN($CR$1-A104))-$CR$9)/($CR$10-$CR$9)) -> 6220549 | CS104: =EXP($CS$6+($CS$7-$CS$6)*((LN($CS$1-A104))-$CS$9)/($CS$10-$CS$9)) -> 5747151.7 | CT104: =EXP($CT$6+($CT$7-$CT$6)*((LN($CT$1-A104))-$CT$9)/($CT$10-$CT$9)) -> 5376061.7 | CU104: =EXP($CU$6+($CU$7-$CU$6)*((LN($CU$1-A104))-$CU$9)/($CU$10-$CU$9)) -> 5074593.8 | CV104: =EXP($CV$6+($CV$7-$CV$6)*((LN($CV$1-A104))-$CV$9)/($CV$10-$CV$9)) -> 4823100.8 | CW104: =EXP($CW$6+($CW$7-$CW$6)*((LN($CW$1-A104))-$CW$9)/($CW$10-$CW$9)) -> 4608952.6 | CX104: =EXP($CX$6+($CX$7-$CX$6)*((LN($CX$1-A104))-$CX$9)/($CX$10-$CX$9)) -> 2527956.9 | CY104: =EXP($CY$6+($CY$7-$CY$6)*((LN($CY$1-A104))-$CY$9)/($CY$10-$CY$9)) -> 1776670.9 | CZ104: =EXP($CZ$6+($CZ$7-$CZ$6)*((LN($CZ$1-A104))-$CZ$9)/($CZ$10-$CZ$9)) -> 1189416.2 | DA104: =EXP($DA$6+($DA$7-$DA$6)*((LN($DA$1-A104))-$DA$9)/($DA$10-$DA$9)) -> 870353.39 | DB104: =EXP($DB$6+($DB$7-$DB$6)*((LN($DB$1-A104))-$DB$9)/($DB$10-$DB$9)) -> 674392.61 | DC104: =EXP($DC$6+($DC$7-$DC$6)*((LN($DC$1-A104))-$DC$9)/($DC$10-$DC$9)) -> 543590.03 | DD104: =EXP($DD$6+($DD$7-$DD$6)*((LN($DD$1-A104))-$DD$9)/($DD$10-$DD$9)) -> 450994.24 | DE104: =EXP($DE$6+($DE$7-$DE$6)*((LN($DE$1-A104))-$DE$9)/($DE$10-$DE$9)) -> 382512.47 | DF104: =EXP($DF$6+($DF$7-$DF$6)*((LN($DF$1-A104))-$DF$9)/($DF$10-$DF$9)) -> 330119.53
A105: 92 | CC105: 92 | CE105: =I$2 -> 2.5529803e+08 | CF105: =EXP($CF$6+($CF$7-$CF$6)*((LN($CF$1-A105))-$CF$9)/($CF$10-$CF$9)) -> 77935790 | CG105: =EXP($CG$6+($CG$7-$CG$6)*((LN($CG$1-A105))-$CG$9)/($CG$10-$CG$9)) -> 51559377 | CH105: =EXP($CH$6+($CH$7-$CH$6)*((LN($CH$1-A105))-$CH$9)/($CH$10-$CH$9)) -> 40186823 | CI105: =EXP($CI$6+($CI$7-$CI$6)*((LN($CI$1-A105))-$CI$9)/($CI$10-$CI$9)) -> 33041645 | CJ105: =EXP($CJ$6+($CJ$7-$CJ$6)*((LN($CJ$1-A105))-$CJ$9)/($CJ$10-$CJ$9)) -> 28364401 | CK105: =EXP($CK$6+($CK$7-$CK$6)*((LN($CK$1-A105))-$CK$9)/($CK$10-$CK$9)) -> 25028582 | CL105: =EXP($CL$6+($CL$7-$CL$6)*((LN($CL$1-A105))-$CL$9)/($CL$10-$CL$9)) -> 22510838 | CM105: =EXP($CM$6+($CM$7-$CM$6)*((LN($CM$1-A105))-$CM$9)/($CM$10-$CM$9)) -> 20532442 | CN105: =EXP($CN$6+($CN$7-$CN$6)*((LN($CN$1-A105))-$CN$9)/($CN$10-$CN$9)) -> 18930284 | CO105: =EXP($CO$6+($CO$7-$CO$6)*((LN($CO$1-A105))-$CO$9)/($CO$10-$CO$9)) -> 10829308 | CP105: =EXP($CP$6+($CP$7-$CP$6)*((LN($CP$1-A105))-$CP$9)/($CP$10-$CP$9)) -> 7676000 | CQ105: =EXP($CQ$6+($CQ$7-$CQ$6)*((LN($CQ$1-A105))-$CQ$9)/($CQ$10-$CQ$9)) -> 6856623 | CR105: =EXP($CR$6+($CR$7-$CR$6)*((LN($CR$1-A105))-$CR$9)/($CR$10-$CR$9)) -> 6221090 | CS105: =EXP($CS$6+($CS$7-$CS$6)*((LN($CS$1-A105))-$CS$9)/($CS$10-$CS$9)) -> 5747567 | CT105: =EXP($CT$6+($CT$7-$CT$6)*((LN($CT$1-A105))-$CT$9)/($CT$10-$CT$9)) -> 5376393.9 | CU105: =EXP($CU$6+($CU$7-$CU$6)*((LN($CU$1-A105))-$CU$9)/($CU$10-$CU$9)) -> 5074867.7 | CV105: =EXP($CV$6+($CV$7-$CV$6)*((LN($CV$1-A105))-$CV$9)/($CV$10-$CV$9)) -> 4823332 | CW105: =EXP($CW$6+($CW$7-$CW$6)*((LN($CW$1-A105))-$CW$9)/($CW$10-$CW$9)) -> 4609151.2 | CX105: =EXP($CX$6+($CX$7-$CX$6)*((LN($CX$1-A105))-$CX$9)/($CX$10-$CX$9)) -> 2528066.9 | CY105: =EXP($CY$6+($CY$7-$CY$6)*((LN($CY$1-A105))-$CY$9)/($CY$10-$CY$9)) -> 1776722.4 | CZ105: =EXP($CZ$6+($CZ$7-$CZ$6)*((LN($CZ$1-A105))-$CZ$9)/($CZ$10-$CZ$9)) -> 1189457.8 | DA105: =EXP($DA$6+($DA$7-$DA$6)*((LN($DA$1-A105))-$DA$9)/($DA$10-$DA$9)) -> 870377.75 | DB105: =EXP($DB$6+($DB$7-$DB$6)*((LN($DB$1-A105))-$DB$9)/($DB$10-$DB$9)) -> 674408.34 | DC105: =EXP($DC$6+($DC$7-$DC$6)*((LN($DC$1-A105))-$DC$9)/($DC$10-$DC$9)) -> 543600.89 | DD105: =EXP($DD$6+($DD$7-$DD$6)*((LN($DD$1-A105))-$DD$9)/($DD$10-$DD$9)) -> 451002.12 | DE105: =EXP($DE$6+($DE$7-$DE$6)*((LN($DE$1-A105))-$DE$9)/($DE$10-$DE$9)) -> 382518.41 | DF105: =EXP($DF$6+($DF$7-$DF$6)*((LN($DF$1-A105))-$DF$9)/($DF$10-$DF$9)) -> 330124.14
A106: 93 | CC106: 93 | CE106: =H$2 -> 2.6772862e+08 | CF106: =EXP($CF$6+($CF$7-$CF$6)*((LN($CF$1-A106))-$CF$9)/($CF$10-$CF$9)) -> 78394146 | CG106: =EXP($CG$6+($CG$7-$CG$6)*((LN($CG$1-A106))-$CG$9)/($CG$10-$CG$9)) -> 51716250 | CH106: =EXP($CH$6+($CH$7-$CH$6)*((LN($CH$1-A106))-$CH$9)/($CH$10-$CH$9)) -> 40277922 | CI106: =EXP($CI$6+($CI$7-$CI$6)*((LN($CI$1-A106))-$CI$9)/($CI$10-$CI$9)) -> 33098150 | CJ106: =EXP($CJ$6+($CJ$7-$CJ$6)*((LN($CJ$1-A106))-$CJ$9)/($CJ$10-$CJ$9)) -> 28403343 | CK106: =EXP($CK$6+($CK$7-$CK$6)*((LN($CK$1-A106))-$CK$9)/($CK$10-$CK$9)) -> 25057285 | CL106: =EXP($CL$6+($CL$7-$CL$6)*((LN($CL$1-A106))-$CL$9)/($CL$10-$CL$9)) -> 22533003 | CM106: =EXP($CM$6+($CM$7-$CM$6)*((LN($CM$1-A106))-$CM$9)/($CM$10-$CM$9)) -> 20550154 | CN106: =EXP($CN$6+($CN$7-$CN$6)*((LN($CN$1-A106))-$CN$9)/($CN$10-$CN$9)) -> 18944814 | CO106: =EXP($CO$6+($CO$7-$CO$6)*((LN($CO$1-A106))-$CO$9)/($CO$10-$CO$9)) -> 10833626 | CP106: =EXP($CP$6+($CP$7-$CP$6)*((LN($CP$1-A106))-$CP$9)/($CP$10-$CP$9)) -> 7676000 | CQ106: =EXP($CQ$6+($CQ$7-$CQ$6)*((LN($CQ$1-A106))-$CQ$9)/($CQ$10-$CQ$9)) -> 6857372.2 | CR106: =EXP($CR$6+($CR$7-$CR$6)*((LN($CR$1-A106))-$CR$9)/($CR$10-$CR$9)) -> 6221631.2 | CS106: =EXP($CS$6+($CS$7-$CS$6)*((LN($CS$1-A106))-$CS$9)/($CS$10-$CS$9)) -> 5747982.4 | CT106: =EXP($CT$6+($CT$7-$CT$6)*((LN($CT$1-A106))-$CT$9)/($CT$10-$CT$9)) -> 5376726.2 | CU106: =EXP($CU$6+($CU$7-$CU$6)*((LN($CU$1-A106))-$CU$9)/($CU$10-$CU$9)) -> 5075141.7 | CV106: =EXP($CV$6+($CV$7-$CV$6)*((LN($CV$1-A106))-$CV$9)/($CV$10-$CV$9)) -> 4823563.1 | CW106: =EXP($CW$6+($CW$7-$CW$6)*((LN($CW$1-A106))-$CW$9)/($CW$10-$CW$9)) -> 4609349.8 | CX106: =EXP($CX$6+($CX$7-$CX$6)*((LN($CX$1-A106))-$CX$9)/($CX$10-$CX$9)) -> 2528176.9 | CY106: =EXP($CY$6+($CY$7-$CY$6)*((LN($CY$1-A106))-$CY$9)/($CY$10-$CY$9)) -> 1776773.9 | CZ106: =EXP($CZ$6+($CZ$7-$CZ$6)*((LN($CZ$1-A106))-$CZ$9)/($CZ$10-$CZ$9)) -> 1189499.4 | DA106: =EXP($DA$6+($DA$7-$DA$6)*((LN($DA$1-A106))-$DA$9)/($DA$10-$DA$9)) -> 870402.11 | DB106: =EXP($DB$6+($DB$7-$DB$6)*((LN($DB$1-A106))-$DB$9)/($DB$10-$DB$9)) -> 674424.06 | DC106: =EXP($DC$6+($DC$7-$DC$6)*((LN($DC$1-A106))-$DC$9)/($DC$10-$DC$9)) -> 543611.75 | DD106: =EXP($DD$6+($DD$7-$DD$6)*((LN($DD$1-A106))-$DD$9)/($DD$10-$DD$9)) -> 451010.01 | DE106: =EXP($DE$6+($DE$7-$DE$6)*((LN($DE$1-A106))-$DE$9)/($DE$10-$DE$9)) -> 382524.36 | DF106: =EXP($DF$6+($DF$7-$DF$6)*((LN($DF$1-A106))-$DF$9)/($DF$10-$DF$9)) -> 330128.76
A107: 94 | CC107: 94 | CE107: =G$2 -> 2.8283322e+08 | CF107: =EXP($CF$6+($CF$7-$CF$6)*((LN($CF$1-A107))-$CF$9)/($CF$10-$CF$9)) -> 78859541 | CG107: =EXP($CG$6+($CG$7-$CG$6)*((LN($CG$1-A107))-$CG$9)/($CG$10-$CG$9)) -> 51874363 | CH107: =EXP($CH$6+($CH$7-$CH$6)*((LN($CH$1-A107))-$CH$9)/($CH$10-$CH$9)) -> 40369525 | CI107: =EXP($CI$6+($CI$7-$CI$6)*((LN($CI$1-A107))-$CI$9)/($CI$10-$CI$9)) -> 33154891 | CJ107: =EXP($CJ$6+($CJ$7-$CJ$6)*((LN($CJ$1-A107))-$CJ$9)/($CJ$10-$CJ$9)) -> 28442415 | CK107: =EXP($CK$6+($CK$7-$CK$6)*((LN($CK$1-A107))-$CK$9)/($CK$10-$CK$9)) -> 25086068 | CL107: =EXP($CL$6+($CL$7-$CL$6)*((LN($CL$1-A107))-$CL$9)/($CL$10-$CL$9)) -> 22555221 | CM107: =EXP($CM$6+($CM$7-$CM$6)*((LN($CM$1-A107))-$CM$9)/($CM$10-$CM$9)) -> 20567904 | CN107: =EXP($CN$6+($CN$7-$CN$6)*((LN($CN$1-A107))-$CN$9)/($CN$10-$CN$9)) -> 18959371 | CO107: =EXP($CO$6+($CO$7-$CO$6)*((LN($CO$1-A107))-$CO$9)/($CO$10-$CO$9)) -> 10837949 | CP107: =EXP($CP$6+($CP$7-$CP$6)*((LN($CP$1-A107))-$CP$9)/($CP$10-$CP$9)) -> 7676000 | CQ107: =EXP($CQ$6+($CQ$7-$CQ$6)*((LN($CQ$1-A107))-$CQ$9)/($CQ$10-$CQ$9)) -> 6858121.6 | CR107: =EXP($CR$6+($CR$7-$CR$6)*((LN($CR$1-A107))-$CR$9)/($CR$10-$CR$9)) -> 6222172.6 | CS107: =EXP($CS$6+($CS$7-$CS$6)*((LN($CS$1-A107))-$CS$9)/($CS$10-$CS$9)) -> 5748397.9 | CT107: =EXP($CT$6+($CT$7-$CT$6)*((LN($CT$1-A107))-$CT$9)/($CT$10-$CT$9)) -> 5377058.6 | CU107: =EXP($CU$6+($CU$7-$CU$6)*((LN($CU$1-A107))-$CU$9)/($CU$10-$CU$9)) -> 5075415.8 | CV107: =EXP($CV$6+($CV$7-$CV$6)*((LN($CV$1-A107))-$CV$9)/($CV$10-$CV$9)) -> 4823794.4 | CW107: =EXP($CW$6+($CW$7-$CW$6)*((LN($CW$1-A107))-$CW$9)/($CW$10-$CW$9)) -> 4609548.4 | CX107: =EXP($CX$6+($CX$7-$CX$6)*((LN($CX$1-A107))-$CX$9)/($CX$10-$CX$9)) -> 2528287 | CY107: =EXP($CY$6+($CY$7-$CY$6)*((LN($CY$1-A107))-$CY$9)/($CY$10-$CY$9)) -> 1776825.4 | CZ107: =EXP($CZ$6+($CZ$7-$CZ$6)*((LN($CZ$1-A107))-$CZ$9)/($CZ$10-$CZ$9)) -> 1189541.1 | DA107: =EXP($DA$6+($DA$7-$DA$6)*((LN($DA$1-A107))-$DA$9)/($DA$10-$DA$9)) -> 870426.47 | DB107: =EXP($DB$6+($DB$7-$DB$6)*((LN($DB$1-A107))-$DB$9)/($DB$10-$DB$9)) -> 674439.79 | DC107: =EXP($DC$6+($DC$7-$DC$6)*((LN($DC$1-A107))-$DC$9)/($DC$10-$DC$9)) -> 543622.61 | DD107: =EXP($DD$6+($DD$7-$DD$6)*((LN($DD$1-A107))-$DD$9)/($DD$10-$DD$9)) -> 451017.89 | DE107: =EXP($DE$6+($DE$7-$DE$6)*((LN($DE$1-A107))-$DE$9)/($DE$10-$DE$9)) -> 382530.3 | DF107: =EXP($DF$6+($DF$7-$DF$6)*((LN($DF$1-A107))-$DF$9)/($DF$10-$DF$9)) -> 330133.37
A108: 95 | CC108: 95 | CE108: =F$2 -> 3.0180189e+08 | CF108: =EXP($CF$6+($CF$7-$CF$6)*((LN($CF$1-A108))-$CF$9)/($CF$10-$CF$9)) -> 79332149 | CG108: =EXP($CG$6+($CG$7-$CG$6)*((LN($CG$1-A108))-$CG$9)/($CG$10-$CG$9)) -> 52033733 | CH108: =EXP($CH$6+($CH$7-$CH$6)*((LN($CH$1-A108))-$CH$9)/($CH$10-$CH$9)) -> 40461638 | CI108: =EXP($CI$6+($CI$7-$CI$6)*((LN($CI$1-A108))-$CI$9)/($CI$10-$CI$9)) -> 33211870 | CJ108: =EXP($CJ$6+($CJ$7-$CJ$6)*((LN($CJ$1-A108))-$CJ$9)/($CJ$10-$CJ$9)) -> 28481619 | CK108: =EXP($CK$6+($CK$7-$CK$6)*((LN($CK$1-A108))-$CK$9)/($CK$10-$CK$9)) -> 25114931 | CL108: =EXP($CL$6+($CL$7-$CL$6)*((LN($CL$1-A108))-$CL$9)/($CL$10-$CL$9)) -> 22577492 | CM108: =EXP($CM$6+($CM$7-$CM$6)*((LN($CM$1-A108))-$CM$9)/($CM$10-$CM$9)) -> 20585690 | CN108: =EXP($CN$6+($CN$7-$CN$6)*((LN($CN$1-A108))-$CN$9)/($CN$10-$CN$9)) -> 18973955 | CO108: =EXP($CO$6+($CO$7-$CO$6)*((LN($CO$1-A108))-$CO$9)/($CO$10-$CO$9)) -> 10842275 | CP108: =EXP($CP$6+($CP$7-$CP$6)*((LN($CP$1-A108))-$CP$9)/($CP$10-$CP$9)) -> 7676000 | CQ108: =EXP($CQ$6+($CQ$7-$CQ$6)*((LN($CQ$1-A108))-$CQ$9)/($CQ$10-$CQ$9)) -> 6858871.4 | CR108: =EXP($CR$6+($CR$7-$CR$6)*((LN($CR$1-A108))-$CR$9)/($CR$10-$CR$9)) -> 6222714.1 | CS108: =EXP($CS$6+($CS$7-$CS$6)*((LN($CS$1-A108))-$CS$9)/($CS$10-$CS$9)) -> 5748813.4 | CT108: =EXP($CT$6+($CT$7-$CT$6)*((LN($CT$1-A108))-$CT$9)/($CT$10-$CT$9)) -> 5377391 | CU108: =EXP($CU$6+($CU$7-$CU$6)*((LN($CU$1-A108))-$CU$9)/($CU$10-$CU$9)) -> 5075689.9 | CV108: =EXP($CV$6+($CV$7-$CV$6)*((LN($CV$1-A108))-$CV$9)/($CV$10-$CV$9)) -> 4824025.6 | CW108: =EXP($CW$6+($CW$7-$CW$6)*((LN($CW$1-A108))-$CW$9)/($CW$10-$CW$9)) -> 4609747.1 | CX108: =EXP($CX$6+($CX$7-$CX$6)*((LN($CX$1-A108))-$CX$9)/($CX$10-$CX$9)) -> 2528397.1 | CY108: =EXP($CY$6+($CY$7-$CY$6)*((LN($CY$1-A108))-$CY$9)/($CY$10-$CY$9)) -> 1776876.8 | CZ108: =EXP($CZ$6+($CZ$7-$CZ$6)*((LN($CZ$1-A108))-$CZ$9)/($CZ$10-$CZ$9)) -> 1189582.7 | DA108: =EXP($DA$6+($DA$7-$DA$6)*((LN($DA$1-A108))-$DA$9)/($DA$10-$DA$9)) -> 870450.83 | DB108: =EXP($DB$6+($DB$7-$DB$6)*((LN($DB$1-A108))-$DB$9)/($DB$10-$DB$9)) -> 674455.51 | DC108: =EXP($DC$6+($DC$7-$DC$6)*((LN($DC$1-A108))-$DC$9)/($DC$10-$DC$9)) -> 543633.48 | DD108: =EXP($DD$6+($DD$7-$DD$6)*((LN($DD$1-A108))-$DD$9)/($DD$10-$DD$9)) -> 451025.77 | DE108: =EXP($DE$6+($DE$7-$DE$6)*((LN($DE$1-A108))-$DE$9)/($DE$10-$DE$9)) -> 382536.24 | DF108: =EXP($DF$6+($DF$7-$DF$6)*((LN($DF$1-A108))-$DF$9)/($DF$10-$DF$9)) -> 330137.99
A109: 96 | CC109: 96 | CE109: =E$2 -> 3.2675754e+08 | CF109: =EXP($CF$6+($CF$7-$CF$6)*((LN($CF$1-A109))-$CF$9)/($CF$10-$CF$9)) -> 79812153 | CG109: =EXP($CG$6+($CG$7-$CG$6)*((LN($CG$1-A109))-$CG$9)/($CG$10-$CG$9)) -> 52194376 | CH109: =EXP($CH$6+($CH$7-$CH$6)*((LN($CH$1-A109))-$CH$9)/($CH$10-$CH$9)) -> 40554265 | CI109: =EXP($CI$6+($CI$7-$CI$6)*((LN($CI$1-A109))-$CI$9)/($CI$10-$CI$9)) -> 33269088 | CJ109: =EXP($CJ$6+($CJ$7-$CJ$6)*((LN($CJ$1-A109))-$CJ$9)/($CJ$10-$CJ$9)) -> 28520955 | CK109: =EXP($CK$6+($CK$7-$CK$6)*((LN($CK$1-A109))-$CK$9)/($CK$10-$CK$9)) -> 25143876 | CL109: =EXP($CL$6+($CL$7-$CL$6)*((LN($CL$1-A109))-$CL$9)/($CL$10-$CL$9)) -> 22599817 | CM109: =EXP($CM$6+($CM$7-$CM$6)*((LN($CM$1-A109))-$CM$9)/($CM$10-$CM$9)) -> 20603514 | CN109: =EXP($CN$6+($CN$7-$CN$6)*((LN($CN$1-A109))-$CN$9)/($CN$10-$CN$9)) -> 18988567 | CO109: =EXP($CO$6+($CO$7-$CO$6)*((LN($CO$1-A109))-$CO$9)/($CO$10-$CO$9)) -> 10846605 | CP109: =EXP($CP$6+($CP$7-$CP$6)*((LN($CP$1-A109))-$CP$9)/($CP$10-$CP$9)) -> 7676000 | CQ109: =EXP($CQ$6+($CQ$7-$CQ$6)*((LN($CQ$1-A109))-$CQ$9)/($CQ$10-$CQ$9)) -> 6859621.3 | CR109: =EXP($CR$6+($CR$7-$CR$6)*((LN($CR$1-A109))-$CR$9)/($CR$10-$CR$9)) -> 6223255.8 | CS109: =EXP($CS$6+($CS$7-$CS$6)*((LN($CS$1-A109))-$CS$9)/($CS$10-$CS$9)) -> 5749229.1 | CT109: =EXP($CT$6+($CT$7-$CT$6)*((LN($CT$1-A109))-$CT$9)/($CT$10-$CT$9)) -> 5377723.5 | CU109: =EXP($CU$6+($CU$7-$CU$6)*((LN($CU$1-A109))-$CU$9)/($CU$10-$CU$9)) -> 5075964 | CV109: =EXP($CV$6+($CV$7-$CV$6)*((LN($CV$1-A109))-$CV$9)/($CV$10-$CV$9)) -> 4824256.9 | CW109: =EXP($CW$6+($CW$7-$CW$6)*((LN($CW$1-A109))-$CW$9)/($CW$10-$CW$9)) -> 4609945.8 | CX109: =EXP($CX$6+($CX$7-$CX$6)*((LN($CX$1-A109))-$CX$9)/($CX$10-$CX$9)) -> 2528507.1 | CY109: =EXP($CY$6+($CY$7-$CY$6)*((LN($CY$1-A109))-$CY$9)/($CY$10-$CY$9)) -> 1776928.3 | CZ109: =EXP($CZ$6+($CZ$7-$CZ$6)*((LN($CZ$1-A109))-$CZ$9)/($CZ$10-$CZ$9)) -> 1189624.3 | DA109: =EXP($DA$6+($DA$7-$DA$6)*((LN($DA$1-A109))-$DA$9)/($DA$10-$DA$9)) -> 870475.2 | DB109: =EXP($DB$6+($DB$7-$DB$6)*((LN($DB$1-A109))-$DB$9)/($DB$10-$DB$9)) -> 674471.24 | DC109: =EXP($DC$6+($DC$7-$DC$6)*((LN($DC$1-A109))-$DC$9)/($DC$10-$DC$9)) -> 543644.34 | DD109: =EXP($DD$6+($DD$7-$DD$6)*((LN($DD$1-A109))-$DD$9)/($DD$10-$DD$9)) -> 451033.66 | DE109: =EXP($DE$6+($DE$7-$DE$6)*((LN($DE$1-A109))-$DE$9)/($DE$10-$DE$9)) -> 382542.19 | DF109: =EXP($DF$6+($DF$7-$DF$6)*((LN($DF$1-A109))-$DF$9)/($DF$10-$DF$9)) -> 330142.61
A110: 97 | CC110: 97 | CE110: =D$2 -> 362000000 | CF110: =EXP($CF$6+($CF$7-$CF$6)*((LN($CF$1-A110))-$CF$9)/($CF$10-$CF$9)) -> 80299741 | CG110: =EXP($CG$6+($CG$7-$CG$6)*((LN($CG$1-A110))-$CG$9)/($CG$10-$CG$9)) -> 52356307 | CH110: =EXP($CH$6+($CH$7-$CH$6)*((LN($CH$1-A110))-$CH$9)/($CH$10-$CH$9)) -> 40647409 | CI110: =EXP($CI$6+($CI$7-$CI$6)*((LN($CI$1-A110))-$CI$9)/($CI$10-$CI$9)) -> 33326546 | CJ110: =EXP($CJ$6+($CJ$7-$CJ$6)*((LN($CJ$1-A110))-$CJ$9)/($CJ$10-$CJ$9)) -> 28560423 | CK110: =EXP($CK$6+($CK$7-$CK$6)*((LN($CK$1-A110))-$CK$9)/($CK$10-$CK$9)) -> 25172902 | CL110: =EXP($CL$6+($CL$7-$CL$6)*((LN($CL$1-A110))-$CL$9)/($CL$10-$CL$9)) -> 22622196 | CM110: =EXP($CM$6+($CM$7-$CM$6)*((LN($CM$1-A110))-$CM$9)/($CM$10-$CM$9)) -> 20621376 | CN110: =EXP($CN$6+($CN$7-$CN$6)*((LN($CN$1-A110))-$CN$9)/($CN$10-$CN$9)) -> 19003206 | CO110: =EXP($CO$6+($CO$7-$CO$6)*((LN($CO$1-A110))-$CO$9)/($CO$10-$CO$9)) -> 10850939 | CP110: =EXP($CP$6+($CP$7-$CP$6)*((LN($CP$1-A110))-$CP$9)/($CP$10-$CP$9)) -> 7676000 | CQ110: =EXP($CQ$6+($CQ$7-$CQ$6)*((LN($CQ$1-A110))-$CQ$9)/($CQ$10-$CQ$9)) -> 6860371.6 | CR110: =EXP($CR$6+($CR$7-$CR$6)*((LN($CR$1-A110))-$CR$9)/($CR$10-$CR$9)) -> 6223797.7 | CS110: =EXP($CS$6+($CS$7-$CS$6)*((LN($CS$1-A110))-$CS$9)/($CS$10-$CS$9)) -> 5749644.9 | CT110: =EXP($CT$6+($CT$7-$CT$6)*((LN($CT$1-A110))-$CT$9)/($CT$10-$CT$9)) -> 5378056.1 | CU110: =EXP($CU$6+($CU$7-$CU$6)*((LN($CU$1-A110))-$CU$9)/($CU$10-$CU$9)) -> 5076238.2 | CV110: =EXP($CV$6+($CV$7-$CV$6)*((LN($CV$1-A110))-$CV$9)/($CV$10-$CV$9)) -> 4824488.2 | CW110: =EXP($CW$6+($CW$7-$CW$6)*((LN($CW$1-A110))-$CW$9)/($CW$10-$CW$9)) -> 4610144.5 | CX110: =EXP($CX$6+($CX$7-$CX$6)*((LN($CX$1-A110))-$CX$9)/($CX$10-$CX$9)) -> 2528617.2 | CY110: =EXP($CY$6+($CY$7-$CY$6)*((LN($CY$1-A110))-$CY$9)/($CY$10-$CY$9)) -> 1776979.8 | CZ110: =EXP($CZ$6+($CZ$7-$CZ$6)*((LN($CZ$1-A110))-$CZ$9)/($CZ$10-$CZ$9)) -> 1189666 | DA110: =EXP($DA$6+($DA$7-$DA$6)*((LN($DA$1-A110))-$DA$9)/($DA$10-$DA$9)) -> 870499.56 | DB110: =EXP($DB$6+($DB$7-$DB$6)*((LN($DB$1-A110))-$DB$9)/($DB$10-$DB$9)) -> 674486.97 | DC110: =EXP($DC$6+($DC$7-$DC$6)*((LN($DC$1-A110))-$DC$9)/($DC$10-$DC$9)) -> 543655.2 | DD110: =EXP($DD$6+($DD$7-$DD$6)*((LN($DD$1-A110))-$DD$9)/($DD$10-$DD$9)) -> 451041.54 | DE110: =EXP($DE$6+($DE$7-$DE$6)*((LN($DE$1-A110))-$DE$9)/($DE$10-$DE$9)) -> 382548.13 | DF110: =EXP($DF$6+($DF$7-$DF$6)*((LN($DF$1-A110))-$DF$9)/($DF$10-$DF$9)) -> 330147.22
A111: 98 | CC111: 98 | CE111: =C$2 -> 4.3291797e+08 | CF111: =EXP($CF$6+($CF$7-$CF$6)*((LN($CF$1-A111))-$CF$9)/($CF$10-$CF$9)) -> 80795109 | CG111: =EXP($CG$6+($CG$7-$CG$6)*((LN($CG$1-A111))-$CG$9)/($CG$10-$CG$9)) -> 52519544 | CH111: =EXP($CH$6+($CH$7-$CH$6)*((LN($CH$1-A111))-$CH$9)/($CH$10-$CH$9)) -> 40741077 | CI111: =EXP($CI$6+($CI$7-$CI$6)*((LN($CI$1-A111))-$CI$9)/($CI$10-$CI$9)) -> 33384247 | CJ111: =EXP($CJ$6+($CJ$7-$CJ$6)*((LN($CJ$1-A111))-$CJ$9)/($CJ$10-$CJ$9)) -> 28600024 | CK111: =EXP($CK$6+($CK$7-$CK$6)*((LN($CK$1-A111))-$CK$9)/($CK$10-$CK$9)) -> 25202010 | CL111: =EXP($CL$6+($CL$7-$CL$6)*((LN($CL$1-A111))-$CL$9)/($CL$10-$CL$9)) -> 22644629 | CM111: =EXP($CM$6+($CM$7-$CM$6)*((LN($CM$1-A111))-$CM$9)/($CM$10-$CM$9)) -> 20639276 | CN111: =EXP($CN$6+($CN$7-$CN$6)*((LN($CN$1-A111))-$CN$9)/($CN$10-$CN$9)) -> 19017872 | CO111: =EXP($CO$6+($CO$7-$CO$6)*((LN($CO$1-A111))-$CO$9)/($CO$10-$CO$9)) -> 10855278 | CP111: =EXP($CP$6+($CP$7-$CP$6)*((LN($CP$1-A111))-$CP$9)/($CP$10-$CP$9)) -> 7676000 | CQ111: =EXP($CQ$6+($CQ$7-$CQ$6)*((LN($CQ$1-A111))-$CQ$9)/($CQ$10-$CQ$9)) -> 6861122.2 | CR111: =EXP($CR$6+($CR$7-$CR$6)*((LN($CR$1-A111))-$CR$9)/($CR$10-$CR$9)) -> 6224339.7 | CS111: =EXP($CS$6+($CS$7-$CS$6)*((LN($CS$1-A111))-$CS$9)/($CS$10-$CS$9)) -> 5750060.8 | CT111: =EXP($CT$6+($CT$7-$CT$6)*((LN($CT$1-A111))-$CT$9)/($CT$10-$CT$9)) -> 5378388.8 | CU111: =EXP($CU$6+($CU$7-$CU$6)*((LN($CU$1-A111))-$CU$9)/($CU$10-$CU$9)) -> 5076512.5 | CV111: =EXP($CV$6+($CV$7-$CV$6)*((LN($CV$1-A111))-$CV$9)/($CV$10-$CV$9)) -> 4824719.6 | CW111: =EXP($CW$6+($CW$7-$CW$6)*((LN($CW$1-A111))-$CW$9)/($CW$10-$CW$9)) -> 4610343.3 | CX111: =EXP($CX$6+($CX$7-$CX$6)*((LN($CX$1-A111))-$CX$9)/($CX$10-$CX$9)) -> 2528727.3 | CY111: =EXP($CY$6+($CY$7-$CY$6)*((LN($CY$1-A111))-$CY$9)/($CY$10-$CY$9)) -> 1777031.3 | CZ111: =EXP($CZ$6+($CZ$7-$CZ$6)*((LN($CZ$1-A111))-$CZ$9)/($CZ$10-$CZ$9)) -> 1189707.6 | DA111: =EXP($DA$6+($DA$7-$DA$6)*((LN($DA$1-A111))-$DA$9)/($DA$10-$DA$9)) -> 870523.93 | DB111: =EXP($DB$6+($DB$7-$DB$6)*((LN($DB$1-A111))-$DB$9)/($DB$10-$DB$9)) -> 674502.69 | DC111: =EXP($DC$6+($DC$7-$DC$6)*((LN($DC$1-A111))-$DC$9)/($DC$10-$DC$9)) -> 543666.06 | DD111: =EXP($DD$6+($DD$7-$DD$6)*((LN($DD$1-A111))-$DD$9)/($DD$10-$DD$9)) -> 451049.43 | DE111: =EXP($DE$6+($DE$7-$DE$6)*((LN($DE$1-A111))-$DE$9)/($DE$10-$DE$9)) -> 382554.07 | DF111: =EXP($DF$6+($DF$7-$DF$6)*((LN($DF$1-A111))-$DF$9)/($DF$10-$DF$9)) -> 330151.84
A112: 99 | CC112: 99 | CE112: =B$2 -> 587800000 | CF112: =EXP($CF$6+($CF$7-$CF$6)*((LN($CF$1-A112))-$CF$9)/($CF$10-$CF$9)) -> 81298459 | CG112: =EXP($CG$6+($CG$7-$CG$6)*((LN($CG$1-A112))-$CG$9)/($CG$10-$CG$9)) -> 52684104 | CH112: =EXP($CH$6+($CH$7-$CH$6)*((LN($CH$1-A112))-$CH$9)/($CH$10-$CH$9)) -> 40835272 | CI112: =EXP($CI$6+($CI$7-$CI$6)*((LN($CI$1-A112))-$CI$9)/($CI$10-$CI$9)) -> 33442192 | CJ112: =EXP($CJ$6+($CJ$7-$CJ$6)*((LN($CJ$1-A112))-$CJ$9)/($CJ$10-$CJ$9)) -> 28639760 | CK112: =EXP($CK$6+($CK$7-$CK$6)*((LN($CK$1-A112))-$CK$9)/($CK$10-$CK$9)) -> 25231200 | CL112: =EXP($CL$6+($CL$7-$CL$6)*((LN($CL$1-A112))-$CL$9)/($CL$10-$CL$9)) -> 22667116 | CM112: =EXP($CM$6+($CM$7-$CM$6)*((LN($CM$1-A112))-$CM$9)/($CM$10-$CM$9)) -> 20657213 | CN112: =EXP($CN$6+($CN$7-$CN$6)*((LN($CN$1-A112))-$CN$9)/($CN$10-$CN$9)) -> 19032567 | CO112: =EXP($CO$6+($CO$7-$CO$6)*((LN($CO$1-A112))-$CO$9)/($CO$10-$CO$9)) -> 10859620 | CP112: =EXP($CP$6+($CP$7-$CP$6)*((LN($CP$1-A112))-$CP$9)/($CP$10-$CP$9)) -> 7676000 | CQ112: =EXP($CQ$6+($CQ$7-$CQ$6)*((LN($CQ$1-A112))-$CQ$9)/($CQ$10-$CQ$9)) -> 6861873 | CR112: =EXP($CR$6+($CR$7-$CR$6)*((LN($CR$1-A112))-$CR$9)/($CR$10-$CR$9)) -> 6224881.9 | CS112: =EXP($CS$6+($CS$7-$CS$6)*((LN($CS$1-A112))-$CS$9)/($CS$10-$CS$9)) -> 5750476.7 | CT112: =EXP($CT$6+($CT$7-$CT$6)*((LN($CT$1-A112))-$CT$9)/($CT$10-$CT$9)) -> 5378721.5 | CU112: =EXP($CU$6+($CU$7-$CU$6)*((LN($CU$1-A112))-$CU$9)/($CU$10-$CU$9)) -> 5076786.8 | CV112: =EXP($CV$6+($CV$7-$CV$6)*((LN($CV$1-A112))-$CV$9)/($CV$10-$CV$9)) -> 4824951 | CW112: =EXP($CW$6+($CW$7-$CW$6)*((LN($CW$1-A112))-$CW$9)/($CW$10-$CW$9)) -> 4610542.1 | CX112: =EXP($CX$6+($CX$7-$CX$6)*((LN($CX$1-A112))-$CX$9)/($CX$10-$CX$9)) -> 2528837.4 | CY112: =EXP($CY$6+($CY$7-$CY$6)*((LN($CY$1-A112))-$CY$9)/($CY$10-$CY$9)) -> 1777082.8 | CZ112: =EXP($CZ$6+($CZ$7-$CZ$6)*((LN($CZ$1-A112))-$CZ$9)/($CZ$10-$CZ$9)) -> 1189749.3 | DA112: =EXP($DA$6+($DA$7-$DA$6)*((LN($DA$1-A112))-$DA$9)/($DA$10-$DA$9)) -> 870548.3 | DB112: =EXP($DB$6+($DB$7-$DB$6)*((LN($DB$1-A112))-$DB$9)/($DB$10-$DB$9)) -> 674518.42 | DC112: =EXP($DC$6+($DC$7-$DC$6)*((LN($DC$1-A112))-$DC$9)/($DC$10-$DC$9)) -> 543676.93 | DD112: =EXP($DD$6+($DD$7-$DD$6)*((LN($DD$1-A112))-$DD$9)/($DD$10-$DD$9)) -> 451057.31 | DE112: =EXP($DE$6+($DE$7-$DE$6)*((LN($DE$1-A112))-$DE$9)/($DE$10-$DE$9)) -> 382560.02 | DF112: =EXP($DF$6+($DF$7-$DF$6)*((LN($DF$1-A112))-$DF$9)/($DF$10-$DF$9)) -> 330156.45
A113: 100 | CC113: 100 | CF113: =EXP($CF$6+($CF$7-$CF$6)*((LN($CF$1-A113))-$CF$9)/($CF$10-$CF$9)) -> 81810000 | CG113: =EXP($CG$6+($CG$7-$CG$6)*((LN($CG$1-A113))-$CG$9)/($CG$10-$CG$9)) -> 52850004 | CH113: =EXP($CH$6+($CH$7-$CH$6)*((LN($CH$1-A113))-$CH$9)/($CH$10-$CH$9)) -> 40930000 | CI113: =EXP($CI$6+($CI$7-$CI$6)*((LN($CI$1-A113))-$CI$9)/($CI$10-$CI$9)) -> 33500383 | CJ113: =EXP($CJ$6+($CJ$7-$CJ$6)*((LN($CJ$1-A113))-$CJ$9)/($CJ$10-$CJ$9)) -> 28679630 | CK113: =EXP($CK$6+($CK$7-$CK$6)*((LN($CK$1-A113))-$CK$9)/($CK$10-$CK$9)) -> 25260472 | CL113: =EXP($CL$6+($CL$7-$CL$6)*((LN($CL$1-A113))-$CL$9)/($CL$10-$CL$9)) -> 22689658 | CM113: =EXP($CM$6+($CM$7-$CM$6)*((LN($CM$1-A113))-$CM$9)/($CM$10-$CM$9)) -> 20675189 | CN113: =EXP($CN$6+($CN$7-$CN$6)*((LN($CN$1-A113))-$CN$9)/($CN$10-$CN$9)) -> 19047288 | CO113: =EXP($CO$6+($CO$7-$CO$6)*((LN($CO$1-A113))-$CO$9)/($CO$10-$CO$9)) -> 10863966 | CP113: =EXP($CP$6+($CP$7-$CP$6)*((LN($CP$1-A113))-$CP$9)/($CP$10-$CP$9)) -> 7676000 | CQ113: =EXP($CQ$6+($CQ$7-$CQ$6)*((LN($CQ$1-A113))-$CQ$9)/($CQ$10-$CQ$9)) -> 6862624.1 | CR113: =EXP($CR$6+($CR$7-$CR$6)*((LN($CR$1-A113))-$CR$9)/($CR$10-$CR$9)) -> 6225424.2 | CS113: =EXP($CS$6+($CS$7-$CS$6)*((LN($CS$1-A113))-$CS$9)/($CS$10-$CS$9)) -> 5750892.8 | CT113: =EXP($CT$6+($CT$7-$CT$6)*((LN($CT$1-A113))-$CT$9)/($CT$10-$CT$9)) -> 5379054.3 | CU113: =EXP($CU$6+($CU$7-$CU$6)*((LN($CU$1-A113))-$CU$9)/($CU$10-$CU$9)) -> 5077061.1 | CV113: =EXP($CV$6+($CV$7-$CV$6)*((LN($CV$1-A113))-$CV$9)/($CV$10-$CV$9)) -> 4825182.4 | CW113: =EXP($CW$6+($CW$7-$CW$6)*((LN($CW$1-A113))-$CW$9)/($CW$10-$CW$9)) -> 4610740.9 | CX113: =EXP($CX$6+($CX$7-$CX$6)*((LN($CX$1-A113))-$CX$9)/($CX$10-$CX$9)) -> 2528947.6 | CY113: =EXP($CY$6+($CY$7-$CY$6)*((LN($CY$1-A113))-$CY$9)/($CY$10-$CY$9)) -> 1777134.3 | CZ113: =EXP($CZ$6+($CZ$7-$CZ$6)*((LN($CZ$1-A113))-$CZ$9)/($CZ$10-$CZ$9)) -> 1189790.9 | DA113: =EXP($DA$6+($DA$7-$DA$6)*((LN($DA$1-A113))-$DA$9)/($DA$10-$DA$9)) -> 870572.66 | DB113: =EXP($DB$6+($DB$7-$DB$6)*((LN($DB$1-A113))-$DB$9)/($DB$10-$DB$9)) -> 674534.15 | DC113: =EXP($DC$6+($DC$7-$DC$6)*((LN($DC$1-A113))-$DC$9)/($DC$10-$DC$9)) -> 543687.79 | DD113: =EXP($DD$6+($DD$7-$DD$6)*((LN($DD$1-A113))-$DD$9)/($DD$10-$DD$9)) -> 451065.2 | DE113: =EXP($DE$6+($DE$7-$DE$6)*((LN($DE$1-A113))-$DE$9)/($DE$10-$DE$9)) -> 382565.96 | DF113: =EXP($DF$6+($DF$7-$DF$6)*((LN($DF$1-A113))-$DF$9)/($DF$10-$DF$9)) -> 330161.07
A114: 101 | CC114: 101 | CF114: =CE14 -> 82309802 | CG114: =EXP($CG$6+($CG$7-$CG$6)*((LN($CG$1-A114))-$CG$9)/($CG$10-$CG$9)) -> 53017263 | CH114: =CG14 -> 41016238 | CI114: =EXP($CI$6+($CI$7-$CI$6)*((LN($CI$1-A114))-$CI$9)/($CI$10-$CI$9)) -> 33558820 | CJ114: =EXP($CJ$6+($CJ$7-$CJ$6)*((LN($CJ$1-A114))-$CJ$9)/($CJ$10-$CJ$9)) -> 28719636 | CK114: =EXP($CK$6+($CK$7-$CK$6)*((LN($CK$1-A114))-$CK$9)/($CK$10-$CK$9)) -> 25289827 | CL114: =EXP($CL$6+($CL$7-$CL$6)*((LN($CL$1-A114))-$CL$9)/($CL$10-$CL$9)) -> 22712254 | CM114: =EXP($CM$6+($CM$7-$CM$6)*((LN($CM$1-A114))-$CM$9)/($CM$10-$CM$9)) -> 20693203 | CN114: =EXP($CN$6+($CN$7-$CN$6)*((LN($CN$1-A114))-$CN$9)/($CN$10-$CN$9)) -> 19062038 | CO114: =EXP($CO$6+($CO$7-$CO$6)*((LN($CO$1-A114))-$CO$9)/($CO$10-$CO$9)) -> 10868317 | CP114: =EXP($CP$6+($CP$7-$CP$6)*((LN($CP$1-A114))-$CP$9)/($CP$10-$CP$9)) -> 7676000 | CQ114: =EXP($CQ$6+($CQ$7-$CQ$6)*((LN($CQ$1-A114))-$CQ$9)/($CQ$10-$CQ$9)) -> 6863375.4 | CR114: =EXP($CR$6+($CR$7-$CR$6)*((LN($CR$1-A114))-$CR$9)/($CR$10-$CR$9)) -> 6225966.7 | CS114: =EXP($CS$6+($CS$7-$CS$6)*((LN($CS$1-A114))-$CS$9)/($CS$10-$CS$9)) -> 5751309 | CT114: =EXP($CT$6+($CT$7-$CT$6)*((LN($CT$1-A114))-$CT$9)/($CT$10-$CT$9)) -> 5379387.1 | CU114: =EXP($CU$6+($CU$7-$CU$6)*((LN($CU$1-A114))-$CU$9)/($CU$10-$CU$9)) -> 5077335.5 | CV114: =EXP($CV$6+($CV$7-$CV$6)*((LN($CV$1-A114))-$CV$9)/($CV$10-$CV$9)) -> 4825413.9 | CW114: =EXP($CW$6+($CW$7-$CW$6)*((LN($CW$1-A114))-$CW$9)/($CW$10-$CW$9)) -> 4610939.7 | CX114: =EXP($CX$6+($CX$7-$CX$6)*((LN($CX$1-A114))-$CX$9)/($CX$10-$CX$9)) -> 2529057.7 | CY114: =EXP($CY$6+($CY$7-$CY$6)*((LN($CY$1-A114))-$CY$9)/($CY$10-$CY$9)) -> 1777185.8 | CZ114: =EXP($CZ$6+($CZ$7-$CZ$6)*((LN($CZ$1-A114))-$CZ$9)/($CZ$10-$CZ$9)) -> 1189832.6 | DA114: =EXP($DA$6+($DA$7-$DA$6)*((LN($DA$1-A114))-$DA$9)/($DA$10-$DA$9)) -> 870597.03 | DB114: =EXP($DB$6+($DB$7-$DB$6)*((LN($DB$1-A114))-$DB$9)/($DB$10-$DB$9)) -> 674549.88 | DC114: =EXP($DC$6+($DC$7-$DC$6)*((LN($DC$1-A114))-$DC$9)/($DC$10-$DC$9)) -> 543698.66 | DD114: =EXP($DD$6+($DD$7-$DD$6)*((LN($DD$1-A114))-$DD$9)/($DD$10-$DD$9)) -> 451073.08 | DE114: =EXP($DE$6+($DE$7-$DE$6)*((LN($DE$1-A114))-$DE$9)/($DE$10-$DE$9)) -> 382571.9 | DF114: =EXP($DF$6+($DF$7-$DF$6)*((LN($DF$1-A114))-$DF$9)/($DF$10-$DF$9)) -> 330165.69
A115: 102 | CC115: 102 | CF115: =CE15 -> 82817778 | CG115: =EXP($CG$6+($CG$7-$CG$6)*((LN($CG$1-A115))-$CG$9)/($CG$10-$CG$9)) -> 53185897 | CH115: =CG15 -> 41102948 | CI115: =EXP($CI$6+($CI$7-$CI$6)*((LN($CI$1-A115))-$CI$9)/($CI$10-$CI$9)) -> 33617507 | CJ115: =EXP($CJ$6+($CJ$7-$CJ$6)*((LN($CJ$1-A115))-$CJ$9)/($CJ$10-$CJ$9)) -> 28759778 | CK115: =EXP($CK$6+($CK$7-$CK$6)*((LN($CK$1-A115))-$CK$9)/($CK$10-$CK$9)) -> 25319266 | CL115: =EXP($CL$6+($CL$7-$CL$6)*((LN($CL$1-A115))-$CL$9)/($CL$10-$CL$9)) -> 22734906 | CM115: =EXP($CM$6+($CM$7-$CM$6)*((LN($CM$1-A115))-$CM$9)/($CM$10-$CM$9)) -> 20711255 | CN115: =EXP($CN$6+($CN$7-$CN$6)*((LN($CN$1-A115))-$CN$9)/($CN$10-$CN$9)) -> 19076816 | CO115: =EXP($CO$6+($CO$7-$CO$6)*((LN($CO$1-A115))-$CO$9)/($CO$10-$CO$9)) -> 10872671 | CP115: =EXP($CP$6+($CP$7-$CP$6)*((LN($CP$1-A115))-$CP$9)/($CP$10-$CP$9)) -> 7676000 | CQ115: =EXP($CQ$6+($CQ$7-$CQ$6)*((LN($CQ$1-A115))-$CQ$9)/($CQ$10-$CQ$9)) -> 6864127.1 | CR115: =EXP($CR$6+($CR$7-$CR$6)*((LN($CR$1-A115))-$CR$9)/($CR$10-$CR$9)) -> 6226509.3 | CS115: =EXP($CS$6+($CS$7-$CS$6)*((LN($CS$1-A115))-$CS$9)/($CS$10-$CS$9)) -> 5751725.3 | CT115: =EXP($CT$6+($CT$7-$CT$6)*((LN($CT$1-A115))-$CT$9)/($CT$10-$CT$9)) -> 5379720 | CU115: =EXP($CU$6+($CU$7-$CU$6)*((LN($CU$1-A115))-$CU$9)/($CU$10-$CU$9)) -> 5077609.9 | CV115: =EXP($CV$6+($CV$7-$CV$6)*((LN($CV$1-A115))-$CV$9)/($CV$10-$CV$9)) -> 4825645.4 | CW115: =EXP($CW$6+($CW$7-$CW$6)*((LN($CW$1-A115))-$CW$9)/($CW$10-$CW$9)) -> 4611138.6 | CX115: =EXP($CX$6+($CX$7-$CX$6)*((LN($CX$1-A115))-$CX$9)/($CX$10-$CX$9)) -> 2529167.8 | CY115: =EXP($CY$6+($CY$7-$CY$6)*((LN($CY$1-A115))-$CY$9)/($CY$10-$CY$9)) -> 1777237.3 | CZ115: =EXP($CZ$6+($CZ$7-$CZ$6)*((LN($CZ$1-A115))-$CZ$9)/($CZ$10-$CZ$9)) -> 1189874.2 | DA115: =EXP($DA$6+($DA$7-$DA$6)*((LN($DA$1-A115))-$DA$9)/($DA$10-$DA$9)) -> 870621.4 | DB115: =EXP($DB$6+($DB$7-$DB$6)*((LN($DB$1-A115))-$DB$9)/($DB$10-$DB$9)) -> 674565.61 | DC115: =EXP($DC$6+($DC$7-$DC$6)*((LN($DC$1-A115))-$DC$9)/($DC$10-$DC$9)) -> 543709.52 | DD115: =EXP($DD$6+($DD$7-$DD$6)*((LN($DD$1-A115))-$DD$9)/($DD$10-$DD$9)) -> 451080.97 | DE115: =EXP($DE$6+($DE$7-$DE$6)*((LN($DE$1-A115))-$DE$9)/($DE$10-$DE$9)) -> 382577.85 | DF115: =EXP($DF$6+($DF$7-$DF$6)*((LN($DF$1-A115))-$DF$9)/($DF$10-$DF$9)) -> 330170.3
A116: 103 | CC116: 103 | CF116: =CE16 -> 83334148 | CG116: =EXP($CG$6+($CG$7-$CG$6)*((LN($CG$1-A116))-$CG$9)/($CG$10-$CG$9)) -> 53355925 | CH116: =CG16 -> 41190134 | CI116: =EXP($CI$6+($CI$7-$CI$6)*((LN($CI$1-A116))-$CI$9)/($CI$10-$CI$9)) -> 33676445 | CJ116: =EXP($CJ$6+($CJ$7-$CJ$6)*((LN($CJ$1-A116))-$CJ$9)/($CJ$10-$CJ$9)) -> 28800057 | CK116: =EXP($CK$6+($CK$7-$CK$6)*((LN($CK$1-A116))-$CK$9)/($CK$10-$CK$9)) -> 25348788 | CL116: =EXP($CL$6+($CL$7-$CL$6)*((LN($CL$1-A116))-$CL$9)/($CL$10-$CL$9)) -> 22757612 | CM116: =EXP($CM$6+($CM$7-$CM$6)*((LN($CM$1-A116))-$CM$9)/($CM$10-$CM$9)) -> 20729345 | CN116: =EXP($CN$6+($CN$7-$CN$6)*((LN($CN$1-A116))-$CN$9)/($CN$10-$CN$9)) -> 19091621 | CO116: =EXP($CO$6+($CO$7-$CO$6)*((LN($CO$1-A116))-$CO$9)/($CO$10-$CO$9)) -> 10877029 | CP116: =EXP($CP$6+($CP$7-$CP$6)*((LN($CP$1-A116))-$CP$9)/($CP$10-$CP$9)) -> 7676000 | CQ116: =EXP($CQ$6+($CQ$7-$CQ$6)*((LN($CQ$1-A116))-$CQ$9)/($CQ$10-$CQ$9)) -> 6864879 | CR116: =EXP($CR$6+($CR$7-$CR$6)*((LN($CR$1-A116))-$CR$9)/($CR$10-$CR$9)) -> 6227052.1 | CS116: =EXP($CS$6+($CS$7-$CS$6)*((LN($CS$1-A116))-$CS$9)/($CS$10-$CS$9)) -> 5752141.7 | CT116: =EXP($CT$6+($CT$7-$CT$6)*((LN($CT$1-A116))-$CT$9)/($CT$10-$CT$9)) -> 5380053 | CU116: =EXP($CU$6+($CU$7-$CU$6)*((LN($CU$1-A116))-$CU$9)/($CU$10-$CU$9)) -> 5077884.4 | CV116: =EXP($CV$6+($CV$7-$CV$6)*((LN($CV$1-A116))-$CV$9)/($CV$10-$CV$9)) -> 4825877 | CW116: =EXP($CW$6+($CW$7-$CW$6)*((LN($CW$1-A116))-$CW$9)/($CW$10-$CW$9)) -> 4611337.5 | CX116: =EXP($CX$6+($CX$7-$CX$6)*((LN($CX$1-A116))-$CX$9)/($CX$10-$CX$9)) -> 2529278 | CY116: =EXP($CY$6+($CY$7-$CY$6)*((LN($CY$1-A116))-$CY$9)/($CY$10-$CY$9)) -> 1777288.8 | CZ116: =EXP($CZ$6+($CZ$7-$CZ$6)*((LN($CZ$1-A116))-$CZ$9)/($CZ$10-$CZ$9)) -> 1189915.9 | DA116: =EXP($DA$6+($DA$7-$DA$6)*((LN($DA$1-A116))-$DA$9)/($DA$10-$DA$9)) -> 870645.77 | DB116: =EXP($DB$6+($DB$7-$DB$6)*((LN($DB$1-A116))-$DB$9)/($DB$10-$DB$9)) -> 674581.34 | DC116: =EXP($DC$6+($DC$7-$DC$6)*((LN($DC$1-A116))-$DC$9)/($DC$10-$DC$9)) -> 543720.39 | DD116: =EXP($DD$6+($DD$7-$DD$6)*((LN($DD$1-A116))-$DD$9)/($DD$10-$DD$9)) -> 451088.86 | DE116: =EXP($DE$6+($DE$7-$DE$6)*((LN($DE$1-A116))-$DE$9)/($DE$10-$DE$9)) -> 382583.79 | DF116: =EXP($DF$6+($DF$7-$DF$6)*((LN($DF$1-A116))-$DF$9)/($DF$10-$DF$9)) -> 330174.92
A117: 104 | CC117: 104 | CF117: =CE17 -> 83859138 | CG117: =EXP($CG$6+($CG$7-$CG$6)*((LN($CG$1-A117))-$CG$9)/($CG$10-$CG$9)) -> 53527367 | CH117: =CG17 -> 41277799 | CI117: =EXP($CI$6+($CI$7-$CI$6)*((LN($CI$1-A117))-$CI$9)/($CI$10-$CI$9)) -> 33735634 | CJ117: =EXP($CJ$6+($CJ$7-$CJ$6)*((LN($CJ$1-A117))-$CJ$9)/($CJ$10-$CJ$9)) -> 28840474 | CK117: =EXP($CK$6+($CK$7-$CK$6)*((LN($CK$1-A117))-$CK$9)/($CK$10-$CK$9)) -> 25378394 | CL117: =EXP($CL$6+($CL$7-$CL$6)*((LN($CL$1-A117))-$CL$9)/($CL$10-$CL$9)) -> 22780374 | CM117: =EXP($CM$6+($CM$7-$CM$6)*((LN($CM$1-A117))-$CM$9)/($CM$10-$CM$9)) -> 20747474 | CN117: =EXP($CN$6+($CN$7-$CN$6)*((LN($CN$1-A117))-$CN$9)/($CN$10-$CN$9)) -> 19106455 | CO117: =EXP($CO$6+($CO$7-$CO$6)*((LN($CO$1-A117))-$CO$9)/($CO$10-$CO$9)) -> 10881392 | CP117: =EXP($CP$6+($CP$7-$CP$6)*((LN($CP$1-A117))-$CP$9)/($CP$10-$CP$9)) -> 7676000 | CQ117: =EXP($CQ$6+($CQ$7-$CQ$6)*((LN($CQ$1-A117))-$CQ$9)/($CQ$10-$CQ$9)) -> 6865631.2 | CR117: =EXP($CR$6+($CR$7-$CR$6)*((LN($CR$1-A117))-$CR$9)/($CR$10-$CR$9)) -> 6227595 | CS117: =EXP($CS$6+($CS$7-$CS$6)*((LN($CS$1-A117))-$CS$9)/($CS$10-$CS$9)) -> 5752558.2 | CT117: =EXP($CT$6+($CT$7-$CT$6)*((LN($CT$1-A117))-$CT$9)/($CT$10-$CT$9)) -> 5380386.1 | CU117: =EXP($CU$6+($CU$7-$CU$6)*((LN($CU$1-A117))-$CU$9)/($CU$10-$CU$9)) -> 5078159 | CV117: =EXP($CV$6+($CV$7-$CV$6)*((LN($CV$1-A117))-$CV$9)/($CV$10-$CV$9)) -> 4826108.6 | CW117: =EXP($CW$6+($CW$7-$CW$6)*((LN($CW$1-A117))-$CW$9)/($CW$10-$CW$9)) -> 4611536.5 | CX117: =EXP($CX$6+($CX$7-$CX$6)*((LN($CX$1-A117))-$CX$9)/($CX$10-$CX$9)) -> 2529388.1 | CY117: =EXP($CY$6+($CY$7-$CY$6)*((LN($CY$1-A117))-$CY$9)/($CY$10-$CY$9)) -> 1777340.4 | CZ117: =EXP($CZ$6+($CZ$7-$CZ$6)*((LN($CZ$1-A117))-$CZ$9)/($CZ$10-$CZ$9)) -> 1189957.5 | DA117: =EXP($DA$6+($DA$7-$DA$6)*((LN($DA$1-A117))-$DA$9)/($DA$10-$DA$9)) -> 870670.15 | DB117: =EXP($DB$6+($DB$7-$DB$6)*((LN($DB$1-A117))-$DB$9)/($DB$10-$DB$9)) -> 674597.07 | DC117: =EXP($DC$6+($DC$7-$DC$6)*((LN($DC$1-A117))-$DC$9)/($DC$10-$DC$9)) -> 543731.25 | DD117: =EXP($DD$6+($DD$7-$DD$6)*((LN($DD$1-A117))-$DD$9)/($DD$10-$DD$9)) -> 451096.74 | DE117: =EXP($DE$6+($DE$7-$DE$6)*((LN($DE$1-A117))-$DE$9)/($DE$10-$DE$9)) -> 382589.74 | DF117: =EXP($DF$6+($DF$7-$DF$6)*((LN($DF$1-A117))-$DF$9)/($DF$10-$DF$9)) -> 330179.54
A118: 105 | CC118: 105 | CF118: =CE18 -> 84392986 | CG118: =EXP($CG$6+($CG$7-$CG$6)*((LN($CG$1-A118))-$CG$9)/($CG$10-$CG$9)) -> 53700240 | CH118: =CG18 -> 41365949 | CI118: =EXP($CI$6+($CI$7-$CI$6)*((LN($CI$1-A118))-$CI$9)/($CI$10-$CI$9)) -> 33795078 | CJ118: =EXP($CJ$6+($CJ$7-$CJ$6)*((LN($CJ$1-A118))-$CJ$9)/($CJ$10-$CJ$9)) -> 28881029 | CK118: =EXP($CK$6+($CK$7-$CK$6)*((LN($CK$1-A118))-$CK$9)/($CK$10-$CK$9)) -> 25408085 | CL118: =EXP($CL$6+($CL$7-$CL$6)*((LN($CL$1-A118))-$CL$9)/($CL$10-$CL$9)) -> 22803191 | CM118: =EXP($CM$6+($CM$7-$CM$6)*((LN($CM$1-A118))-$CM$9)/($CM$10-$CM$9)) -> 20765641 | CN118: =EXP($CN$6+($CN$7-$CN$6)*((LN($CN$1-A118))-$CN$9)/($CN$10-$CN$9)) -> 19121316 | CO118: =EXP($CO$6+($CO$7-$CO$6)*((LN($CO$1-A118))-$CO$9)/($CO$10-$CO$9)) -> 10885758 | CP118: =EXP($CP$6+($CP$7-$CP$6)*((LN($CP$1-A118))-$CP$9)/($CP$10-$CP$9)) -> 7676000 | CQ118: =EXP($CQ$6+($CQ$7-$CQ$6)*((LN($CQ$1-A118))-$CQ$9)/($CQ$10-$CQ$9)) -> 6866383.7 | CR118: =EXP($CR$6+($CR$7-$CR$6)*((LN($CR$1-A118))-$CR$9)/($CR$10-$CR$9)) -> 6228138.2 | CS118: =EXP($CS$6+($CS$7-$CS$6)*((LN($CS$1-A118))-$CS$9)/($CS$10-$CS$9)) -> 5752974.7 | CT118: =EXP($CT$6+($CT$7-$CT$6)*((LN($CT$1-A118))-$CT$9)/($CT$10-$CT$9)) -> 5380719.2 | CU118: =EXP($CU$6+($CU$7-$CU$6)*((LN($CU$1-A118))-$CU$9)/($CU$10-$CU$9)) -> 5078433.6 | CV118: =EXP($CV$6+($CV$7-$CV$6)*((LN($CV$1-A118))-$CV$9)/($CV$10-$CV$9)) -> 4826340.2 | CW118: =EXP($CW$6+($CW$7-$CW$6)*((LN($CW$1-A118))-$CW$9)/($CW$10-$CW$9)) -> 4611735.4 | CX118: =EXP($CX$6+($CX$7-$CX$6)*((LN($CX$1-A118))-$CX$9)/($CX$10-$CX$9)) -> 2529498.3 | CY118: =EXP($CY$6+($CY$7-$CY$6)*((LN($CY$1-A118))-$CY$9)/($CY$10-$CY$9)) -> 1777391.9 | CZ118: =EXP($CZ$6+($CZ$7-$CZ$6)*((LN($CZ$1-A118))-$CZ$9)/($CZ$10-$CZ$9)) -> 1189999.2 | DA118: =EXP($DA$6+($DA$7-$DA$6)*((LN($DA$1-A118))-$DA$9)/($DA$10-$DA$9)) -> 870694.52 | DB118: =EXP($DB$6+($DB$7-$DB$6)*((LN($DB$1-A118))-$DB$9)/($DB$10-$DB$9)) -> 674612.8 | DC118: =EXP($DC$6+($DC$7-$DC$6)*((LN($DC$1-A118))-$DC$9)/($DC$10-$DC$9)) -> 543742.12 | DD118: =EXP($DD$6+($DD$7-$DD$6)*((LN($DD$1-A118))-$DD$9)/($DD$10-$DD$9)) -> 451104.63 | DE118: =EXP($DE$6+($DE$7-$DE$6)*((LN($DE$1-A118))-$DE$9)/($DE$10-$DE$9)) -> 382595.68 | DF118: =EXP($DF$6+($DF$7-$DF$6)*((LN($DF$1-A118))-$DF$9)/($DF$10-$DF$9)) -> 330184.15
A119: 106 | CC119: 106 | CF119: =CE19 -> 84935936 | CG119: =EXP($CG$6+($CG$7-$CG$6)*((LN($CG$1-A119))-$CG$9)/($CG$10-$CG$9)) -> 53874565 | CH119: =CG19 -> 41454587 | CI119: =EXP($CI$6+($CI$7-$CI$6)*((LN($CI$1-A119))-$CI$9)/($CI$10-$CI$9)) -> 33854778 | CJ119: =EXP($CJ$6+($CJ$7-$CJ$6)*((LN($CJ$1-A119))-$CJ$9)/($CJ$10-$CJ$9)) -> 28921723 | CK119: =EXP($CK$6+($CK$7-$CK$6)*((LN($CK$1-A119))-$CK$9)/($CK$10-$CK$9)) -> 25437860 | CL119: =EXP($CL$6+($CL$7-$CL$6)*((LN($CL$1-A119))-$CL$9)/($CL$10-$CL$9)) -> 22826064 | CM119: =EXP($CM$6+($CM$7-$CM$6)*((LN($CM$1-A119))-$CM$9)/($CM$10-$CM$9)) -> 20783848 | CN119: =EXP($CN$6+($CN$7-$CN$6)*((LN($CN$1-A119))-$CN$9)/($CN$10-$CN$9)) -> 19136206 | CO119: =EXP($CO$6+($CO$7-$CO$6)*((LN($CO$1-A119))-$CO$9)/($CO$10-$CO$9)) -> 10890129 | CP119: =EXP($CP$6+($CP$7-$CP$6)*((LN($CP$1-A119))-$CP$9)/($CP$10-$CP$9)) -> 7676000 | CQ119: =EXP($CQ$6+($CQ$7-$CQ$6)*((LN($CQ$1-A119))-$CQ$9)/($CQ$10-$CQ$9)) -> 6867136.4 | CR119: =EXP($CR$6+($CR$7-$CR$6)*((LN($CR$1-A119))-$CR$9)/($CR$10-$CR$9)) -> 6228681.4 | CS119: =EXP($CS$6+($CS$7-$CS$6)*((LN($CS$1-A119))-$CS$9)/($CS$10-$CS$9)) -> 5753391.4 | CT119: =EXP($CT$6+($CT$7-$CT$6)*((LN($CT$1-A119))-$CT$9)/($CT$10-$CT$9)) -> 5381052.4 | CU119: =EXP($CU$6+($CU$7-$CU$6)*((LN($CU$1-A119))-$CU$9)/($CU$10-$CU$9)) -> 5078708.2 | CV119: =EXP($CV$6+($CV$7-$CV$6)*((LN($CV$1-A119))-$CV$9)/($CV$10-$CV$9)) -> 4826571.8 | CW119: =EXP($CW$6+($CW$7-$CW$6)*((LN($CW$1-A119))-$CW$9)/($CW$10-$CW$9)) -> 4611934.4 | CX119: =EXP($CX$6+($CX$7-$CX$6)*((LN($CX$1-A119))-$CX$9)/($CX$10-$CX$9)) -> 2529608.5 | CY119: =EXP($CY$6+($CY$7-$CY$6)*((LN($CY$1-A119))-$CY$9)/($CY$10-$CY$9)) -> 1777443.4 | CZ119: =EXP($CZ$6+($CZ$7-$CZ$6)*((LN($CZ$1-A119))-$CZ$9)/($CZ$10-$CZ$9)) -> 1190040.9 | DA119: =EXP($DA$6+($DA$7-$DA$6)*((LN($DA$1-A119))-$DA$9)/($DA$10-$DA$9)) -> 870718.9 | DB119: =EXP($DB$6+($DB$7-$DB$6)*((LN($DB$1-A119))-$DB$9)/($DB$10-$DB$9)) -> 674628.54 | DC119: =EXP($DC$6+($DC$7-$DC$6)*((LN($DC$1-A119))-$DC$9)/($DC$10-$DC$9)) -> 543752.98 | DD119: =EXP($DD$6+($DD$7-$DD$6)*((LN($DD$1-A119))-$DD$9)/($DD$10-$DD$9)) -> 451112.51 | DE119: =EXP($DE$6+($DE$7-$DE$6)*((LN($DE$1-A119))-$DE$9)/($DE$10-$DE$9)) -> 382601.63 | DF119: =EXP($DF$6+($DF$7-$DF$6)*((LN($DF$1-A119))-$DF$9)/($DF$10-$DF$9)) -> 330188.77
A120: 107 | CC120: 107 | CF120: =CE20 -> 85488242 | CG120: =EXP($CG$6+($CG$7-$CG$6)*((LN($CG$1-A120))-$CG$9)/($CG$10-$CG$9)) -> 54050361 | CH120: =CG20 -> 41543718 | CI120: =EXP($CI$6+($CI$7-$CI$6)*((LN($CI$1-A120))-$CI$9)/($CI$10-$CI$9)) -> 33914735 | CJ120: =EXP($CJ$6+($CJ$7-$CJ$6)*((LN($CJ$1-A120))-$CJ$9)/($CJ$10-$CJ$9)) -> 28962558 | CK120: =EXP($CK$6+($CK$7-$CK$6)*((LN($CK$1-A120))-$CK$9)/($CK$10-$CK$9)) -> 25467721 | CL120: =EXP($CL$6+($CL$7-$CL$6)*((LN($CL$1-A120))-$CL$9)/($CL$10-$CL$9)) -> 22848993 | CM120: =EXP($CM$6+($CM$7-$CM$6)*((LN($CM$1-A120))-$CM$9)/($CM$10-$CM$9)) -> 20802093 | CN120: =EXP($CN$6+($CN$7-$CN$6)*((LN($CN$1-A120))-$CN$9)/($CN$10-$CN$9)) -> 19151124 | CO120: =EXP($CO$6+($CO$7-$CO$6)*((LN($CO$1-A120))-$CO$9)/($CO$10-$CO$9)) -> 10894503 | CP120: =EXP($CP$6+($CP$7-$CP$6)*((LN($CP$1-A120))-$CP$9)/($CP$10-$CP$9)) -> 7676000 | CQ120: =EXP($CQ$6+($CQ$7-$CQ$6)*((LN($CQ$1-A120))-$CQ$9)/($CQ$10-$CQ$9)) -> 6867889.4 | CR120: =EXP($CR$6+($CR$7-$CR$6)*((LN($CR$1-A120))-$CR$9)/($CR$10-$CR$9)) -> 6229224.9 | CS120: =EXP($CS$6+($CS$7-$CS$6)*((LN($CS$1-A120))-$CS$9)/($CS$10-$CS$9)) -> 5753808.2 | CT120: =EXP($CT$6+($CT$7-$CT$6)*((LN($CT$1-A120))-$CT$9)/($CT$10-$CT$9)) -> 5381385.7 | CU120: =EXP($CU$6+($CU$7-$CU$6)*((LN($CU$1-A120))-$CU$9)/($CU$10-$CU$9)) -> 5078982.9 | CV120: =EXP($CV$6+($CV$7-$CV$6)*((LN($CV$1-A120))-$CV$9)/($CV$10-$CV$9)) -> 4826803.5 | CW120: =EXP($CW$6+($CW$7-$CW$6)*((LN($CW$1-A120))-$CW$9)/($CW$10-$CW$9)) -> 4612133.4 | CX120: =EXP($CX$6+($CX$7-$CX$6)*((LN($CX$1-A120))-$CX$9)/($CX$10-$CX$9)) -> 2529718.7 | CY120: =EXP($CY$6+($CY$7-$CY$6)*((LN($CY$1-A120))-$CY$9)/($CY$10-$CY$9)) -> 1777494.9 | CZ120: =EXP($CZ$6+($CZ$7-$CZ$6)*((LN($CZ$1-A120))-$CZ$9)/($CZ$10-$CZ$9)) -> 1190082.5 | DA120: =EXP($DA$6+($DA$7-$DA$6)*((LN($DA$1-A120))-$DA$9)/($DA$10-$DA$9)) -> 870743.27 | DB120: =EXP($DB$6+($DB$7-$DB$6)*((LN($DB$1-A120))-$DB$9)/($DB$10-$DB$9)) -> 674644.27 | DC120: =EXP($DC$6+($DC$7-$DC$6)*((LN($DC$1-A120))-$DC$9)/($DC$10-$DC$9)) -> 543763.85 | DD120: =EXP($DD$6+($DD$7-$DD$6)*((LN($DD$1-A120))-$DD$9)/($DD$10-$DD$9)) -> 451120.4 | DE120: =EXP($DE$6+($DE$7-$DE$6)*((LN($DE$1-A120))-$DE$9)/($DE$10-$DE$9)) -> 382607.57 | DF120: =EXP($DF$6+($DF$7-$DF$6)*((LN($DF$1-A120))-$DF$9)/($DF$10-$DF$9)) -> 330193.39
A121: 108 | CC121: 108 | CF121: =CE21 -> 86050169 | CG121: =EXP($CG$6+($CG$7-$CG$6)*((LN($CG$1-A121))-$CG$9)/($CG$10-$CG$9)) -> 54227649 | CH121: =CG21 -> 41633347 | CI121: =EXP($CI$6+($CI$7-$CI$6)*((LN($CI$1-A121))-$CI$9)/($CI$10-$CI$9)) -> 33974952 | CJ121: =EXP($CJ$6+($CJ$7-$CJ$6)*((LN($CJ$1-A121))-$CJ$9)/($CJ$10-$CJ$9)) -> 29003533 | CK121: =EXP($CK$6+($CK$7-$CK$6)*((LN($CK$1-A121))-$CK$9)/($CK$10-$CK$9)) -> 25497667 | CL121: =EXP($CL$6+($CL$7-$CL$6)*((LN($CL$1-A121))-$CL$9)/($CL$10-$CL$9)) -> 22871978 | CM121: =EXP($CM$6+($CM$7-$CM$6)*((LN($CM$1-A121))-$CM$9)/($CM$10-$CM$9)) -> 20820378 | CN121: =EXP($CN$6+($CN$7-$CN$6)*((LN($CN$1-A121))-$CN$9)/($CN$10-$CN$9)) -> 19166070 | CO121: =EXP($CO$6+($CO$7-$CO$6)*((LN($CO$1-A121))-$CO$9)/($CO$10-$CO$9)) -> 10898882 | CP121: =EXP($CP$6+($CP$7-$CP$6)*((LN($CP$1-A121))-$CP$9)/($CP$10-$CP$9)) -> 7676000 | CQ121: =EXP($CQ$6+($CQ$7-$CQ$6)*((LN($CQ$1-A121))-$CQ$9)/($CQ$10-$CQ$9)) -> 6868642.7 | CR121: =EXP($CR$6+($CR$7-$CR$6)*((LN($CR$1-A121))-$CR$9)/($CR$10-$CR$9)) -> 6229768.4 | CS121: =EXP($CS$6+($CS$7-$CS$6)*((LN($CS$1-A121))-$CS$9)/($CS$10-$CS$9)) -> 5754225.1 | CT121: =EXP($CT$6+($CT$7-$CT$6)*((LN($CT$1-A121))-$CT$9)/($CT$10-$CT$9)) -> 5381719 | CU121: =EXP($CU$6+($CU$7-$CU$6)*((LN($CU$1-A121))-$CU$9)/($CU$10-$CU$9)) -> 5079257.6 | CV121: =EXP($CV$6+($CV$7-$CV$6)*((LN($CV$1-A121))-$CV$9)/($CV$10-$CV$9)) -> 4827035.3 | CW121: =EXP($CW$6+($CW$7-$CW$6)*((LN($CW$1-A121))-$CW$9)/($CW$10-$CW$9)) -> 4612332.5 | CX121: =EXP($CX$6+($CX$7-$CX$6)*((LN($CX$1-A121))-$CX$9)/($CX$10-$CX$9)) -> 2529828.9 | CY121: =EXP($CY$6+($CY$7-$CY$6)*((LN($CY$1-A121))-$CY$9)/($CY$10-$CY$9)) -> 1777546.5 | CZ121: =EXP($CZ$6+($CZ$7-$CZ$6)*((LN($CZ$1-A121))-$CZ$9)/($CZ$10-$CZ$9)) -> 1190124.2 | DA121: =EXP($DA$6+($DA$7-$DA$6)*((LN($DA$1-A121))-$DA$9)/($DA$10-$DA$9)) -> 870767.65 | DB121: =EXP($DB$6+($DB$7-$DB$6)*((LN($DB$1-A121))-$DB$9)/($DB$10-$DB$9)) -> 674660 | DC121: =EXP($DC$6+($DC$7-$DC$6)*((LN($DC$1-A121))-$DC$9)/($DC$10-$DC$9)) -> 543774.72 | DD121: =EXP($DD$6+($DD$7-$DD$6)*((LN($DD$1-A121))-$DD$9)/($DD$10-$DD$9)) -> 451128.29 | DE121: =EXP($DE$6+($DE$7-$DE$6)*((LN($DE$1-A121))-$DE$9)/($DE$10-$DE$9)) -> 382613.52 | DF121: =EXP($DF$6+($DF$7-$DF$6)*((LN($DF$1-A121))-$DF$9)/($DF$10-$DF$9)) -> 330198
A122: 109 | CC122: 109 | CF122: =CE22 -> 86621992 | CG122: =EXP($CG$6+($CG$7-$CG$6)*((LN($CG$1-A122))-$CG$9)/($CG$10-$CG$9)) -> 54406448 | CH122: =CG22 -> 41723477 | CI122: =EXP($CI$6+($CI$7-$CI$6)*((LN($CI$1-A122))-$CI$9)/($CI$10-$CI$9)) -> 34035430 | CJ122: =EXP($CJ$6+($CJ$7-$CJ$6)*((LN($CJ$1-A122))-$CJ$9)/($CJ$10-$CJ$9)) -> 29044649 | CK122: =EXP($CK$6+($CK$7-$CK$6)*((LN($CK$1-A122))-$CK$9)/($CK$10-$CK$9)) -> 25527699 | CL122: =EXP($CL$6+($CL$7-$CL$6)*((LN($CL$1-A122))-$CL$9)/($CL$10-$CL$9)) -> 22895020 | CM122: =EXP($CM$6+($CM$7-$CM$6)*((LN($CM$1-A122))-$CM$9)/($CM$10-$CM$9)) -> 20838701 | CN122: =EXP($CN$6+($CN$7-$CN$6)*((LN($CN$1-A122))-$CN$9)/($CN$10-$CN$9)) -> 19181045 | CO122: =EXP($CO$6+($CO$7-$CO$6)*((LN($CO$1-A122))-$CO$9)/($CO$10-$CO$9)) -> 10903265 | CP122: =EXP($CP$6+($CP$7-$CP$6)*((LN($CP$1-A122))-$CP$9)/($CP$10-$CP$9)) -> 7676000 | CQ122: =EXP($CQ$6+($CQ$7-$CQ$6)*((LN($CQ$1-A122))-$CQ$9)/($CQ$10-$CQ$9)) -> 6869396.3 | CR122: =EXP($CR$6+($CR$7-$CR$6)*((LN($CR$1-A122))-$CR$9)/($CR$10-$CR$9)) -> 6230312.2 | CS122: =EXP($CS$6+($CS$7-$CS$6)*((LN($CS$1-A122))-$CS$9)/($CS$10-$CS$9)) -> 5754642.1 | CT122: =EXP($CT$6+($CT$7-$CT$6)*((LN($CT$1-A122))-$CT$9)/($CT$10-$CT$9)) -> 5382052.4 | CU122: =EXP($CU$6+($CU$7-$CU$6)*((LN($CU$1-A122))-$CU$9)/($CU$10-$CU$9)) -> 5079532.4 | CV122: =EXP($CV$6+($CV$7-$CV$6)*((LN($CV$1-A122))-$CV$9)/($CV$10-$CV$9)) -> 4827267.1 | CW122: =EXP($CW$6+($CW$7-$CW$6)*((LN($CW$1-A122))-$CW$9)/($CW$10-$CW$9)) -> 4612531.5 | CX122: =EXP($CX$6+($CX$7-$CX$6)*((LN($CX$1-A122))-$CX$9)/($CX$10-$CX$9)) -> 2529939.1 | CY122: =EXP($CY$6+($CY$7-$CY$6)*((LN($CY$1-A122))-$CY$9)/($CY$10-$CY$9)) -> 1777598 | CZ122: =EXP($CZ$6+($CZ$7-$CZ$6)*((LN($CZ$1-A122))-$CZ$9)/($CZ$10-$CZ$9)) -> 1190165.9 | DA122: =EXP($DA$6+($DA$7-$DA$6)*((LN($DA$1-A122))-$DA$9)/($DA$10-$DA$9)) -> 870792.03 | DB122: =EXP($DB$6+($DB$7-$DB$6)*((LN($DB$1-A122))-$DB$9)/($DB$10-$DB$9)) -> 674675.74 | DC122: =EXP($DC$6+($DC$7-$DC$6)*((LN($DC$1-A122))-$DC$9)/($DC$10-$DC$9)) -> 543785.58 | DD122: =EXP($DD$6+($DD$7-$DD$6)*((LN($DD$1-A122))-$DD$9)/($DD$10-$DD$9)) -> 451136.18 | DE122: =EXP($DE$6+($DE$7-$DE$6)*((LN($DE$1-A122))-$DE$9)/($DE$10-$DE$9)) -> 382619.46 | DF122: =EXP($DF$6+($DF$7-$DF$6)*((LN($DF$1-A122))-$DF$9)/($DF$10-$DF$9)) -> 330202.62
A123: 110 | CC123: 110 | CF123: =CE23 -> 87203996 | CG123: =EXP($CG$6+($CG$7-$CG$6)*((LN($CG$1-A123))-$CG$9)/($CG$10-$CG$9)) -> 54586780 | CH123: =CG23 -> 41814114 | CI123: =EXP($CI$6+($CI$7-$CI$6)*((LN($CI$1-A123))-$CI$9)/($CI$10-$CI$9)) -> 34096170 | CJ123: =EXP($CJ$6+($CJ$7-$CJ$6)*((LN($CJ$1-A123))-$CJ$9)/($CJ$10-$CJ$9)) -> 29085908 | CK123: =EXP($CK$6+($CK$7-$CK$6)*((LN($CK$1-A123))-$CK$9)/($CK$10-$CK$9)) -> 25557817 | CL123: =EXP($CL$6+($CL$7-$CL$6)*((LN($CL$1-A123))-$CL$9)/($CL$10-$CL$9)) -> 22918118 | CM123: =EXP($CM$6+($CM$7-$CM$6)*((LN($CM$1-A123))-$CM$9)/($CM$10-$CM$9)) -> 20857064 | CN123: =EXP($CN$6+($CN$7-$CN$6)*((LN($CN$1-A123))-$CN$9)/($CN$10-$CN$9)) -> 19196049 | CO123: =EXP($CO$6+($CO$7-$CO$6)*((LN($CO$1-A123))-$CO$9)/($CO$10-$CO$9)) -> 10907652 | CP123: =EXP($CP$6+($CP$7-$CP$6)*((LN($CP$1-A123))-$CP$9)/($CP$10-$CP$9)) -> 7676000 | CQ123: =EXP($CQ$6+($CQ$7-$CQ$6)*((LN($CQ$1-A123))-$CQ$9)/($CQ$10-$CQ$9)) -> 6870150.1 | CR123: =EXP($CR$6+($CR$7-$CR$6)*((LN($CR$1-A123))-$CR$9)/($CR$10-$CR$9)) -> 6230856.1 | CS123: =EXP($CS$6+($CS$7-$CS$6)*((LN($CS$1-A123))-$CS$9)/($CS$10-$CS$9)) -> 5755059.2 | CT123: =EXP($CT$6+($CT$7-$CT$6)*((LN($CT$1-A123))-$CT$9)/($CT$10-$CT$9)) -> 5382385.9 | CU123: =EXP($CU$6+($CU$7-$CU$6)*((LN($CU$1-A123))-$CU$9)/($CU$10-$CU$9)) -> 5079807.2 | CV123: =EXP($CV$6+($CV$7-$CV$6)*((LN($CV$1-A123))-$CV$9)/($CV$10-$CV$9)) -> 4827498.9 | CW123: =EXP($CW$6+($CW$7-$CW$6)*((LN($CW$1-A123))-$CW$9)/($CW$10-$CW$9)) -> 4612730.6 | CX123: =EXP($CX$6+($CX$7-$CX$6)*((LN($CX$1-A123))-$CX$9)/($CX$10-$CX$9)) -> 2530049.3 | CY123: =EXP($CY$6+($CY$7-$CY$6)*((LN($CY$1-A123))-$CY$9)/($CY$10-$CY$9)) -> 1777649.5 | CZ123: =EXP($CZ$6+($CZ$7-$CZ$6)*((LN($CZ$1-A123))-$CZ$9)/($CZ$10-$CZ$9)) -> 1190207.6 | DA123: =EXP($DA$6+($DA$7-$DA$6)*((LN($DA$1-A123))-$DA$9)/($DA$10-$DA$9)) -> 870816.41 | DB123: =EXP($DB$6+($DB$7-$DB$6)*((LN($DB$1-A123))-$DB$9)/($DB$10-$DB$9)) -> 674691.47 | DC123: =EXP($DC$6+($DC$7-$DC$6)*((LN($DC$1-A123))-$DC$9)/($DC$10-$DC$9)) -> 543796.45 | DD123: =EXP($DD$6+($DD$7-$DD$6)*((LN($DD$1-A123))-$DD$9)/($DD$10-$DD$9)) -> 451144.06 | DE123: =EXP($DE$6+($DE$7-$DE$6)*((LN($DE$1-A123))-$DE$9)/($DE$10-$DE$9)) -> 382625.41 | DF123: =EXP($DF$6+($DF$7-$DF$6)*((LN($DF$1-A123))-$DF$9)/($DF$10-$DF$9)) -> 330207.24
A124: 111 | CC124: 111 | CF124: =CE24 -> 87796480 | CG124: =EXP($CG$6+($CG$7-$CG$6)*((LN($CG$1-A124))-$CG$9)/($CG$10-$CG$9)) -> 54768667 | CH124: =CG24 -> 41905262 | CI124: =EXP($CI$6+($CI$7-$CI$6)*((LN($CI$1-A124))-$CI$9)/($CI$10-$CI$9)) -> 34157176 | CJ124: =EXP($CJ$6+($CJ$7-$CJ$6)*((LN($CJ$1-A124))-$CJ$9)/($CJ$10-$CJ$9)) -> 29127310 | CK124: =EXP($CK$6+($CK$7-$CK$6)*((LN($CK$1-A124))-$CK$9)/($CK$10-$CK$9)) -> 25588022 | CL124: =EXP($CL$6+($CL$7-$CL$6)*((LN($CL$1-A124))-$CL$9)/($CL$10-$CL$9)) -> 22941273 | CM124: =EXP($CM$6+($CM$7-$CM$6)*((LN($CM$1-A124))-$CM$9)/($CM$10-$CM$9)) -> 20875466 | CN124: =EXP($CN$6+($CN$7-$CN$6)*((LN($CN$1-A124))-$CN$9)/($CN$10-$CN$9)) -> 19211081 | CO124: =EXP($CO$6+($CO$7-$CO$6)*((LN($CO$1-A124))-$CO$9)/($CO$10-$CO$9)) -> 10912043 | CP124: =EXP($CP$6+($CP$7-$CP$6)*((LN($CP$1-A124))-$CP$9)/($CP$10-$CP$9)) -> 7676000 | CQ124: =EXP($CQ$6+($CQ$7-$CQ$6)*((LN($CQ$1-A124))-$CQ$9)/($CQ$10-$CQ$9)) -> 6870904.3 | CR124: =EXP($CR$6+($CR$7-$CR$6)*((LN($CR$1-A124))-$CR$9)/($CR$10-$CR$9)) -> 6231400.2 | CS124: =EXP($CS$6+($CS$7-$CS$6)*((LN($CS$1-A124))-$CS$9)/($CS$10-$CS$9)) -> 5755476.4 | CT124: =EXP($CT$6+($CT$7-$CT$6)*((LN($CT$1-A124))-$CT$9)/($CT$10-$CT$9)) -> 5382719.4 | CU124: =EXP($CU$6+($CU$7-$CU$6)*((LN($CU$1-A124))-$CU$9)/($CU$10-$CU$9)) -> 5080082.1 | CV124: =EXP($CV$6+($CV$7-$CV$6)*((LN($CV$1-A124))-$CV$9)/($CV$10-$CV$9)) -> 4827730.7 | CW124: =EXP($CW$6+($CW$7-$CW$6)*((LN($CW$1-A124))-$CW$9)/($CW$10-$CW$9)) -> 4612929.8 | CX124: =EXP($CX$6+($CX$7-$CX$6)*((LN($CX$1-A124))-$CX$9)/($CX$10-$CX$9)) -> 2530159.5 | CY124: =EXP($CY$6+($CY$7-$CY$6)*((LN($CY$1-A124))-$CY$9)/($CY$10-$CY$9)) -> 1777701.1 | CZ124: =EXP($CZ$6+($CZ$7-$CZ$6)*((LN($CZ$1-A124))-$CZ$9)/($CZ$10-$CZ$9)) -> 1190249.2 | DA124: =EXP($DA$6+($DA$7-$DA$6)*((LN($DA$1-A124))-$DA$9)/($DA$10-$DA$9)) -> 870840.79 | DB124: =EXP($DB$6+($DB$7-$DB$6)*((LN($DB$1-A124))-$DB$9)/($DB$10-$DB$9)) -> 674707.21 | DC124: =EXP($DC$6+($DC$7-$DC$6)*((LN($DC$1-A124))-$DC$9)/($DC$10-$DC$9)) -> 543807.32 | DD124: =EXP($DD$6+($DD$7-$DD$6)*((LN($DD$1-A124))-$DD$9)/($DD$10-$DD$9)) -> 451151.95 | DE124: =EXP($DE$6+($DE$7-$DE$6)*((LN($DE$1-A124))-$DE$9)/($DE$10-$DE$9)) -> 382631.35 | DF124: =EXP($DF$6+($DF$7-$DF$6)*((LN($DF$1-A124))-$DF$9)/($DF$10-$DF$9)) -> 330211.85
A125: 112 | CC125: 112 | CF125: =CE25 -> 88399753 | CG125: =EXP($CG$6+($CG$7-$CG$6)*((LN($CG$1-A125))-$CG$9)/($CG$10-$CG$9)) -> 54952129 | CH125: =CG25 -> 41996925 | CI125: =EXP($CI$6+($CI$7-$CI$6)*((LN($CI$1-A125))-$CI$9)/($CI$10-$CI$9)) -> 34218448 | CJ125: =EXP($CJ$6+($CJ$7-$CJ$6)*((LN($CJ$1-A125))-$CJ$9)/($CJ$10-$CJ$9)) -> 29168856 | CK125: =EXP($CK$6+($CK$7-$CK$6)*((LN($CK$1-A125))-$CK$9)/($CK$10-$CK$9)) -> 25618314 | CL125: =EXP($CL$6+($CL$7-$CL$6)*((LN($CL$1-A125))-$CL$9)/($CL$10-$CL$9)) -> 22964485 | CM125: =EXP($CM$6+($CM$7-$CM$6)*((LN($CM$1-A125))-$CM$9)/($CM$10-$CM$9)) -> 20893908 | CN125: =EXP($CN$6+($CN$7-$CN$6)*((LN($CN$1-A125))-$CN$9)/($CN$10-$CN$9)) -> 19226142 | CO125: =EXP($CO$6+($CO$7-$CO$6)*((LN($CO$1-A125))-$CO$9)/($CO$10-$CO$9)) -> 10916438 | CP125: =EXP($CP$6+($CP$7-$CP$6)*((LN($CP$1-A125))-$CP$9)/($CP$10-$CP$9)) -> 7676000 | CQ125: =EXP($CQ$6+($CQ$7-$CQ$6)*((LN($CQ$1-A125))-$CQ$9)/($CQ$10-$CQ$9)) -> 6871658.7 | CR125: =EXP($CR$6+($CR$7-$CR$6)*((LN($CR$1-A125))-$CR$9)/($CR$10-$CR$9)) -> 6231944.4 | CS125: =EXP($CS$6+($CS$7-$CS$6)*((LN($CS$1-A125))-$CS$9)/($CS$10-$CS$9)) -> 5755893.7 | CT125: =EXP($CT$6+($CT$7-$CT$6)*((LN($CT$1-A125))-$CT$9)/($CT$10-$CT$9)) -> 5383053 | CU125: =EXP($CU$6+($CU$7-$CU$6)*((LN($CU$1-A125))-$CU$9)/($CU$10-$CU$9)) -> 5080357.1 | CV125: =EXP($CV$6+($CV$7-$CV$6)*((LN($CV$1-A125))-$CV$9)/($CV$10-$CV$9)) -> 4827962.6 | CW125: =EXP($CW$6+($CW$7-$CW$6)*((LN($CW$1-A125))-$CW$9)/($CW$10-$CW$9)) -> 4613128.9 | CX125: =EXP($CX$6+($CX$7-$CX$6)*((LN($CX$1-A125))-$CX$9)/($CX$10-$CX$9)) -> 2530269.8 | CY125: =EXP($CY$6+($CY$7-$CY$6)*((LN($CY$1-A125))-$CY$9)/($CY$10-$CY$9)) -> 1777752.6 | CZ125: =EXP($CZ$6+($CZ$7-$CZ$6)*((LN($CZ$1-A125))-$CZ$9)/($CZ$10-$CZ$9)) -> 1190290.9 | DA125: =EXP($DA$6+($DA$7-$DA$6)*((LN($DA$1-A125))-$DA$9)/($DA$10-$DA$9)) -> 870865.17 | DB125: =EXP($DB$6+($DB$7-$DB$6)*((LN($DB$1-A125))-$DB$9)/($DB$10-$DB$9)) -> 674722.95 | DC125: =EXP($DC$6+($DC$7-$DC$6)*((LN($DC$1-A125))-$DC$9)/($DC$10-$DC$9)) -> 543818.19 | DD125: =EXP($DD$6+($DD$7-$DD$6)*((LN($DD$1-A125))-$DD$9)/($DD$10-$DD$9)) -> 451159.84 | DE125: =EXP($DE$6+($DE$7-$DE$6)*((LN($DE$1-A125))-$DE$9)/($DE$10-$DE$9)) -> 382637.3 | DF125: =EXP($DF$6+($DF$7-$DF$6)*((LN($DF$1-A125))-$DF$9)/($DF$10-$DF$9)) -> 330216.47
... A212: 199 | CC212: 199 | CF212: =CE112 -> 587800000 | CG212: =EXP($CG$6+($CG$7-$CG$6)*((LN($CG$1-A212))-$CG$9)/($CG$10-$CG$9)) -> 81298459 | CH212: =CG112 -> 52684104 | CI212: =EXP($CI$6+($CI$7-$CI$6)*((LN($CI$1-A212))-$CI$9)/($CI$10-$CI$9)) -> 40835272 | CJ212: =EXP($CJ$6+($CJ$7-$CJ$6)*((LN($CJ$1-A212))-$CJ$9)/($CJ$10-$CJ$9)) -> 33442192 | CK212: =EXP($CK$6+($CK$7-$CK$6)*((LN($CK$1-A212))-$CK$9)/($CK$10-$CK$9)) -> 28639760 | CL212: =EXP($CL$6+($CL$7-$CL$6)*((LN($CL$1-A212))-$CL$9)/($CL$10-$CL$9)) -> 25231200 | CM212: =EXP($CM$6+($CM$7-$CM$6)*((LN($CM$1-A212))-$CM$9)/($CM$10-$CM$9)) -> 22667116 | CN212: =EXP($CN$6+($CN$7-$CN$6)*((LN($CN$1-A212))-$CN$9)/($CN$10-$CN$9)) -> 20657213 | CO212: =EXP($CO$6+($CO$7-$CO$6)*((LN($CO$1-A212))-$CO$9)/($CO$10-$CO$9)) -> 11315187 | CP212: =EXP($CP$6+($CP$7-$CP$6)*((LN($CP$1-A212))-$CP$9)/($CP$10-$CP$9)) -> 7676000 | CQ212: =EXP($CQ$6+($CQ$7-$CQ$6)*((LN($CQ$1-A212))-$CQ$9)/($CQ$10-$CQ$9)) -> 6938371 | CR212: =EXP($CR$6+($CR$7-$CR$6)*((LN($CR$1-A212))-$CR$9)/($CR$10-$CR$9)) -> 6279908.7 | CS212: =EXP($CS$6+($CS$7-$CS$6)*((LN($CS$1-A212))-$CS$9)/($CS$10-$CS$9)) -> 5792589.8 | CT212: =EXP($CT$6+($CT$7-$CT$6)*((LN($CT$1-A212))-$CT$9)/($CT$10-$CT$9)) -> 5412344.3 | CU212: =EXP($CU$6+($CU$7-$CU$6)*((LN($CU$1-A212))-$CU$9)/($CU$10-$CU$9)) -> 5104468.8 | CV212: =EXP($CV$6+($CV$7-$CV$6)*((LN($CV$1-A212))-$CV$9)/($CV$10-$CV$9)) -> 4848280.2 | CW212: =EXP($CW$6+($CW$7-$CW$6)*((LN($CW$1-A212))-$CW$9)/($CW$10-$CW$9)) -> 4630566.7 | CX212: =EXP($CX$6+($CX$7-$CX$6)*((LN($CX$1-A212))-$CX$9)/($CX$10-$CX$9)) -> 2539900.5 | CY212: =EXP($CY$6+($CY$7-$CY$6)*((LN($CY$1-A212))-$CY$9)/($CY$10-$CY$9)) -> 1782249 | CZ212: =EXP($CZ$6+($CZ$7-$CZ$6)*((LN($CZ$1-A212))-$CZ$9)/($CZ$10-$CZ$9)) -> 1193926.7 | DA212: =EXP($DA$6+($DA$7-$DA$6)*((LN($DA$1-A212))-$DA$9)/($DA$10-$DA$9)) -> 872990.91 | DB212: =EXP($DB$6+($DB$7-$DB$6)*((LN($DB$1-A212))-$DB$9)/($DB$10-$DB$9)) -> 676094.42 | DC212: =EXP($DC$6+($DC$7-$DC$6)*((LN($DC$1-A212))-$DC$9)/($DC$10-$DC$9)) -> 544765.18 | DD212: =EXP($DD$6+($DD$7-$DD$6)*((LN($DD$1-A212))-$DD$9)/($DD$10-$DD$9)) -> 451847.01 | DE212: =EXP($DE$6+($DE$7-$DE$6)*((LN($DE$1-A212))-$DE$9)/($DE$10-$DE$9)) -> 383155.19 | DF212: =EXP($DF$6+($DF$7-$DF$6)*((LN($DF$1-A212))-$DF$9)/($DF$10-$DF$9)) -> 330618.62
A213: 200 | CC213: 200 | CG213: =EXP($CG$6+($CG$7-$CG$6)*((LN($CG$1-A213))-$CG$9)/($CG$10-$CG$9)) -> 81810000 | CH213: =CG113 -> 52850004 | CI213: =EXP($CI$6+($CI$7-$CI$6)*((LN($CI$1-A213))-$CI$9)/($CI$10-$CI$9)) -> 40930000 | CJ213: =EXP($CJ$6+($CJ$7-$CJ$6)*((LN($CJ$1-A213))-$CJ$9)/($CJ$10-$CJ$9)) -> 33500383 | CK213: =EXP($CK$6+($CK$7-$CK$6)*((LN($CK$1-A213))-$CK$9)/($CK$10-$CK$9)) -> 28679630 | CL213: =EXP($CL$6+($CL$7-$CL$6)*((LN($CL$1-A213))-$CL$9)/($CL$10-$CL$9)) -> 25260472 | CM213: =EXP($CM$6+($CM$7-$CM$6)*((LN($CM$1-A213))-$CM$9)/($CM$10-$CM$9)) -> 22689658 | CN213: =EXP($CN$6+($CN$7-$CN$6)*((LN($CN$1-A213))-$CN$9)/($CN$10-$CN$9)) -> 20675189 | CO213: =EXP($CO$6+($CO$7-$CO$6)*((LN($CO$1-A213))-$CO$9)/($CO$10-$CO$9)) -> 11319967 | CP213: =EXP($CP$6+($CP$7-$CP$6)*((LN($CP$1-A213))-$CP$9)/($CP$10-$CP$9)) -> 7676000 | CQ213: =EXP($CQ$6+($CQ$7-$CQ$6)*((LN($CQ$1-A213))-$CQ$9)/($CQ$10-$CQ$9)) -> 6939150.5 | CR213: =EXP($CR$6+($CR$7-$CR$6)*((LN($CR$1-A213))-$CR$9)/($CR$10-$CR$9)) -> 6280467.2 | CS213: =EXP($CS$6+($CS$7-$CS$6)*((LN($CS$1-A213))-$CS$9)/($CS$10-$CS$9)) -> 5793016.2 | CT213: =EXP($CT$6+($CT$7-$CT$6)*((LN($CT$1-A213))-$CT$9)/($CT$10-$CT$9)) -> 5412684.1 | CU213: =EXP($CU$6+($CU$7-$CU$6)*((LN($CU$1-A213))-$CU$9)/($CU$10-$CU$9)) -> 5104748.2 | CV213: =EXP($CV$6+($CV$7-$CV$6)*((LN($CV$1-A213))-$CV$9)/($CV$10-$CV$9)) -> 4848515.4 | CW213: =EXP($CW$6+($CW$7-$CW$6)*((LN($CW$1-A213))-$CW$9)/($CW$10-$CW$9)) -> 4630768.4 | CX213: =EXP($CX$6+($CX$7-$CX$6)*((LN($CX$1-A213))-$CX$9)/($CX$10-$CX$9)) -> 2540011.6 | CY213: =EXP($CY$6+($CY$7-$CY$6)*((LN($CY$1-A213))-$CY$9)/($CY$10-$CY$9)) -> 1782300.8 | CZ213: =EXP($CZ$6+($CZ$7-$CZ$6)*((LN($CZ$1-A213))-$CZ$9)/($CZ$10-$CZ$9)) -> 1193968.6 | DA213: =EXP($DA$6+($DA$7-$DA$6)*((LN($DA$1-A213))-$DA$9)/($DA$10-$DA$9)) -> 873015.39 | DB213: =EXP($DB$6+($DB$7-$DB$6)*((LN($DB$1-A213))-$DB$9)/($DB$10-$DB$9)) -> 676110.21 | DC213: =EXP($DC$6+($DC$7-$DC$6)*((LN($DC$1-A213))-$DC$9)/($DC$10-$DC$9)) -> 544776.08 | DD213: =EXP($DD$6+($DD$7-$DD$6)*((LN($DD$1-A213))-$DD$9)/($DD$10-$DD$9)) -> 451854.91 | DE213: =EXP($DE$6+($DE$7-$DE$6)*((LN($DE$1-A213))-$DE$9)/($DE$10-$DE$9)) -> 383161.15 | DF213: =EXP($DF$6+($DF$7-$DF$6)*((LN($DF$1-A213))-$DF$9)/($DF$10-$DF$9)) -> 330623.25
A214: 201 | CC214: 201 | CG214: =CE14 -> 82309802 | CH214: =CG114 -> 53017263 | CI214: =CG14 -> 41016238 | CJ214: =EXP($CJ$6+($CJ$7-$CJ$6)*((LN($CJ$1-A214))-$CJ$9)/($CJ$10-$CJ$9)) -> 33558820 | CK214: =EXP($CK$6+($CK$7-$CK$6)*((LN($CK$1-A214))-$CK$9)/($CK$10-$CK$9)) -> 28719636 | CL214: =EXP($CL$6+($CL$7-$CL$6)*((LN($CL$1-A214))-$CL$9)/($CL$10-$CL$9)) -> 25289827 | CM214: =EXP($CM$6+($CM$7-$CM$6)*((LN($CM$1-A214))-$CM$9)/($CM$10-$CM$9)) -> 22712254 | CN214: =EXP($CN$6+($CN$7-$CN$6)*((LN($CN$1-A214))-$CN$9)/($CN$10-$CN$9)) -> 20693203 | CO214: =EXP($CO$6+($CO$7-$CO$6)*((LN($CO$1-A214))-$CO$9)/($CO$10-$CO$9)) -> 11324752 | CP214: =EXP($CP$6+($CP$7-$CP$6)*((LN($CP$1-A214))-$CP$9)/($CP$10-$CP$9)) -> 7676000 | CQ214: =EXP($CQ$6+($CQ$7-$CQ$6)*((LN($CQ$1-A214))-$CQ$9)/($CQ$10-$CQ$9)) -> 6939930.2 | CR214: =EXP($CR$6+($CR$7-$CR$6)*((LN($CR$1-A214))-$CR$9)/($CR$10-$CR$9)) -> 6281025.9 | CS214: =EXP($CS$6+($CS$7-$CS$6)*((LN($CS$1-A214))-$CS$9)/($CS$10-$CS$9)) -> 5793442.6 | CT214: =EXP($CT$6+($CT$7-$CT$6)*((LN($CT$1-A214))-$CT$9)/($CT$10-$CT$9)) -> 5413023.9 | CU214: =EXP($CU$6+($CU$7-$CU$6)*((LN($CU$1-A214))-$CU$9)/($CU$10-$CU$9)) -> 5105027.6 | CV214: =EXP($CV$6+($CV$7-$CV$6)*((LN($CV$1-A214))-$CV$9)/($CV$10-$CV$9)) -> 4848750.6 | CW214: =EXP($CW$6+($CW$7-$CW$6)*((LN($CW$1-A214))-$CW$9)/($CW$10-$CW$9)) -> 4630970.1 | CX214: =EXP($CX$6+($CX$7-$CX$6)*((LN($CX$1-A214))-$CX$9)/($CX$10-$CX$9)) -> 2540122.8 | CY214: =EXP($CY$6+($CY$7-$CY$6)*((LN($CY$1-A214))-$CY$9)/($CY$10-$CY$9)) -> 1782352.6 | CZ214: =EXP($CZ$6+($CZ$7-$CZ$6)*((LN($CZ$1-A214))-$CZ$9)/($CZ$10-$CZ$9)) -> 1194010.5 | DA214: =EXP($DA$6+($DA$7-$DA$6)*((LN($DA$1-A214))-$DA$9)/($DA$10-$DA$9)) -> 873039.88 | DB214: =EXP($DB$6+($DB$7-$DB$6)*((LN($DB$1-A214))-$DB$9)/($DB$10-$DB$9)) -> 676126.01 | DC214: =EXP($DC$6+($DC$7-$DC$6)*((LN($DC$1-A214))-$DC$9)/($DC$10-$DC$9)) -> 544786.98 | DD214: =EXP($DD$6+($DD$7-$DD$6)*((LN($DD$1-A214))-$DD$9)/($DD$10-$DD$9)) -> 451862.82 | DE214: =EXP($DE$6+($DE$7-$DE$6)*((LN($DE$1-A214))-$DE$9)/($DE$10-$DE$9)) -> 383167.11 | DF214: =EXP($DF$6+($DF$7-$DF$6)*((LN($DF$1-A214))-$DF$9)/($DF$10-$DF$9)) -> 330627.87
A215: 202 | CC215: 202 | CG215: =CE15 -> 82817778 | CH215: =CG115 -> 53185897 | CI215: =CG15 -> 41102948 | CJ215: =EXP($CJ$6+($CJ$7-$CJ$6)*((LN($CJ$1-A215))-$CJ$9)/($CJ$10-$CJ$9)) -> 33617507 | CK215: =EXP($CK$6+($CK$7-$CK$6)*((LN($CK$1-A215))-$CK$9)/($CK$10-$CK$9)) -> 28759778 | CL215: =EXP($CL$6+($CL$7-$CL$6)*((LN($CL$1-A215))-$CL$9)/($CL$10-$CL$9)) -> 25319266 | CM215: =EXP($CM$6+($CM$7-$CM$6)*((LN($CM$1-A215))-$CM$9)/($CM$10-$CM$9)) -> 22734906 | CN215: =EXP($CN$6+($CN$7-$CN$6)*((LN($CN$1-A215))-$CN$9)/($CN$10-$CN$9)) -> 20711255 | CO215: =EXP($CO$6+($CO$7-$CO$6)*((LN($CO$1-A215))-$CO$9)/($CO$10-$CO$9)) -> 11329542 | CP215: =EXP($CP$6+($CP$7-$CP$6)*((LN($CP$1-A215))-$CP$9)/($CP$10-$CP$9)) -> 7676000 | CQ215: =EXP($CQ$6+($CQ$7-$CQ$6)*((LN($CQ$1-A215))-$CQ$9)/($CQ$10-$CQ$9)) -> 6940710.2 | CR215: =EXP($CR$6+($CR$7-$CR$6)*((LN($CR$1-A215))-$CR$9)/($CR$10-$CR$9)) -> 6281584.8 | CS215: =EXP($CS$6+($CS$7-$CS$6)*((LN($CS$1-A215))-$CS$9)/($CS$10-$CS$9)) -> 5793869.2 | CT215: =EXP($CT$6+($CT$7-$CT$6)*((LN($CT$1-A215))-$CT$9)/($CT$10-$CT$9)) -> 5413363.8 | CU215: =EXP($CU$6+($CU$7-$CU$6)*((LN($CU$1-A215))-$CU$9)/($CU$10-$CU$9)) -> 5105307.1 | CV215: =EXP($CV$6+($CV$7-$CV$6)*((LN($CV$1-A215))-$CV$9)/($CV$10-$CV$9)) -> 4848985.9 | CW215: =EXP($CW$6+($CW$7-$CW$6)*((LN($CW$1-A215))-$CW$9)/($CW$10-$CW$9)) -> 4631171.9 | CX215: =EXP($CX$6+($CX$7-$CX$6)*((LN($CX$1-A215))-$CX$9)/($CX$10-$CX$9)) -> 2540234 | CY215: =EXP($CY$6+($CY$7-$CY$6)*((LN($CY$1-A215))-$CY$9)/($CY$10-$CY$9)) -> 1782404.5 | CZ215: =EXP($CZ$6+($CZ$7-$CZ$6)*((LN($CZ$1-A215))-$CZ$9)/($CZ$10-$CZ$9)) -> 1194052.4 | DA215: =EXP($DA$6+($DA$7-$DA$6)*((LN($DA$1-A215))-$DA$9)/($DA$10-$DA$9)) -> 873064.37 | DB215: =EXP($DB$6+($DB$7-$DB$6)*((LN($DB$1-A215))-$DB$9)/($DB$10-$DB$9)) -> 676141.8 | DC215: =EXP($DC$6+($DC$7-$DC$6)*((LN($DC$1-A215))-$DC$9)/($DC$10-$DC$9)) -> 544797.89 | DD215: =EXP($DD$6+($DD$7-$DD$6)*((LN($DD$1-A215))-$DD$9)/($DD$10-$DD$9)) -> 451870.73 | DE215: =EXP($DE$6+($DE$7-$DE$6)*((LN($DE$1-A215))-$DE$9)/($DE$10-$DE$9)) -> 383173.07 | DF215: =EXP($DF$6+($DF$7-$DF$6)*((LN($DF$1-A215))-$DF$9)/($DF$10-$DF$9)) -> 330632.5
A216: 203 | CC216: 203 | CG216: =CE16 -> 83334148 | CH216: =CG116 -> 53355925 | CI216: =CG16 -> 41190134 | CJ216: =EXP($CJ$6+($CJ$7-$CJ$6)*((LN($CJ$1-A216))-$CJ$9)/($CJ$10-$CJ$9)) -> 33676445 | CK216: =EXP($CK$6+($CK$7-$CK$6)*((LN($CK$1-A216))-$CK$9)/($CK$10-$CK$9)) -> 28800057 | CL216: =EXP($CL$6+($CL$7-$CL$6)*((LN($CL$1-A216))-$CL$9)/($CL$10-$CL$9)) -> 25348788 | CM216: =EXP($CM$6+($CM$7-$CM$6)*((LN($CM$1-A216))-$CM$9)/($CM$10-$CM$9)) -> 22757612 | CN216: =EXP($CN$6+($CN$7-$CN$6)*((LN($CN$1-A216))-$CN$9)/($CN$10-$CN$9)) -> 20729345 | CO216: =EXP($CO$6+($CO$7-$CO$6)*((LN($CO$1-A216))-$CO$9)/($CO$10-$CO$9)) -> 11334336 | CP216: =EXP($CP$6+($CP$7-$CP$6)*((LN($CP$1-A216))-$CP$9)/($CP$10-$CP$9)) -> 7676000 | CQ216: =EXP($CQ$6+($CQ$7-$CQ$6)*((LN($CQ$1-A216))-$CQ$9)/($CQ$10-$CQ$9)) -> 6941490.6 | CR216: =EXP($CR$6+($CR$7-$CR$6)*((LN($CR$1-A216))-$CR$9)/($CR$10-$CR$9)) -> 6282143.8 | CS216: =EXP($CS$6+($CS$7-$CS$6)*((LN($CS$1-A216))-$CS$9)/($CS$10-$CS$9)) -> 5794295.9 | CT216: =EXP($CT$6+($CT$7-$CT$6)*((LN($CT$1-A216))-$CT$9)/($CT$10-$CT$9)) -> 5413703.8 | CU216: =EXP($CU$6+($CU$7-$CU$6)*((LN($CU$1-A216))-$CU$9)/($CU$10-$CU$9)) -> 5105586.6 | CV216: =EXP($CV$6+($CV$7-$CV$6)*((LN($CV$1-A216))-$CV$9)/($CV$10-$CV$9)) -> 4849221.2 | CW216: =EXP($CW$6+($CW$7-$CW$6)*((LN($CW$1-A216))-$CW$9)/($CW$10-$CW$9)) -> 4631373.7 | CX216: =EXP($CX$6+($CX$7-$CX$6)*((LN($CX$1-A216))-$CX$9)/($CX$10-$CX$9)) -> 2540345.2 | CY216: =EXP($CY$6+($CY$7-$CY$6)*((LN($CY$1-A216))-$CY$9)/($CY$10-$CY$9)) -> 1782456.3 | CZ216: =EXP($CZ$6+($CZ$7-$CZ$6)*((LN($CZ$1-A216))-$CZ$9)/($CZ$10-$CZ$9)) -> 1194094.3 | DA216: =EXP($DA$6+($DA$7-$DA$6)*((LN($DA$1-A216))-$DA$9)/($DA$10-$DA$9)) -> 873088.86 | DB216: =EXP($DB$6+($DB$7-$DB$6)*((LN($DB$1-A216))-$DB$9)/($DB$10-$DB$9)) -> 676157.59 | DC216: =EXP($DC$6+($DC$7-$DC$6)*((LN($DC$1-A216))-$DC$9)/($DC$10-$DC$9)) -> 544808.79 | DD216: =EXP($DD$6+($DD$7-$DD$6)*((LN($DD$1-A216))-$DD$9)/($DD$10-$DD$9)) -> 451878.64 | DE216: =EXP($DE$6+($DE$7-$DE$6)*((LN($DE$1-A216))-$DE$9)/($DE$10-$DE$9)) -> 383179.03 | DF216: =EXP($DF$6+($DF$7-$DF$6)*((LN($DF$1-A216))-$DF$9)/($DF$10-$DF$9)) -> 330637.13
A217: 204 | CC217: 204 | CG217: =CE17 -> 83859138 | CH217: =CG117 -> 53527367 | CI217: =CG17 -> 41277799 | CJ217: =EXP($CJ$6+($CJ$7-$CJ$6)*((LN($CJ$1-A217))-$CJ$9)/($CJ$10-$CJ$9)) -> 33735634 | CK217: =EXP($CK$6+($CK$7-$CK$6)*((LN($CK$1-A217))-$CK$9)/($CK$10-$CK$9)) -> 28840474 | CL217: =EXP($CL$6+($CL$7-$CL$6)*((LN($CL$1-A217))-$CL$9)/($CL$10-$CL$9)) -> 25378394 | CM217: =EXP($CM$6+($CM$7-$CM$6)*((LN($CM$1-A217))-$CM$9)/($CM$10-$CM$9)) -> 22780374 | CN217: =EXP($CN$6+($CN$7-$CN$6)*((LN($CN$1-A217))-$CN$9)/($CN$10-$CN$9)) -> 20747474 | CO217: =EXP($CO$6+($CO$7-$CO$6)*((LN($CO$1-A217))-$CO$9)/($CO$10-$CO$9)) -> 11339135 | CP217: =EXP($CP$6+($CP$7-$CP$6)*((LN($CP$1-A217))-$CP$9)/($CP$10-$CP$9)) -> 7676000 | CQ217: =EXP($CQ$6+($CQ$7-$CQ$6)*((LN($CQ$1-A217))-$CQ$9)/($CQ$10-$CQ$9)) -> 6942271.2 | CR217: =EXP($CR$6+($CR$7-$CR$6)*((LN($CR$1-A217))-$CR$9)/($CR$10-$CR$9)) -> 6282702.9 | CS217: =EXP($CS$6+($CS$7-$CS$6)*((LN($CS$1-A217))-$CS$9)/($CS$10-$CS$9)) -> 5794722.6 | CT217: =EXP($CT$6+($CT$7-$CT$6)*((LN($CT$1-A217))-$CT$9)/($CT$10-$CT$9)) -> 5414043.9 | CU217: =EXP($CU$6+($CU$7-$CU$6)*((LN($CU$1-A217))-$CU$9)/($CU$10-$CU$9)) -> 5105866.2 | CV217: =EXP($CV$6+($CV$7-$CV$6)*((LN($CV$1-A217))-$CV$9)/($CV$10-$CV$9)) -> 4849456.6 | CW217: =EXP($CW$6+($CW$7-$CW$6)*((LN($CW$1-A217))-$CW$9)/($CW$10-$CW$9)) -> 4631575.6 | CX217: =EXP($CX$6+($CX$7-$CX$6)*((LN($CX$1-A217))-$CX$9)/($CX$10-$CX$9)) -> 2540456.4 | CY217: =EXP($CY$6+($CY$7-$CY$6)*((LN($CY$1-A217))-$CY$9)/($CY$10-$CY$9)) -> 1782508.1 | CZ217: =EXP($CZ$6+($CZ$7-$CZ$6)*((LN($CZ$1-A217))-$CZ$9)/($CZ$10-$CZ$9)) -> 1194136.2 | DA217: =EXP($DA$6+($DA$7-$DA$6)*((LN($DA$1-A217))-$DA$9)/($DA$10-$DA$9)) -> 873113.35 | DB217: =EXP($DB$6+($DB$7-$DB$6)*((LN($DB$1-A217))-$DB$9)/($DB$10-$DB$9)) -> 676173.39 | DC217: =EXP($DC$6+($DC$7-$DC$6)*((LN($DC$1-A217))-$DC$9)/($DC$10-$DC$9)) -> 544819.69 | DD217: =EXP($DD$6+($DD$7-$DD$6)*((LN($DD$1-A217))-$DD$9)/($DD$10-$DD$9)) -> 451886.55 | DE217: =EXP($DE$6+($DE$7-$DE$6)*((LN($DE$1-A217))-$DE$9)/($DE$10-$DE$9)) -> 383184.99 | DF217: =EXP($DF$6+($DF$7-$DF$6)*((LN($DF$1-A217))-$DF$9)/($DF$10-$DF$9)) -> 330641.76
A218: 205 | CC218: 205 | CG218: =CE18 -> 84392986 | CH218: =CG118 -> 53700240 | CI218: =CG18 -> 41365949 | CJ218: =EXP($CJ$6+($CJ$7-$CJ$6)*((LN($CJ$1-A218))-$CJ$9)/($CJ$10-$CJ$9)) -> 33795078 | CK218: =EXP($CK$6+($CK$7-$CK$6)*((LN($CK$1-A218))-$CK$9)/($CK$10-$CK$9)) -> 28881029 | CL218: =EXP($CL$6+($CL$7-$CL$6)*((LN($CL$1-A218))-$CL$9)/($CL$10-$CL$9)) -> 25408085 | CM218: =EXP($CM$6+($CM$7-$CM$6)*((LN($CM$1-A218))-$CM$9)/($CM$10-$CM$9)) -> 22803191 | CN218: =EXP($CN$6+($CN$7-$CN$6)*((LN($CN$1-A218))-$CN$9)/($CN$10-$CN$9)) -> 20765641 | CO218: =EXP($CO$6+($CO$7-$CO$6)*((LN($CO$1-A218))-$CO$9)/($CO$10-$CO$9)) -> 11343938 | CP218: =EXP($CP$6+($CP$7-$CP$6)*((LN($CP$1-A218))-$CP$9)/($CP$10-$CP$9)) -> 7676000 | CQ218: =EXP($CQ$6+($CQ$7-$CQ$6)*((LN($CQ$1-A218))-$CQ$9)/($CQ$10-$CQ$9)) -> 6943052.1 | CR218: =EXP($CR$6+($CR$7-$CR$6)*((LN($CR$1-A218))-$CR$9)/($CR$10-$CR$9)) -> 6283262.3 | CS218: =EXP($CS$6+($CS$7-$CS$6)*((LN($CS$1-A218))-$CS$9)/($CS$10-$CS$9)) -> 5795149.5 | CT218: =EXP($CT$6+($CT$7-$CT$6)*((LN($CT$1-A218))-$CT$9)/($CT$10-$CT$9)) -> 5414384.1 | CU218: =EXP($CU$6+($CU$7-$CU$6)*((LN($CU$1-A218))-$CU$9)/($CU$10-$CU$9)) -> 5106145.8 | CV218: =EXP($CV$6+($CV$7-$CV$6)*((LN($CV$1-A218))-$CV$9)/($CV$10-$CV$9)) -> 4849692 | CW218: =EXP($CW$6+($CW$7-$CW$6)*((LN($CW$1-A218))-$CW$9)/($CW$10-$CW$9)) -> 4631777.4 | CX218: =EXP($CX$6+($CX$7-$CX$6)*((LN($CX$1-A218))-$CX$9)/($CX$10-$CX$9)) -> 2540567.6 | CY218: =EXP($CY$6+($CY$7-$CY$6)*((LN($CY$1-A218))-$CY$9)/($CY$10-$CY$9)) -> 1782560 | CZ218: =EXP($CZ$6+($CZ$7-$CZ$6)*((LN($CZ$1-A218))-$CZ$9)/($CZ$10-$CZ$9)) -> 1194178.1 | DA218: =EXP($DA$6+($DA$7-$DA$6)*((LN($DA$1-A218))-$DA$9)/($DA$10-$DA$9)) -> 873137.84 | DB218: =EXP($DB$6+($DB$7-$DB$6)*((LN($DB$1-A218))-$DB$9)/($DB$10-$DB$9)) -> 676189.18 | DC218: =EXP($DC$6+($DC$7-$DC$6)*((LN($DC$1-A218))-$DC$9)/($DC$10-$DC$9)) -> 544830.59 | DD218: =EXP($DD$6+($DD$7-$DD$6)*((LN($DD$1-A218))-$DD$9)/($DD$10-$DD$9)) -> 451894.46 | DE218: =EXP($DE$6+($DE$7-$DE$6)*((LN($DE$1-A218))-$DE$9)/($DE$10-$DE$9)) -> 383190.95 | DF218: =EXP($DF$6+($DF$7-$DF$6)*((LN($DF$1-A218))-$DF$9)/($DF$10-$DF$9)) -> 330646.38
A219: 206 | CC219: 206 | CG219: =CE19 -> 84935936 | CH219: =CG119 -> 53874565 | CI219: =CG19 -> 41454587 | CJ219: =EXP($CJ$6+($CJ$7-$CJ$6)*((LN($CJ$1-A219))-$CJ$9)/($CJ$10-$CJ$9)) -> 33854778 | CK219: =EXP($CK$6+($CK$7-$CK$6)*((LN($CK$1-A219))-$CK$9)/($CK$10-$CK$9)) -> 28921723 | CL219: =EXP($CL$6+($CL$7-$CL$6)*((LN($CL$1-A219))-$CL$9)/($CL$10-$CL$9)) -> 25437860 | CM219: =EXP($CM$6+($CM$7-$CM$6)*((LN($CM$1-A219))-$CM$9)/($CM$10-$CM$9)) -> 22826064 | CN219: =EXP($CN$6+($CN$7-$CN$6)*((LN($CN$1-A219))-$CN$9)/($CN$10-$CN$9)) -> 20783848 | CO219: =EXP($CO$6+($CO$7-$CO$6)*((LN($CO$1-A219))-$CO$9)/($CO$10-$CO$9)) -> 11348747 | CP219: =EXP($CP$6+($CP$7-$CP$6)*((LN($CP$1-A219))-$CP$9)/($CP$10-$CP$9)) -> 7676000 | CQ219: =EXP($CQ$6+($CQ$7-$CQ$6)*((LN($CQ$1-A219))-$CQ$9)/($CQ$10-$CQ$9)) -> 6943833.3 | CR219: =EXP($CR$6+($CR$7-$CR$6)*((LN($CR$1-A219))-$CR$9)/($CR$10-$CR$9)) -> 6283821.8 | CS219: =EXP($CS$6+($CS$7-$CS$6)*((LN($CS$1-A219))-$CS$9)/($CS$10-$CS$9)) -> 5795576.5 | CT219: =EXP($CT$6+($CT$7-$CT$6)*((LN($CT$1-A219))-$CT$9)/($CT$10-$CT$9)) -> 5414724.3 | CU219: =EXP($CU$6+($CU$7-$CU$6)*((LN($CU$1-A219))-$CU$9)/($CU$10-$CU$9)) -> 5106425.5 | CV219: =EXP($CV$6+($CV$7-$CV$6)*((LN($CV$1-A219))-$CV$9)/($CV$10-$CV$9)) -> 4849927.4 | CW219: =EXP($CW$6+($CW$7-$CW$6)*((LN($CW$1-A219))-$CW$9)/($CW$10-$CW$9)) -> 4631979.3 | CX219: =EXP($CX$6+($CX$7-$CX$6)*((LN($CX$1-A219))-$CX$9)/($CX$10-$CX$9)) -> 2540678.8 | CY219: =EXP($CY$6+($CY$7-$CY$6)*((LN($CY$1-A219))-$CY$9)/($CY$10-$CY$9)) -> 1782611.8 | CZ219: =EXP($CZ$6+($CZ$7-$CZ$6)*((LN($CZ$1-A219))-$CZ$9)/($CZ$10-$CZ$9)) -> 1194220 | DA219: =EXP($DA$6+($DA$7-$DA$6)*((LN($DA$1-A219))-$DA$9)/($DA$10-$DA$9)) -> 873162.33 | DB219: =EXP($DB$6+($DB$7-$DB$6)*((LN($DB$1-A219))-$DB$9)/($DB$10-$DB$9)) -> 676204.98 | DC219: =EXP($DC$6+($DC$7-$DC$6)*((LN($DC$1-A219))-$DC$9)/($DC$10-$DC$9)) -> 544841.5 | DD219: =EXP($DD$6+($DD$7-$DD$6)*((LN($DD$1-A219))-$DD$9)/($DD$10-$DD$9)) -> 451902.37 | DE219: =EXP($DE$6+($DE$7-$DE$6)*((LN($DE$1-A219))-$DE$9)/($DE$10-$DE$9)) -> 383196.91 | DF219: =EXP($DF$6+($DF$7-$DF$6)*((LN($DF$1-A219))-$DF$9)/($DF$10-$DF$9)) -> 330651.01
A220: 207 | CC220: 207 | CG220: =CE20 -> 85488242 | CH220: =CG120 -> 54050361 | CI220: =CG20 -> 41543718 | CJ220: =EXP($CJ$6+($CJ$7-$CJ$6)*((LN($CJ$1-A220))-$CJ$9)/($CJ$10-$CJ$9)) -> 33914735 | CK220: =EXP($CK$6+($CK$7-$CK$6)*((LN($CK$1-A220))-$CK$9)/($CK$10-$CK$9)) -> 28962558 | CL220: =EXP($CL$6+($CL$7-$CL$6)*((LN($CL$1-A220))-$CL$9)/($CL$10-$CL$9)) -> 25467721 | CM220: =EXP($CM$6+($CM$7-$CM$6)*((LN($CM$1-A220))-$CM$9)/($CM$10-$CM$9)) -> 22848993 | CN220: =EXP($CN$6+($CN$7-$CN$6)*((LN($CN$1-A220))-$CN$9)/($CN$10-$CN$9)) -> 20802093 | CO220: =EXP($CO$6+($CO$7-$CO$6)*((LN($CO$1-A220))-$CO$9)/($CO$10-$CO$9)) -> 11353560 | CP220: =EXP($CP$6+($CP$7-$CP$6)*((LN($CP$1-A220))-$CP$9)/($CP$10-$CP$9)) -> 7676000 | CQ220: =EXP($CQ$6+($CQ$7-$CQ$6)*((LN($CQ$1-A220))-$CQ$9)/($CQ$10-$CQ$9)) -> 6944614.8 | CR220: =EXP($CR$6+($CR$7-$CR$6)*((LN($CR$1-A220))-$CR$9)/($CR$10-$CR$9)) -> 6284381.5 | CS220: =EXP($CS$6+($CS$7-$CS$6)*((LN($CS$1-A220))-$CS$9)/($CS$10-$CS$9)) -> 5796003.6 | CT220: =EXP($CT$6+($CT$7-$CT$6)*((LN($CT$1-A220))-$CT$9)/($CT$10-$CT$9)) -> 5415064.6 | CU220: =EXP($CU$6+($CU$7-$CU$6)*((LN($CU$1-A220))-$CU$9)/($CU$10-$CU$9)) -> 5106705.2 | CV220: =EXP($CV$6+($CV$7-$CV$6)*((LN($CV$1-A220))-$CV$9)/($CV$10-$CV$9)) -> 4850162.9 | CW220: =EXP($CW$6+($CW$7-$CW$6)*((LN($CW$1-A220))-$CW$9)/($CW$10-$CW$9)) -> 4632181.2 | CX220: =EXP($CX$6+($CX$7-$CX$6)*((LN($CX$1-A220))-$CX$9)/($CX$10-$CX$9)) -> 2540790 | CY220: =EXP($CY$6+($CY$7-$CY$6)*((LN($CY$1-A220))-$CY$9)/($CY$10-$CY$9)) -> 1782663.7 | CZ220: =EXP($CZ$6+($CZ$7-$CZ$6)*((LN($CZ$1-A220))-$CZ$9)/($CZ$10-$CZ$9)) -> 1194261.9 | DA220: =EXP($DA$6+($DA$7-$DA$6)*((LN($DA$1-A220))-$DA$9)/($DA$10-$DA$9)) -> 873186.83 | DB220: =EXP($DB$6+($DB$7-$DB$6)*((LN($DB$1-A220))-$DB$9)/($DB$10-$DB$9)) -> 676220.78 | DC220: =EXP($DC$6+($DC$7-$DC$6)*((LN($DC$1-A220))-$DC$9)/($DC$10-$DC$9)) -> 544852.4 | DD220: =EXP($DD$6+($DD$7-$DD$6)*((LN($DD$1-A220))-$DD$9)/($DD$10-$DD$9)) -> 451910.28 | DE220: =EXP($DE$6+($DE$7-$DE$6)*((LN($DE$1-A220))-$DE$9)/($DE$10-$DE$9)) -> 383202.87 | DF220: =EXP($DF$6+($DF$7-$DF$6)*((LN($DF$1-A220))-$DF$9)/($DF$10-$DF$9)) -> 330655.64
A221: 208 | CC221: 208 | CG221: =CE21 -> 86050169 | CH221: =CG121 -> 54227649 | CI221: =CG21 -> 41633347 | CJ221: =EXP($CJ$6+($CJ$7-$CJ$6)*((LN($CJ$1-A221))-$CJ$9)/($CJ$10-$CJ$9)) -> 33974952 | CK221: =EXP($CK$6+($CK$7-$CK$6)*((LN($CK$1-A221))-$CK$9)/($CK$10-$CK$9)) -> 29003533 | CL221: =EXP($CL$6+($CL$7-$CL$6)*((LN($CL$1-A221))-$CL$9)/($CL$10-$CL$9)) -> 25497667 | CM221: =EXP($CM$6+($CM$7-$CM$6)*((LN($CM$1-A221))-$CM$9)/($CM$10-$CM$9)) -> 22871978 | CN221: =EXP($CN$6+($CN$7-$CN$6)*((LN($CN$1-A221))-$CN$9)/($CN$10-$CN$9)) -> 20820378 | CO221: =EXP($CO$6+($CO$7-$CO$6)*((LN($CO$1-A221))-$CO$9)/($CO$10-$CO$9)) -> 11358378 | CP221: =EXP($CP$6+($CP$7-$CP$6)*((LN($CP$1-A221))-$CP$9)/($CP$10-$CP$9)) -> 7676000 | CQ221: =EXP($CQ$6+($CQ$7-$CQ$6)*((LN($CQ$1-A221))-$CQ$9)/($CQ$10-$CQ$9)) -> 6945396.6 | CR221: =EXP($CR$6+($CR$7-$CR$6)*((LN($CR$1-A221))-$CR$9)/($CR$10-$CR$9)) -> 6284941.3 | CS221: =EXP($CS$6+($CS$7-$CS$6)*((LN($CS$1-A221))-$CS$9)/($CS$10-$CS$9)) -> 5796430.8 | CT221: =EXP($CT$6+($CT$7-$CT$6)*((LN($CT$1-A221))-$CT$9)/($CT$10-$CT$9)) -> 5415404.9 | CU221: =EXP($CU$6+($CU$7-$CU$6)*((LN($CU$1-A221))-$CU$9)/($CU$10-$CU$9)) -> 5106985 | CV221: =EXP($CV$6+($CV$7-$CV$6)*((LN($CV$1-A221))-$CV$9)/($CV$10-$CV$9)) -> 4850398.4 | CW221: =EXP($CW$6+($CW$7-$CW$6)*((LN($CW$1-A221))-$CW$9)/($CW$10-$CW$9)) -> 4632383.2 | CX221: =EXP($CX$6+($CX$7-$CX$6)*((LN($CX$1-A221))-$CX$9)/($CX$10-$CX$9)) -> 2540901.3 | CY221: =EXP($CY$6+($CY$7-$CY$6)*((LN($CY$1-A221))-$CY$9)/($CY$10-$CY$9)) -> 1782715.5 | CZ221: =EXP($CZ$6+($CZ$7-$CZ$6)*((LN($CZ$1-A221))-$CZ$9)/($CZ$10-$CZ$9)) -> 1194303.9 | DA221: =EXP($DA$6+($DA$7-$DA$6)*((LN($DA$1-A221))-$DA$9)/($DA$10-$DA$9)) -> 873211.32 | DB221: =EXP($DB$6+($DB$7-$DB$6)*((LN($DB$1-A221))-$DB$9)/($DB$10-$DB$9)) -> 676236.57 | DC221: =EXP($DC$6+($DC$7-$DC$6)*((LN($DC$1-A221))-$DC$9)/($DC$10-$DC$9)) -> 544863.31 | DD221: =EXP($DD$6+($DD$7-$DD$6)*((LN($DD$1-A221))-$DD$9)/($DD$10-$DD$9)) -> 451918.19 | DE221: =EXP($DE$6+($DE$7-$DE$6)*((LN($DE$1-A221))-$DE$9)/($DE$10-$DE$9)) -> 383208.83 | DF221: =EXP($DF$6+($DF$7-$DF$6)*((LN($DF$1-A221))-$DF$9)/($DF$10-$DF$9)) -> 330660.27
A222: 209 | CC222: 209 | CG222: =CE22 -> 86621992 | CH222: =CG122 -> 54406448 | CI222: =CG22 -> 41723477 | CJ222: =EXP($CJ$6+($CJ$7-$CJ$6)*((LN($CJ$1-A222))-$CJ$9)/($CJ$10-$CJ$9)) -> 34035430 | CK222: =EXP($CK$6+($CK$7-$CK$6)*((LN($CK$1-A222))-$CK$9)/($CK$10-$CK$9)) -> 29044649 | CL222: =EXP($CL$6+($CL$7-$CL$6)*((LN($CL$1-A222))-$CL$9)/($CL$10-$CL$9)) -> 25527699 | CM222: =EXP($CM$6+($CM$7-$CM$6)*((LN($CM$1-A222))-$CM$9)/($CM$10-$CM$9)) -> 22895020 | CN222: =EXP($CN$6+($CN$7-$CN$6)*((LN($CN$1-A222))-$CN$9)/($CN$10-$CN$9)) -> 20838701 | CO222: =EXP($CO$6+($CO$7-$CO$6)*((LN($CO$1-A222))-$CO$9)/($CO$10-$CO$9)) -> 11363200 | CP222: =EXP($CP$6+($CP$7-$CP$6)*((LN($CP$1-A222))-$CP$9)/($CP$10-$CP$9)) -> 7676000 | CQ222: =EXP($CQ$6+($CQ$7-$CQ$6)*((LN($CQ$1-A222))-$CQ$9)/($CQ$10-$CQ$9)) -> 6946178.7 | CR222: =EXP($CR$6+($CR$7-$CR$6)*((LN($CR$1-A222))-$CR$9)/($CR$10-$CR$9)) -> 6285501.3 | CS222: =EXP($CS$6+($CS$7-$CS$6)*((LN($CS$1-A222))-$CS$9)/($CS$10-$CS$9)) -> 5796858.1 | CT222: =EXP($CT$6+($CT$7-$CT$6)*((LN($CT$1-A222))-$CT$9)/($CT$10-$CT$9)) -> 5415745.3 | CU222: =EXP($CU$6+($CU$7-$CU$6)*((LN($CU$1-A222))-$CU$9)/($CU$10-$CU$9)) -> 5107264.9 | CV222: =EXP($CV$6+($CV$7-$CV$6)*((LN($CV$1-A222))-$CV$9)/($CV$10-$CV$9)) -> 4850633.9 | CW222: =EXP($CW$6+($CW$7-$CW$6)*((LN($CW$1-A222))-$CW$9)/($CW$10-$CW$9)) -> 4632585.2 | CX222: =EXP($CX$6+($CX$7-$CX$6)*((LN($CX$1-A222))-$CX$9)/($CX$10-$CX$9)) -> 2541012.5 | CY222: =EXP($CY$6+($CY$7-$CY$6)*((LN($CY$1-A222))-$CY$9)/($CY$10-$CY$9)) -> 1782767.4 | CZ222: =EXP($CZ$6+($CZ$7-$CZ$6)*((LN($CZ$1-A222))-$CZ$9)/($CZ$10-$CZ$9)) -> 1194345.8 | DA222: =EXP($DA$6+($DA$7-$DA$6)*((LN($DA$1-A222))-$DA$9)/($DA$10-$DA$9)) -> 873235.82 | DB222: =EXP($DB$6+($DB$7-$DB$6)*((LN($DB$1-A222))-$DB$9)/($DB$10-$DB$9)) -> 676252.37 | DC222: =EXP($DC$6+($DC$7-$DC$6)*((LN($DC$1-A222))-$DC$9)/($DC$10-$DC$9)) -> 544874.21 | DD222: =EXP($DD$6+($DD$7-$DD$6)*((LN($DD$1-A222))-$DD$9)/($DD$10-$DD$9)) -> 451926.11 | DE222: =EXP($DE$6+($DE$7-$DE$6)*((LN($DE$1-A222))-$DE$9)/($DE$10-$DE$9)) -> 383214.79 | DF222: =EXP($DF$6+($DF$7-$DF$6)*((LN($DF$1-A222))-$DF$9)/($DF$10-$DF$9)) -> 330664.9
A223: 210 | CC223: 210 | CG223: =CE23 -> 87203996 | CH223: =CG123 -> 54586780 | CI223: =CG23 -> 41814114 | CJ223: =EXP($CJ$6+($CJ$7-$CJ$6)*((LN($CJ$1-A223))-$CJ$9)/($CJ$10-$CJ$9)) -> 34096170 | CK223: =EXP($CK$6+($CK$7-$CK$6)*((LN($CK$1-A223))-$CK$9)/($CK$10-$CK$9)) -> 29085908 | CL223: =EXP($CL$6+($CL$7-$CL$6)*((LN($CL$1-A223))-$CL$9)/($CL$10-$CL$9)) -> 25557817 | CM223: =EXP($CM$6+($CM$7-$CM$6)*((LN($CM$1-A223))-$CM$9)/($CM$10-$CM$9)) -> 22918118 | CN223: =EXP($CN$6+($CN$7-$CN$6)*((LN($CN$1-A223))-$CN$9)/($CN$10-$CN$9)) -> 20857064 | CO223: =EXP($CO$6+($CO$7-$CO$6)*((LN($CO$1-A223))-$CO$9)/($CO$10-$CO$9)) -> 11368027 | CP223: =EXP($CP$6+($CP$7-$CP$6)*((LN($CP$1-A223))-$CP$9)/($CP$10-$CP$9)) -> 7676000 | CQ223: =EXP($CQ$6+($CQ$7-$CQ$6)*((LN($CQ$1-A223))-$CQ$9)/($CQ$10-$CQ$9)) -> 6946961.1 | CR223: =EXP($CR$6+($CR$7-$CR$6)*((LN($CR$1-A223))-$CR$9)/($CR$10-$CR$9)) -> 6286061.5 | CS223: =EXP($CS$6+($CS$7-$CS$6)*((LN($CS$1-A223))-$CS$9)/($CS$10-$CS$9)) -> 5797285.5 | CT223: =EXP($CT$6+($CT$7-$CT$6)*((LN($CT$1-A223))-$CT$9)/($CT$10-$CT$9)) -> 5416085.8 | CU223: =EXP($CU$6+($CU$7-$CU$6)*((LN($CU$1-A223))-$CU$9)/($CU$10-$CU$9)) -> 5107544.7 | CV223: =EXP($CV$6+($CV$7-$CV$6)*((LN($CV$1-A223))-$CV$9)/($CV$10-$CV$9)) -> 4850869.5 | CW223: =EXP($CW$6+($CW$7-$CW$6)*((LN($CW$1-A223))-$CW$9)/($CW$10-$CW$9)) -> 4632787.2 | CX223: =EXP($CX$6+($CX$7-$CX$6)*((LN($CX$1-A223))-$CX$9)/($CX$10-$CX$9)) -> 2541123.8 | CY223: =EXP($CY$6+($CY$7-$CY$6)*((LN($CY$1-A223))-$CY$9)/($CY$10-$CY$9)) -> 1782819.2 | CZ223: =EXP($CZ$6+($CZ$7-$CZ$6)*((LN($CZ$1-A223))-$CZ$9)/($CZ$10-$CZ$9)) -> 1194387.7 | DA223: =EXP($DA$6+($DA$7-$DA$6)*((LN($DA$1-A223))-$DA$9)/($DA$10-$DA$9)) -> 873260.31 | DB223: =EXP($DB$6+($DB$7-$DB$6)*((LN($DB$1-A223))-$DB$9)/($DB$10-$DB$9)) -> 676268.17 | DC223: =EXP($DC$6+($DC$7-$DC$6)*((LN($DC$1-A223))-$DC$9)/($DC$10-$DC$9)) -> 544885.12 | DD223: =EXP($DD$6+($DD$7-$DD$6)*((LN($DD$1-A223))-$DD$9)/($DD$10-$DD$9)) -> 451934.02 | DE223: =EXP($DE$6+($DE$7-$DE$6)*((LN($DE$1-A223))-$DE$9)/($DE$10-$DE$9)) -> 383220.75 | DF223: =EXP($DF$6+($DF$7-$DF$6)*((LN($DF$1-A223))-$DF$9)/($DF$10-$DF$9)) -> 330669.53
