Workbook

Sheet Table 45
A1: Table 45
A2: year | B2: 1 | C2: 3 | D2: 10 | E2: 30 | F2: 100 | G2: 300 | H2: 1000 | I2: 3000 | J2: 10000 | K2: 30000 | L2: 100000 | M2: 300000 | N2: 1000000
A3: UO2 | B3: 587800000 | C3: 362000000 | D3: 235800000 | E3: 169700000 | F3: 81810000 | G3: 40930000 | H3: 17700000 | I3: 7676000 | J3: 4591000 | K3: 1772000 | L3: 329700 | M3: 160100 | N3: 97970
A4: ThO2 | B4: 517500000 | C4: 342700000 | D4: 231600000 | E4: 146400000 | F4: 35700000 | G4: 2776000 | H4: 1321000 | I4: 2319000 | J4: 4651000 | K4: 6690000 | L4: 6161000 | M4: 3489000 | N4: 351300
A5: MOX | B5: 1457000000 | C5: 1105000000 | D5: 896700000 | E5: 688000000 | F5: 408200000 | G5: 216200000 | H5: 82050000 | I5: 30250000 | J5: 17570000 | K5: 6721000 | L5: 1672000 | M5: 1030000 | N5: 372800
A8: Currently the above table is valid for PWR and BWR reactor types, for other reactor types these values can be appropriately changed by the user.

Sheet User input
A1: NFCSS Results for Reactor Type:
C2: UO2 fuel | D2: ThO2 fuel | E2: MOX fuel | F2: UO2 fuel | G2: ThO2 fuel | H2: MOX fuel
A3: # | B3: Time [Year] | C3: SFS (tHM) | D3: SFS (tHM) | E3: SFS (tHM) | F3: GWd/t | G3: GWd/t | H3: GWd/t
A4: 1
A5: 2
A6: 3
A7: 4
A8: 5
A9: 6
A10: 7
A11: 8
A12: 9
A13: 10
A14: 11
A15: 12
... A303: 300

Sheet cal_UO2
A1: Time [Year] | B1: 1 | C1: 2 | D1: 3 | E1: 4 | F1: 5 | G1: 6 | H1: 7 | I1: 8 | J1: 9 | K1: 10 | L1: 11 | M1: 12 | N1: 13 | O1: 14 | P1: 15 | Q1: 16 | R1: 17 | S1: 18 | T1: 19 | U1: 20 | V1: 21 | W1: 22 | X1: 23 | Y1: 24 | Z1: 25 | AA1: 26 | AB1: 27 | AC1: 28 | AD1: 29 | AE1: 30 | AF1: 31 | AG1: 32 | AH1: 33 | AI1: 34 | AJ1: 35 | AK1: 36 | AL1: 37 | AM1: 38 | AN1: 39 | AO1: 40 | AP1: 41 | AQ1: 42 | AR1: 43 | AS1: 44 | AT1: 45 | AU1: 46 | AV1: 47 | AW1: 48 | AX1: 49 | AY1: 50 | AZ1: 51 | BA1: 52 | BB1: 53 | BC1: 54 | BD1: 55 | BE1: 56 | BF1: 57 | BG1: 58 | BH1: 59 | BI1: 60 | BJ1: 61 | BK1: 62 | BL1: 63 | BM1: 64 | BN1: 65 | BO1: 66 | BP1: 67 | BQ1: 68 | BR1: 69 | BS1: 70 | BT1: 71 | BU1: 72 | BV1: 73 | BW1: 74 | BX1: 75 | BY1: 76 | BZ1: 77 | CA1: 78 | CB1: 79 | CC1: 80 | CD1: 90 | CE1: 100 | CF1: 200 | CG1: 300 | CH1: 400 | CI1: 500 | CJ1: 600 | CK1: 700 | CL1: 800 | CM1: 900 | CN1: 1000 | CO1: 2000 | CP1: 3000 | CQ1: 4000 | CR1: 5000 | CS1: 6000 | CT1: 7000 | CU1: 8000 | CV1: 9000 | CW1: 10000 | CX1: 20000 | CY1: 30000 | CZ1: 40000 | DA1: 50000 | DB1: 60000 | DC1: 70000 | DD1: 80000 | DE1: 90000 | DF1: 100000 | DG1: 110000 | DH1: 120000 | DI1: 130000 | DJ1: 140000 | DK1: 150000 | DL1: 160000 | DM1: 170000 | DN1: 180000 | DO1: 190000 | DP1: 200000 | DQ1: 210000 | DR1: 220000 | DS1: 230000 | DT1: 240000 | DU1: 250000 | DV1: 260000 | DW1: 270000 | DX1: 280000 | DY1: 290000 | DZ1: 300000 | EA1: 310000 | EB1: 320000 | EC1: 330000 | ED1: 340000 | EE1: 350000 | EF1: 360000 | EG1: 370000 | EH1: 380000 | EI1: 390000 | EJ1: 400000 | EK1: 410000 | EL1: 420000 | EM1: 430000 | EN1: 440000 | EO1: 450000 | EP1: 460000 | EQ1: 470000 | ER1: 480000 | ES1: 490000 | ET1: 500000 | EU1: 510000 | EV1: 520000 | EW1: 530000 | EX1: 540000 | EY1: 550000 | EZ1: 560000 | FA1: 570000 | FB1: 580000 | FC1: 590000 | FD1: 600000 | FE1: 610000 | FF1: 620000 | FG1: 630000 | FH1: 640000 | FI1: 650000 | FJ1: 660000 | FK1: 670000 | FL1: 680000 | FM1: 690000 | FN1: 700000 | FO1: 710000 | FP1: 720000 | FQ1: 730000 | FR1: 740000 | FS1: 750000 | FT1: 760000 | FU1: 770000 | FV1: 780000 | FW1: 790000 | FX1: 800000 | FY1: 810000 | FZ1: 820000 | GA1: 830000 | GB1: 840000 | GC1: 850000 | GD1: 860000 | GE1: 870000 | GF1: 880000 | GG1: 890000 | GH1: 900000 | GI1: 910000 | GJ1: 920000 | GK1: 930000 | GL1: 940000 | GM1: 950000 | GN1: 960000 | GO1: 970000 | GP1: 980000 | GQ1: 990000 | GR1: 1000000
A2: UO2 | B2: ='Table 45'!B3 -> 587800000 | C2: =C11 -> 4.3291797e+08 | D2: ='Table 45'!C3 -> 362000000 | E2: =E11 -> 3.2675754e+08 | F2: =F11 -> 3.0180189e+08 | G2: =G11 -> 2.8283322e+08 | H2: =H11 -> 2.6772862e+08 | I2: =I11 -> 2.5529803e+08 | J2: =J11 -> 2.4481341e+08 | K2: ='Table 45'!D3 -> 235800000 | L2: =L11 -> 2.291658e+08 | M2: =M11 -> 2.2327236e+08 | N2: =N11 -> 2.1798486e+08 | O2: =O11 -> 2.132011e+08 | P2: =P11 -> 2.0884193e+08 | Q2: =Q11 -> 2.0484492e+08 | R2: =R11 -> 2.0116002e+08 | S2: =S11 -> 1.9774653e+08 | ... AD2: =AD11 -> 1.7143139e+08 | AE2: ='Table 45'!E3 -> 169700000 | AF2: =AF11 -> 1.6636112e+08 | AG2: =AG11 -> 1.6319087e+08 | AH2: =AH11 -> 1.6017584e+08 | AI2: =AI11 -> 1.5730407e+08 | AJ2: =AJ11 -> 1.5456483e+08 | AK2: =AK11 -> 1.5194848e+08 | AL2: =AL11 -> 1.494463e+08 | AM2: =AM11 -> 1.4705044e+08 | ... CD2: =CD11 -> 87203996 | CE2: ='Table 45'!F3 -> 81810000 | CF2: =CF11 -> 52850004 | CG2: ='Table 45'!G3 -> 40930000 | CH2: =CH11 -> 33500383 | CI2: =CI11 -> 28679630 | CJ2: =CJ11 -> 25260472 | CK2: =CK11 -> 22689658 | CL2: =CL11 -> 20675189 | CM2: =CM11 -> 19047288 | CN2: ='Table 45'!H3 -> 17700000 | CO2: =CO11 -> 10448352 | CP2: ='Table 45'!I3 -> 7676000 | CQ2: =CQ11 -> 6788847.5 | CR2: =CR11 -> 6171961.1 | CS2: =CS11 -> 5709776.1 | CT2: =CT11 -> 5346112.8 | CU2: =CU11 -> 5049869.6 | CV2: =CV11 -> 4802220.6 | CW2: ='Table 45'!J3 -> 4591000 | CX2: =CX11 -> 2517986.7 | CY2: ='Table 45'!K3 -> 1772000 | CZ2: =CZ11 -> 1185638.3 | DA2: =DA11 -> 868141.64 | DB2: =DB11 -> 672964.38 | DC2: =DC11 -> 542603.23 | DD2: =DD11 -> 450277.85 | DE2: =DE11 -> 381972.36 | DF2: ='Table 45'!L3 -> 329700 | DG2: =DG11 -> 309671.68 | DH2: =DH11 -> 292451.53 | DI2: =DI11 -> 277457.41 | DJ2: =DJ11 -> 264261.27 | DK2: =DK11 -> 252540.72 | DL2: =DL11 -> 242047.91 | DM2: =DM11 -> 232588.87 | DN2: =DN11 -> 224009.46 | ... DY2: =DY11 -> 163708.98 | DZ2: ='Table 45'!M3 -> 160100 | EA2: =EA11 -> 157972.77 | EB2: =EB11 -> 155940.01 | EC2: =EC11 -> 153994.78 | ED2: =ED11 -> 152130.81 | EE2: =EE11 -> 150342.47 | EF2: =EF11 -> 148624.66 | EG2: =EG11 -> 146972.75 | EH2: =EH11 -> 145382.53 | ... GQ2: =GQ11 -> 98372.486 | GR2: ='Table 45'!N3 -> 97970
A4: UO2 calculation value
A5: y | C5: =C6+(C7-C6)*(C8-C9)/(C10-C9) -> 19.886059 | D5: =D6+(D7-D6)*(D8-D9)/(D10-D9) -> 19.707155 | E5: =E6+(E7-E6)*(E8-E9)/(E10-E9) -> 19.604729 | F5: =F6+(F7-F6)*(F8-F9)/(F10-F9) -> 19.525281 | G5: =G6+(G7-G6)*(G8-G9)/(G10-G9) -> 19.460368 | H5: =H6+(H7-H6)*(H8-H9)/(H10-H9) -> 19.405484 | I5: =I6+(I7-I6)*(I8-I9)/(I10-I9) -> 19.357942 | J5: =J6+(J7-J6)*(J8-J9)/(J10-J9) -> 19.316007 | L5: =L6+(L7-L6)*(L8-L9)/(L10-L9) -> 19.249956 | M5: =M6+(M7-M6)*(M8-M9)/(M10-M9) -> 19.223903 | N5: =N6+(N7-N6)*(N8-N9)/(N10-N9) -> 19.199936 | O5: =O6+(O7-O6)*(O8-O9)/(O10-O9) -> 19.177746 | P5: =P6+(P7-P6)*(P8-P9)/(P10-P9) -> 19.157088 | Q5: =Q6+(Q7-Q6)*(Q8-Q9)/(Q10-Q9) -> 19.137764 | R5: =R6+(R7-R6)*(R8-R9)/(R10-R9) -> 19.119611 | S5: =S6+(S7-S6)*(S8-S9)/(S10-S9) -> 19.102497 | ... GQ5: =GQ6+(GQ7-GQ6)*(GQ8-GQ9)/(GQ10-GQ9) -> 11.496516
A6: yi | C6: =LN($B$2) -> 20.191897 | D6: =LN($B$2) -> 20.191897 | E6: =LN($D$2) -> 19.707155 | F6: =LN($D$2) -> 19.707155 | G6: =LN($D$2) -> 19.707155 | H6: =LN($D$2) -> 19.707155 | I6: =LN($D$2) -> 19.707155 | J6: =LN($D$2) -> 19.707155 | L6: =LN($K$2) -> 19.278495 | M6: =LN($K$2) -> 19.278495 | N6: =LN($K$2) -> 19.278495 | O6: =LN($K$2) -> 19.278495 | P6: =LN($K$2) -> 19.278495 | Q6: =LN($K$2) -> 19.278495 | R6: =LN($K$2) -> 19.278495 | S6: =LN($K$2) -> 19.278495 | ... AE6: =LN($K$2) -> 19.278495 | AF6: =LN($AE$2) -> 18.949543 | AG6: =LN($AE$2) -> 18.949543 | AH6: =LN($AE$2) -> 18.949543 | AI6: =LN($AE$2) -> 18.949543 | AJ6: =LN($AE$2) -> 18.949543 | AK6: =LN($AE$2) -> 18.949543 | AL6: =LN($AE$2) -> 18.949543 | AM6: =LN($AE$2) -> 18.949543 | ... CE6: =LN($AE$2) -> 18.949543 | CF6: =LN($CE$2) -> 18.21991 | CG6: =LN($CE$2) -> 18.21991 | CH6: =LN($CG$2) -> 17.527374 | CI6: =LN($CG$2) -> 17.527374 | CJ6: =LN($CG$2) -> 17.527374 | CK6: =LN($CG$2) -> 17.527374 | CL6: =LN($CG$2) -> 17.527374 | CM6: =LN($CG$2) -> 17.527374 | CN6: =LN($CG$2) -> 17.527374 | CO6: =LN($CN$2) -> 16.689075 | CP6: =LN($CP$2) -> 15.853609 | CQ6: =LN($CP$2) -> 15.853609 | CR6: =LN($CP$2) -> 15.853609 | CS6: =LN($CP$2) -> 15.853609 | CT6: =LN($CP$2) -> 15.853609 | CU6: =LN($CP$2) -> 15.853609 | CV6: =LN($CP$2) -> 15.853609 | CW6: =LN($CP$2) -> 15.853609 | CX6: =LN($CW$2) -> 15.339608 | CY6: =LN($CW$2) -> 15.339608 | CZ6: =LN($CY$2) -> 14.387619 | DA6: =LN($CY$2) -> 14.387619 | DB6: =LN($CY$2) -> 14.387619 | DC6: =LN($CY$2) -> 14.387619 | DD6: =LN($CY$2) -> 14.387619 | DE6: =LN($CY$2) -> 14.387619 | DF6: =LN($CY$2) -> 14.387619 | DG6: =LN($DF$2) -> 12.705938 | DH6: =LN($DF$2) -> 12.705938 | DI6: =LN($DF$2) -> 12.705938 | DJ6: =LN($DF$2) -> 12.705938 | DK6: =LN($DF$2) -> 12.705938 | DL6: =LN($DF$2) -> 12.705938 | DM6: =LN($DF$2) -> 12.705938 | DN6: =LN($DF$2) -> 12.705938 | ... DZ6: =LN($DF$2) -> 12.705938 | EA6: =LN($DZ$2) -> 11.983554 | EB6: =LN($DZ$2) -> 11.983554 | EC6: =LN($DZ$2) -> 11.983554 | ED6: =LN($DZ$2) -> 11.983554 | EE6: =LN($DZ$2) -> 11.983554 | EF6: =LN($DZ$2) -> 11.983554 | EG6: =LN($DZ$2) -> 11.983554 | EH6: =LN($DZ$2) -> 11.983554 | ... GQ6: =LN($DZ$2) -> 11.983554
A7: yi+1 | C7: =LN($D$2) -> 19.707155 | D7: =LN($D$2) -> 19.707155 | E7: =LN($K$2) -> 19.278495 | F7: =LN($K$2) -> 19.278495 | G7: =LN($K$2) -> 19.278495 | H7: =LN($K$2) -> 19.278495 | I7: =LN($K$2) -> 19.278495 | J7: =LN($K$2) -> 19.278495 | L7: =LN($AE$2) -> 18.949543 | M7: =LN($AE$2) -> 18.949543 | N7: =LN($AE$2) -> 18.949543 | O7: =LN($AE$2) -> 18.949543 | P7: =LN($AE$2) -> 18.949543 | Q7: =LN($AE$2) -> 18.949543 | R7: =LN($AE$2) -> 18.949543 | S7: =LN($AE$2) -> 18.949543 | ... AE7: =LN($AE$2) -> 18.949543 | AF7: =LN($CE$2) -> 18.21991 | AG7: =LN($CE$2) -> 18.21991 | AH7: =LN($CE$2) -> 18.21991 | AI7: =LN($CE$2) -> 18.21991 | AJ7: =LN($CE$2) -> 18.21991 | AK7: =LN($CE$2) -> 18.21991 | AL7: =LN($CE$2) -> 18.21991 | AM7: =LN($CE$2) -> 18.21991 | ... CE7: =LN($CE$2) -> 18.21991 | CF7: =LN($CG$2) -> 17.527374 | CG7: =LN($CG$2) -> 17.527374 | CH7: =LN($CN$2) -> 16.689075 | CI7: =LN($CN$2) -> 16.689075 | CJ7: =LN($CN$2) -> 16.689075 | CK7: =LN($CN$2) -> 16.689075 | CL7: =LN($CN$2) -> 16.689075 | CM7: =LN($CN$2) -> 16.689075 | CN7: =LN($CN$2) -> 16.689075 | CO7: =LN($CP$2) -> 15.853609 | CP7: =LN($CP$2) -> 15.853609 | CQ7: =LN($CW$2) -> 15.339608 | CR7: =LN($CW$2) -> 15.339608 | CS7: =LN($CW$2) -> 15.339608 | CT7: =LN($CW$2) -> 15.339608 | CU7: =LN($CW$2) -> 15.339608 | CV7: =LN($CW$2) -> 15.339608 | CW7: =LN($CW$2) -> 15.339608 | CX7: =LN($CY$2) -> 14.387619 | CY7: =LN($CY$2) -> 14.387619 | CZ7: =LN($DF$2) -> 12.705938 | DA7: =LN($DF$2) -> 12.705938 | DB7: =LN($DF$2) -> 12.705938 | DC7: =LN($DF$2) -> 12.705938 | DD7: =LN($DF$2) -> 12.705938 | DE7: =LN($DF$2) -> 12.705938 | DF7: =LN($DF$2) -> 12.705938 | DG7: =LN($DZ$2) -> 11.983554 | DH7: =LN($DZ$2) -> 11.983554 | DI7: =LN($DZ$2) -> 11.983554 | DJ7: =LN($DZ$2) -> 11.983554 | DK7: =LN($DZ$2) -> 11.983554 | DL7: =LN($DZ$2) -> 11.983554 | DM7: =LN($DZ$2) -> 11.983554 | DN7: =LN($DZ$2) -> 11.983554 | ... DZ7: =LN($DZ$2) -> 11.983554 | EA7: =LN($GR$2) -> 11.492417 | EB7: =LN($GR$2) -> 11.492417 | EC7: =LN($GR$2) -> 11.492417 | ED7: =LN($GR$2) -> 11.492417 | EE7: =LN($GR$2) -> 11.492417 | EF7: =LN($GR$2) -> 11.492417 | EG7: =LN($GR$2) -> 11.492417 | EH7: =LN($GR$2) -> 11.492417 | ... GQ7: =LN($GR$2) -> 11.492417
A8: x | C8: =LN(C1) -> 0.69314718 | D8: =LN(D1) -> 1.0986123 | E8: =LN(E1) -> 1.3862944 | F8: =LN(F1) -> 1.6094379 | G8: =LN(G1) -> 1.7917595 | H8: =LN(H1) -> 1.9459101 | I8: =LN(I1) -> 2.0794415 | J8: =LN(J1) -> 2.1972246 | L8: =LN(L1) -> 2.3978953 | M8: =LN(M1) -> 2.4849066 | N8: =LN(N1) -> 2.5649494 | O8: =LN(O1) -> 2.6390573 | P8: =LN(P1) -> 2.7080502 | Q8: =LN(Q1) -> 2.7725887 | R8: =LN(R1) -> 2.8332133 | S8: =LN(S1) -> 2.8903718 | ... GQ8: =LN(GQ1) -> 13.80546
A9: xi | C9: =LN($B$1) -> 0 | D9: =LN($B$1) -> 0 | E9: =LN($D$1) -> 1.0986123 | F9: =LN($D$1) -> 1.0986123 | G9: =LN($D$1) -> 1.0986123 | H9: =LN($D$1) -> 1.0986123 | I9: =LN($D$1) -> 1.0986123 | J9: =LN($D$1) -> 1.0986123 | L9: =LN($K$1) -> 2.3025851 | M9: =LN($K$1) -> 2.3025851 | N9: =LN($K$1) -> 2.3025851 | O9: =LN($K$1) -> 2.3025851 | P9: =LN($K$1) -> 2.3025851 | Q9: =LN($K$1) -> 2.3025851 | R9: =LN($K$1) -> 2.3025851 | S9: =LN($K$1) -> 2.3025851 | ... AE9: =LN($K$1) -> 2.3025851 | AF9: =LN($AE$1) -> 3.4011974 | AG9: =LN($AE$1) -> 3.4011974 | AH9: =LN($AE$1) -> 3.4011974 | AI9: =LN($AE$1) -> 3.4011974 | AJ9: =LN($AE$1) -> 3.4011974 | AK9: =LN($AE$1) -> 3.4011974 | AL9: =LN($AE$1) -> 3.4011974 | AM9: =LN($AE$1) -> 3.4011974 | ... CE9: =LN($AE$1) -> 3.4011974 | CF9: =LN($CE$1) -> 4.6051702 | CG9: =LN($CE$1) -> 4.6051702 | CH9: =LN($CG$1) -> 5.7037825 | CI9: =LN($CG$1) -> 5.7037825 | CJ9: =LN($CG$1) -> 5.7037825 | CK9: =LN($CG$1) -> 5.7037825 | CL9: =LN($CG$1) -> 5.7037825 | CM9: =LN($CG$1) -> 5.7037825 | CN9: =LN($CG$1) -> 5.7037825 | CO9: =LN($CN$1) -> 6.9077553 | CP9: =LN($CP$1) -> 8.0063676 | CQ9: =LN($CP$1) -> 8.0063676 | CR9: =LN($CP$1) -> 8.0063676 | CS9: =LN($CP$1) -> 8.0063676 | CT9: =LN($CP$1) -> 8.0063676 | CU9: =LN($CP$1) -> 8.0063676 | CV9: =LN($CP$1) -> 8.0063676 | CW9: =LN($CP$1) -> 8.0063676 | CX9: =LN($CW$1) -> 9.2103404 | CY9: =LN($CW$1) -> 9.2103404 | CZ9: =LN($CY$1) -> 10.308953 | DA9: =LN($CY$1) -> 10.308953 | DB9: =LN($CY$1) -> 10.308953 | DC9: =LN($CY$1) -> 10.308953 | DD9: =LN($CY$1) -> 10.308953 | DE9: =LN($CY$1) -> 10.308953 | DF9: =LN($CY$1) -> 10.308953 | DG9: =LN($DF$1) -> 11.512925 | DH9: =LN($DF$1) -> 11.512925 | DI9: =LN($DF$1) -> 11.512925 | DJ9: =LN($DF$1) -> 11.512925 | DK9: =LN($DF$1) -> 11.512925 | DL9: =LN($DF$1) -> 11.512925 | DM9: =LN($DF$1) -> 11.512925 | DN9: =LN($DF$1) -> 11.512925 | ... DZ9: =LN($DF$1) -> 11.512925 | EA9: =LN($DZ$1) -> 12.611538 | EB9: =LN($DZ$1) -> 12.611538 | EC9: =LN($DZ$1) -> 12.611538 | ED9: =LN($DZ$1) -> 12.611538 | EE9: =LN($DZ$1) -> 12.611538 | EF9: =LN($DZ$1) -> 12.611538 | EG9: =LN($DZ$1) -> 12.611538 | EH9: =LN($DZ$1) -> 12.611538 | ... GQ9: =LN($DZ$1) -> 12.611538
A10: xi+1 | C10: =LN($D$1) -> 1.0986123 | D10: =LN($D$1) -> 1.0986123 | E10: =LN($K$1) -> 2.3025851 | F10: =LN($K$1) -> 2.3025851 | G10: =LN($K$1) -> 2.3025851 | H10: =LN($K$1) -> 2.3025851 | I10: =LN($K$1) -> 2.3025851 | J10: =LN($K$1) -> 2.3025851 | L10: =LN($AE$1) -> 3.4011974 | M10: =LN($AE$1) -> 3.4011974 | N10: =LN($AE$1) -> 3.4011974 | O10: =LN($AE$1) -> 3.4011974 | P10: =LN($AE$1) -> 3.4011974 | Q10: =LN($AE$1) -> 3.4011974 | R10: =LN($AE$1) -> 3.4011974 | S10: =LN($AE$1) -> 3.4011974 | ... AE10: =LN($AE$1) -> 3.4011974 | AF10: =LN($CE$1) -> 4.6051702 | AG10: =LN($CE$1) -> 4.6051702 | AH10: =LN($CE$1) -> 4.6051702 | AI10: =LN($CE$1) -> 4.6051702 | AJ10: =LN($CE$1) -> 4.6051702 | AK10: =LN($CE$1) -> 4.6051702 | AL10: =LN($CE$1) -> 4.6051702 | AM10: =LN($CE$1) -> 4.6051702 | ... CE10: =LN($CE$1) -> 4.6051702 | CF10: =LN($CG$1) -> 5.7037825 | CG10: =LN($CG$1) -> 5.7037825 | CH10: =LN($CN$1) -> 6.9077553 | CI10: =LN($CN$1) -> 6.9077553 | CJ10: =LN($CN$1) -> 6.9077553 | CK10: =LN($CN$1) -> 6.9077553 | CL10: =LN($CN$1) -> 6.9077553 | CM10: =LN($CN$1) -> 6.9077553 | CN10: =LN($CN$1) -> 6.9077553 | CO10: =LN($CP$1) -> 8.0063676 | CP10: =LN($CW$1) -> 9.2103404 | CQ10: =LN($CW$1) -> 9.2103404 | CR10: =LN($CW$1) -> 9.2103404 | CS10: =LN($CW$1) -> 9.2103404 | CT10: =LN($CW$1) -> 9.2103404 | CU10: =LN($CW$1) -> 9.2103404 | CV10: =LN($CW$1) -> 9.2103404 | CW10: =LN($CW$1) -> 9.2103404 | CX10: =LN($CY$1) -> 10.308953 | CY10: =LN($CY$1) -> 10.308953 | CZ10: =LN($DF$1) -> 11.512925 | DA10: =LN($DF$1) -> 11.512925 | DB10: =LN($DF$1) -> 11.512925 | DC10: =LN($DF$1) -> 11.512925 | DD10: =LN($DF$1) -> 11.512925 | DE10: =LN($DF$1) -> 11.512925 | DF10: =LN($DF$1) -> 11.512925 | DG10: =LN($DZ$1) -> 12.611538 | DH10: =LN($DZ$1) -> 12.611538 | DI10: =LN($DZ$1) -> 12.611538 | DJ10: =LN($DZ$1) -> 12.611538 | DK10: =LN($DZ$1) -> 12.611538 | DL10: =LN($DZ$1) -> 12.611538 | DM10: =LN($DZ$1) -> 12.611538 | DN10: =LN($DZ$1) -> 12.611538 | ... DZ10: =LN($DZ$1) -> 12.611538 | EA10: =LN($GR$1) -> 13.815511 | EB10: =LN($GR$1) -> 13.815511 | EC10: =LN($GR$1) -> 13.815511 | ED10: =LN($GR$1) -> 13.815511 | EE10: =LN($GR$1) -> 13.815511 | EF10: =LN($GR$1) -> 13.815511 | EG10: =LN($GR$1) -> 13.815511 | EH10: =LN($GR$1) -> 13.815511 | ... GQ10: =LN($GR$1) -> 13.815511
A11: DH | C11: =EXP(C5) -> 4.3291797e+08 | D11: =EXP(D5) -> 3.62e+08 | E11: =EXP(E5) -> 3.2675754e+08 | F11: =EXP(F5) -> 3.0180189e+08 | G11: =EXP(G5) -> 2.8283322e+08 | H11: =EXP(H5) -> 2.6772862e+08 | I11: =EXP(I5) -> 2.5529803e+08 | J11: =EXP(J5) -> 2.4481341e+08 | L11: =EXP(L5) -> 2.291658e+08 | M11: =EXP(M5) -> 2.2327236e+08 | N11: =EXP(N5) -> 2.1798486e+08 | O11: =EXP(O5) -> 2.132011e+08 | P11: =EXP(P5) -> 2.0884193e+08 | Q11: =EXP(Q5) -> 2.0484492e+08 | R11: =EXP(R5) -> 2.0116002e+08 | S11: =EXP(S5) -> 1.9774653e+08 | ... GQ11: =EXP(GQ5) -> 98372.486
A14: 1 | CC14: 1 | CD14: =EXP($CD$6+($CD$7-$CD$6)*((LN($CD$1-A14))-$CD$9)/($CD$10-$CD$9)) -> 87796480 | CE14: =EXP($CE$6+($CE$7-$CE$6)*((LN($CE$1-A14))-$CE$9)/($CE$10-$CE$9)) -> 82309802 | CF14: =EXP($CF$6+($CF$7-$CF$6)*((LN($CF$1-A14))-$CF$9)/($CF$10-$CF$9)) -> 53017263 | CG14: =EXP($CG$6+($CG$7-$CG$6)*((LN($CG$1-A14))-$CG$9)/($CG$10-$CG$9)) -> 41016238 | CH14: =EXP($CH$6+($CH$7-$CH$6)*((LN($CH$1-A14))-$CH$9)/($CH$10-$CH$9)) -> 33558820 | CI14: =EXP($CI$6+($CI$7-$CI$6)*((LN($CI$1-A14))-$CI$9)/($CI$10-$CI$9)) -> 28719636 | CJ14: =EXP($CJ$6+($CJ$7-$CJ$6)*((LN($CJ$1-A14))-$CJ$9)/($CJ$10-$CJ$9)) -> 25289827 | CK14: =EXP($CK$6+($CK$7-$CK$6)*((LN($CK$1-A14))-$CK$9)/($CK$10-$CK$9)) -> 22712254 | CL14: =EXP($CL$6+($CL$7-$CL$6)*((LN($CL$1-A14))-$CL$9)/($CL$10-$CL$9)) -> 20693203 | CM14: =EXP($CM$6+($CM$7-$CM$6)*((LN($CM$1-A14))-$CM$9)/($CM$10-$CM$9)) -> 19062038 | CN14: =EXP($CN$6+($CN$7-$CN$6)*((LN($CN$1-A14))-$CN$9)/($CN$10-$CN$9)) -> 17712335 | CO14: =EXP($CO$6+($CO$7-$CO$6)*((LN($CO$1-A14))-$CO$9)/($CO$10-$CO$9)) -> 10452326 | CP14: =EXP($CP$6+($CP$7-$CP$6)*((LN($CP$1-A14))-$CP$9)/($CP$10-$CP$9)) -> 7676000 | CQ14: =EXP($CQ$6+($CQ$7-$CQ$6)*((LN($CQ$1-A14))-$CQ$9)/($CQ$10-$CQ$9)) -> 6789572.2 | CR14: =EXP($CR$6+($CR$7-$CR$6)*((LN($CR$1-A14))-$CR$9)/($CR$10-$CR$9)) -> 6172488.2 | CS14: =EXP($CS$6+($CS$7-$CS$6)*((LN($CS$1-A14))-$CS$9)/($CS$10-$CS$9)) -> 5710182.4 | CT14: =EXP($CT$6+($CT$7-$CT$6)*((LN($CT$1-A14))-$CT$9)/($CT$10-$CT$9)) -> 5346438.9 | CU14: =EXP($CU$6+($CU$7-$CU$6)*((LN($CU$1-A14))-$CU$9)/($CU$10-$CU$9)) -> 5050139.2 | CV14: =EXP($CV$6+($CV$7-$CV$6)*((LN($CV$1-A14))-$CV$9)/($CV$10-$CV$9)) -> 4802448.4 | CW14: =EXP($CW$6+($CW$7-$CW$6)*((LN($CW$1-A14))-$CW$9)/($CW$10-$CW$9)) -> 4591196 | CX14: =EXP($CX$6+($CX$7-$CX$6)*((LN($CX$1-A14))-$CX$9)/($CX$10-$CX$9)) -> 2518095.8 | CY14: =EXP($CY$6+($CY$7-$CY$6)*((LN($CY$1-A14))-$CY$9)/($CY$10-$CY$9)) -> 1772051.2 | CZ14: =EXP($CZ$6+($CZ$7-$CZ$6)*((LN($CZ$1-A14))-$CZ$9)/($CZ$10-$CZ$9)) -> 1185679.7 | DA14: =EXP($DA$6+($DA$7-$DA$6)*((LN($DA$1-A14))-$DA$9)/($DA$10-$DA$9)) -> 868165.89 | DB14: =EXP($DB$6+($DB$7-$DB$6)*((LN($DB$1-A14))-$DB$9)/($DB$10-$DB$9)) -> 672980.05 | DC14: =EXP($DC$6+($DC$7-$DC$6)*((LN($DC$1-A14))-$DC$9)/($DC$10-$DC$9)) -> 542614.05 | DD14: =EXP($DD$6+($DD$7-$DD$6)*((LN($DD$1-A14))-$DD$9)/($DD$10-$DD$9)) -> 450285.71 | DE14: =EXP($DE$6+($DE$7-$DE$6)*((LN($DE$1-A14))-$DE$9)/($DE$10-$DE$9)) -> 381978.29 | DF14: =EXP($DF$6+($DF$7-$DF$6)*((LN($DF$1-A14))-$DF$9)/($DF$10-$DF$9)) -> 329704.61
A15: 2 | CC15: 2 | CD15: =EXP($CD$6+($CD$7-$CD$6)*((LN($CD$1-A15))-$CD$9)/($CD$10-$CD$9)) -> 88399753 | CE15: =EXP($CE$6+($CE$7-$CE$6)*((LN($CE$1-A15))-$CE$9)/($CE$10-$CE$9)) -> 82817778 | CF15: =EXP($CF$6+($CF$7-$CF$6)*((LN($CF$1-A15))-$CF$9)/($CF$10-$CF$9)) -> 53185897 | CG15: =EXP($CG$6+($CG$7-$CG$6)*((LN($CG$1-A15))-$CG$9)/($CG$10-$CG$9)) -> 41102948 | CH15: =EXP($CH$6+($CH$7-$CH$6)*((LN($CH$1-A15))-$CH$9)/($CH$10-$CH$9)) -> 33617507 | CI15: =EXP($CI$6+($CI$7-$CI$6)*((LN($CI$1-A15))-$CI$9)/($CI$10-$CI$9)) -> 28759778 | CJ15: =EXP($CJ$6+($CJ$7-$CJ$6)*((LN($CJ$1-A15))-$CJ$9)/($CJ$10-$CJ$9)) -> 25319266 | CK15: =EXP($CK$6+($CK$7-$CK$6)*((LN($CK$1-A15))-$CK$9)/($CK$10-$CK$9)) -> 22734906 | CL15: =EXP($CL$6+($CL$7-$CL$6)*((LN($CL$1-A15))-$CL$9)/($CL$10-$CL$9)) -> 20711255 | CM15: =EXP($CM$6+($CM$7-$CM$6)*((LN($CM$1-A15))-$CM$9)/($CM$10-$CM$9)) -> 19076816 | CN15: =EXP($CN$6+($CN$7-$CN$6)*((LN($CN$1-A15))-$CN$9)/($CN$10-$CN$9)) -> 17724690 | CO15: =EXP($CO$6+($CO$7-$CO$6)*((LN($CO$1-A15))-$CO$9)/($CO$10-$CO$9)) -> 10456304 | CP15: =EXP($CP$6+($CP$7-$CP$6)*((LN($CP$1-A15))-$CP$9)/($CP$10-$CP$9)) -> 7676000 | CQ15: =EXP($CQ$6+($CQ$7-$CQ$6)*((LN($CQ$1-A15))-$CQ$9)/($CQ$10-$CQ$9)) -> 6790297.2 | CR15: =EXP($CR$6+($CR$7-$CR$6)*((LN($CR$1-A15))-$CR$9)/($CR$10-$CR$9)) -> 6173015.4 | CS15: =EXP($CS$6+($CS$7-$CS$6)*((LN($CS$1-A15))-$CS$9)/($CS$10-$CS$9)) -> 5710588.8 | CT15: =EXP($CT$6+($CT$7-$CT$6)*((LN($CT$1-A15))-$CT$9)/($CT$10-$CT$9)) -> 5346765.1 | CU15: =EXP($CU$6+($CU$7-$CU$6)*((LN($CU$1-A15))-$CU$9)/($CU$10-$CU$9)) -> 5050408.7 | CV15: =EXP($CV$6+($CV$7-$CV$6)*((LN($CV$1-A15))-$CV$9)/($CV$10-$CV$9)) -> 4802676.3 | CW15: =EXP($CW$6+($CW$7-$CW$6)*((LN($CW$1-A15))-$CW$9)/($CW$10-$CW$9)) -> 4591392.1 | CX15: =EXP($CX$6+($CX$7-$CX$6)*((LN($CX$1-A15))-$CX$9)/($CX$10-$CX$9)) -> 2518205 | CY15: =EXP($CY$6+($CY$7-$CY$6)*((LN($CY$1-A15))-$CY$9)/($CY$10-$CY$9)) -> 1772102.4 | CZ15: =EXP($CZ$6+($CZ$7-$CZ$6)*((LN($CZ$1-A15))-$CZ$9)/($CZ$10-$CZ$9)) -> 1185721.1 | DA15: =EXP($DA$6+($DA$7-$DA$6)*((LN($DA$1-A15))-$DA$9)/($DA$10-$DA$9)) -> 868190.14 | DB15: =EXP($DB$6+($DB$7-$DB$6)*((LN($DB$1-A15))-$DB$9)/($DB$10-$DB$9)) -> 672995.72 | DC15: =EXP($DC$6+($DC$7-$DC$6)*((LN($DC$1-A15))-$DC$9)/($DC$10-$DC$9)) -> 542624.88 | DD15: =EXP($DD$6+($DD$7-$DD$6)*((LN($DD$1-A15))-$DD$9)/($DD$10-$DD$9)) -> 450293.57 | DE15: =EXP($DE$6+($DE$7-$DE$6)*((LN($DE$1-A15))-$DE$9)/($DE$10-$DE$9)) -> 381984.22 | DF15: =EXP($DF$6+($DF$7-$DF$6)*((LN($DF$1-A15))-$DF$9)/($DF$10-$DF$9)) -> 329709.21
A16: 3 | CC16: 3 | CD16: =EXP($CD$6+($CD$7-$CD$6)*((LN($CD$1-A16))-$CD$9)/($CD$10-$CD$9)) -> 89014138 | CE16: =EXP($CE$6+($CE$7-$CE$6)*((LN($CE$1-A16))-$CE$9)/($CE$10-$CE$9)) -> 83334148 | CF16: =EXP($CF$6+($CF$7-$CF$6)*((LN($CF$1-A16))-$CF$9)/($CF$10-$CF$9)) -> 53355925 | CG16: =EXP($CG$6+($CG$7-$CG$6)*((LN($CG$1-A16))-$CG$9)/($CG$10-$CG$9)) -> 41190134 | CH16: =EXP($CH$6+($CH$7-$CH$6)*((LN($CH$1-A16))-$CH$9)/($CH$10-$CH$9)) -> 33676445 | CI16: =EXP($CI$6+($CI$7-$CI$6)*((LN($CI$1-A16))-$CI$9)/($CI$10-$CI$9)) -> 28800057 | CJ16: =EXP($CJ$6+($CJ$7-$CJ$6)*((LN($CJ$1-A16))-$CJ$9)/($CJ$10-$CJ$9)) -> 25348788 | CK16: =EXP($CK$6+($CK$7-$CK$6)*((LN($CK$1-A16))-$CK$9)/($CK$10-$CK$9)) -> 22757612 | CL16: =EXP($CL$6+($CL$7-$CL$6)*((LN($CL$1-A16))-$CL$9)/($CL$10-$CL$9)) -> 20729345 | CM16: =EXP($CM$6+($CM$7-$CM$6)*((LN($CM$1-A16))-$CM$9)/($CM$10-$CM$9)) -> 19091621 | CN16: =EXP($CN$6+($CN$7-$CN$6)*((LN($CN$1-A16))-$CN$9)/($CN$10-$CN$9)) -> 17737067 | CO16: =EXP($CO$6+($CO$7-$CO$6)*((LN($CO$1-A16))-$CO$9)/($CO$10-$CO$9)) -> 10460286 | CP16: =EXP($CP$6+($CP$7-$CP$6)*((LN($CP$1-A16))-$CP$9)/($CP$10-$CP$9)) -> 7676000 | CQ16: =EXP($CQ$6+($CQ$7-$CQ$6)*((LN($CQ$1-A16))-$CQ$9)/($CQ$10-$CQ$9)) -> 6791022.4 | CR16: =EXP($CR$6+($CR$7-$CR$6)*((LN($CR$1-A16))-$CR$9)/($CR$10-$CR$9)) -> 6173542.7 | CS16: =EXP($CS$6+($CS$7-$CS$6)*((LN($CS$1-A16))-$CS$9)/($CS$10-$CS$9)) -> 5710995.4 | CT16: =EXP($CT$6+($CT$7-$CT$6)*((LN($CT$1-A16))-$CT$9)/($CT$10-$CT$9)) -> 5347091.3 | CU16: =EXP($CU$6+($CU$7-$CU$6)*((LN($CU$1-A16))-$CU$9)/($CU$10-$CU$9)) -> 5050678.3 | CV16: =EXP($CV$6+($CV$7-$CV$6)*((LN($CV$1-A16))-$CV$9)/($CV$10-$CV$9)) -> 4802904.1 | CW16: =EXP($CW$6+($CW$7-$CW$6)*((LN($CW$1-A16))-$CW$9)/($CW$10-$CW$9)) -> 4591588.1 | CX16: =EXP($CX$6+($CX$7-$CX$6)*((LN($CX$1-A16))-$CX$9)/($CX$10-$CX$9)) -> 2518314.1 | CY16: =EXP($CY$6+($CY$7-$CY$6)*((LN($CY$1-A16))-$CY$9)/($CY$10-$CY$9)) -> 1772153.6 | CZ16: =EXP($CZ$6+($CZ$7-$CZ$6)*((LN($CZ$1-A16))-$CZ$9)/($CZ$10-$CZ$9)) -> 1185762.5 | DA16: =EXP($DA$6+($DA$7-$DA$6)*((LN($DA$1-A16))-$DA$9)/($DA$10-$DA$9)) -> 868214.4 | DB16: =EXP($DB$6+($DB$7-$DB$6)*((LN($DB$1-A16))-$DB$9)/($DB$10-$DB$9)) -> 673011.38 | DC16: =EXP($DC$6+($DC$7-$DC$6)*((LN($DC$1-A16))-$DC$9)/($DC$10-$DC$9)) -> 542635.71 | DD16: =EXP($DD$6+($DD$7-$DD$6)*((LN($DD$1-A16))-$DD$9)/($DD$10-$DD$9)) -> 450301.43 | DE16: =EXP($DE$6+($DE$7-$DE$6)*((LN($DE$1-A16))-$DE$9)/($DE$10-$DE$9)) -> 381990.14 | DF16: =EXP($DF$6+($DF$7-$DF$6)*((LN($DF$1-A16))-$DF$9)/($DF$10-$DF$9)) -> 329713.82
A17: 4 | CC17: 4 | CD17: =EXP($CD$6+($CD$7-$CD$6)*((LN($CD$1-A17))-$CD$9)/($CD$10-$CD$9)) -> 89639970 | CE17: =EXP($CE$6+($CE$7-$CE$6)*((LN($CE$1-A17))-$CE$9)/($CE$10-$CE$9)) -> 83859138 | CF17: =EXP($CF$6+($CF$7-$CF$6)*((LN($CF$1-A17))-$CF$9)/($CF$10-$CF$9)) -> 53527367 | CG17: =EXP($CG$6+($CG$7-$CG$6)*((LN($CG$1-A17))-$CG$9)/($CG$10-$CG$9)) -> 41277799 | CH17: =EXP($CH$6+($CH$7-$CH$6)*((LN($CH$1-A17))-$CH$9)/($CH$10-$CH$9)) -> 33735634 | CI17: =EXP($CI$6+($CI$7-$CI$6)*((LN($CI$1-A17))-$CI$9)/($CI$10-$CI$9)) -> 28840474 | CJ17: =EXP($CJ$6+($CJ$7-$CJ$6)*((LN($CJ$1-A17))-$CJ$9)/($CJ$10-$CJ$9)) -> 25378394 | CK17: =EXP($CK$6+($CK$7-$CK$6)*((LN($CK$1-A17))-$CK$9)/($CK$10-$CK$9)) -> 22780374 | CL17: =EXP($CL$6+($CL$7-$CL$6)*((LN($CL$1-A17))-$CL$9)/($CL$10-$CL$9)) -> 20747474 | CM17: =EXP($CM$6+($CM$7-$CM$6)*((LN($CM$1-A17))-$CM$9)/($CM$10-$CM$9)) -> 19106455 | CN17: =EXP($CN$6+($CN$7-$CN$6)*((LN($CN$1-A17))-$CN$9)/($CN$10-$CN$9)) -> 17749464 | CO17: =EXP($CO$6+($CO$7-$CO$6)*((LN($CO$1-A17))-$CO$9)/($CO$10-$CO$9)) -> 10464271 | CP17: =EXP($CP$6+($CP$7-$CP$6)*((LN($CP$1-A17))-$CP$9)/($CP$10-$CP$9)) -> 7676000 | CQ17: =EXP($CQ$6+($CQ$7-$CQ$6)*((LN($CQ$1-A17))-$CQ$9)/($CQ$10-$CQ$9)) -> 6791747.9 | CR17: =EXP($CR$6+($CR$7-$CR$6)*((LN($CR$1-A17))-$CR$9)/($CR$10-$CR$9)) -> 6174070.2 | CS17: =EXP($CS$6+($CS$7-$CS$6)*((LN($CS$1-A17))-$CS$9)/($CS$10-$CS$9)) -> 5711402 | CT17: =EXP($CT$6+($CT$7-$CT$6)*((LN($CT$1-A17))-$CT$9)/($CT$10-$CT$9)) -> 5347417.6 | CU17: =EXP($CU$6+($CU$7-$CU$6)*((LN($CU$1-A17))-$CU$9)/($CU$10-$CU$9)) -> 5050948 | CV17: =EXP($CV$6+($CV$7-$CV$6)*((LN($CV$1-A17))-$CV$9)/($CV$10-$CV$9)) -> 4803132.1 | CW17: =EXP($CW$6+($CW$7-$CW$6)*((LN($CW$1-A17))-$CW$9)/($CW$10-$CW$9)) -> 4591784.2 | CX17: =EXP($CX$6+($CX$7-$CX$6)*((LN($CX$1-A17))-$CX$9)/($CX$10-$CX$9)) -> 2518423.2 | CY17: =EXP($CY$6+($CY$7-$CY$6)*((LN($CY$1-A17))-$CY$9)/($CY$10-$CY$9)) -> 1772204.8 | CZ17: =EXP($CZ$6+($CZ$7-$CZ$6)*((LN($CZ$1-A17))-$CZ$9)/($CZ$10-$CZ$9)) -> 1185803.9 | DA17: =EXP($DA$6+($DA$7-$DA$6)*((LN($DA$1-A17))-$DA$9)/($DA$10-$DA$9)) -> 868238.65 | DB17: =EXP($DB$6+($DB$7-$DB$6)*((LN($DB$1-A17))-$DB$9)/($DB$10-$DB$9)) -> 673027.05 | DC17: =EXP($DC$6+($DC$7-$DC$6)*((LN($DC$1-A17))-$DC$9)/($DC$10-$DC$9)) -> 542646.54 | DD17: =EXP($DD$6+($DD$7-$DD$6)*((LN($DD$1-A17))-$DD$9)/($DD$10-$DD$9)) -> 450309.3 | DE17: =EXP($DE$6+($DE$7-$DE$6)*((LN($DE$1-A17))-$DE$9)/($DE$10-$DE$9)) -> 381996.07 | DF17: =EXP($DF$6+($DF$7-$DF$6)*((LN($DF$1-A17))-$DF$9)/($DF$10-$DF$9)) -> 329718.42
A18: 5 | CC18: 5 | CD18: =EXP($CD$6+($CD$7-$CD$6)*((LN($CD$1-A18))-$CD$9)/($CD$10-$CD$9)) -> 90277599 | CE18: =EXP($CE$6+($CE$7-$CE$6)*((LN($CE$1-A18))-$CE$9)/($CE$10-$CE$9)) -> 84392986 | CF18: =EXP($CF$6+($CF$7-$CF$6)*((LN($CF$1-A18))-$CF$9)/($CF$10-$CF$9)) -> 53700240 | CG18: =EXP($CG$6+($CG$7-$CG$6)*((LN($CG$1-A18))-$CG$9)/($CG$10-$CG$9)) -> 41365949 | CH18: =EXP($CH$6+($CH$7-$CH$6)*((LN($CH$1-A18))-$CH$9)/($CH$10-$CH$9)) -> 33795078 | CI18: =EXP($CI$6+($CI$7-$CI$6)*((LN($CI$1-A18))-$CI$9)/($CI$10-$CI$9)) -> 28881029 | CJ18: =EXP($CJ$6+($CJ$7-$CJ$6)*((LN($CJ$1-A18))-$CJ$9)/($CJ$10-$CJ$9)) -> 25408085 | CK18: =EXP($CK$6+($CK$7-$CK$6)*((LN($CK$1-A18))-$CK$9)/($CK$10-$CK$9)) -> 22803191 | CL18: =EXP($CL$6+($CL$7-$CL$6)*((LN($CL$1-A18))-$CL$9)/($CL$10-$CL$9)) -> 20765641 | CM18: =EXP($CM$6+($CM$7-$CM$6)*((LN($CM$1-A18))-$CM$9)/($CM$10-$CM$9)) -> 19121316 | CN18: =EXP($CN$6+($CN$7-$CN$6)*((LN($CN$1-A18))-$CN$9)/($CN$10-$CN$9)) -> 17761883 | CO18: =EXP($CO$6+($CO$7-$CO$6)*((LN($CO$1-A18))-$CO$9)/($CO$10-$CO$9)) -> 10468260 | CP18: =EXP($CP$6+($CP$7-$CP$6)*((LN($CP$1-A18))-$CP$9)/($CP$10-$CP$9)) -> 7676000 | CQ18: =EXP($CQ$6+($CQ$7-$CQ$6)*((LN($CQ$1-A18))-$CQ$9)/($CQ$10-$CQ$9)) -> 6792473.6 | CR18: =EXP($CR$6+($CR$7-$CR$6)*((LN($CR$1-A18))-$CR$9)/($CR$10-$CR$9)) -> 6174597.9 | CS18: =EXP($CS$6+($CS$7-$CS$6)*((LN($CS$1-A18))-$CS$9)/($CS$10-$CS$9)) -> 5711808.7 | CT18: =EXP($CT$6+($CT$7-$CT$6)*((LN($CT$1-A18))-$CT$9)/($CT$10-$CT$9)) -> 5347743.9 | CU18: =EXP($CU$6+($CU$7-$CU$6)*((LN($CU$1-A18))-$CU$9)/($CU$10-$CU$9)) -> 5051217.7 | CV18: =EXP($CV$6+($CV$7-$CV$6)*((LN($CV$1-A18))-$CV$9)/($CV$10-$CV$9)) -> 4803360 | CW18: =EXP($CW$6+($CW$7-$CW$6)*((LN($CW$1-A18))-$CW$9)/($CW$10-$CW$9)) -> 4591980.3 | CX18: =EXP($CX$6+($CX$7-$CX$6)*((LN($CX$1-A18))-$CX$9)/($CX$10-$CX$9)) -> 2518532.4 | CY18: =EXP($CY$6+($CY$7-$CY$6)*((LN($CY$1-A18))-$CY$9)/($CY$10-$CY$9)) -> 1772256 | CZ18: =EXP($CZ$6+($CZ$7-$CZ$6)*((LN($CZ$1-A18))-$CZ$9)/($CZ$10-$CZ$9)) -> 1185845.3 | DA18: =EXP($DA$6+($DA$7-$DA$6)*((LN($DA$1-A18))-$DA$9)/($DA$10-$DA$9)) -> 868262.91 | DB18: =EXP($DB$6+($DB$7-$DB$6)*((LN($DB$1-A18))-$DB$9)/($DB$10-$DB$9)) -> 673042.72 | DC18: =EXP($DC$6+($DC$7-$DC$6)*((LN($DC$1-A18))-$DC$9)/($DC$10-$DC$9)) -> 542657.37 | DD18: =EXP($DD$6+($DD$7-$DD$6)*((LN($DD$1-A18))-$DD$9)/($DD$10-$DD$9)) -> 450317.16 | DE18: =EXP($DE$6+($DE$7-$DE$6)*((LN($DE$1-A18))-$DE$9)/($DE$10-$DE$9)) -> 382002 | DF18: =EXP($DF$6+($DF$7-$DF$6)*((LN($DF$1-A18))-$DF$9)/($DF$10-$DF$9)) -> 329723.03
A19: 6 | CC19: 6 | CD19: =EXP($CD$6+($CD$7-$CD$6)*((LN($CD$1-A19))-$CD$9)/($CD$10-$CD$9)) -> 90927391 | CE19: =EXP($CE$6+($CE$7-$CE$6)*((LN($CE$1-A19))-$CE$9)/($CE$10-$CE$9)) -> 84935936 | CF19: =EXP($CF$6+($CF$7-$CF$6)*((LN($CF$1-A19))-$CF$9)/($CF$10-$CF$9)) -> 53874565 | CG19: =EXP($CG$6+($CG$7-$CG$6)*((LN($CG$1-A19))-$CG$9)/($CG$10-$CG$9)) -> 41454587 | CH19: =EXP($CH$6+($CH$7-$CH$6)*((LN($CH$1-A19))-$CH$9)/($CH$10-$CH$9)) -> 33854778 | CI19: =EXP($CI$6+($CI$7-$CI$6)*((LN($CI$1-A19))-$CI$9)/($CI$10-$CI$9)) -> 28921723 | CJ19: =EXP($CJ$6+($CJ$7-$CJ$6)*((LN($CJ$1-A19))-$CJ$9)/($CJ$10-$CJ$9)) -> 25437860 | CK19: =EXP($CK$6+($CK$7-$CK$6)*((LN($CK$1-A19))-$CK$9)/($CK$10-$CK$9)) -> 22826064 | CL19: =EXP($CL$6+($CL$7-$CL$6)*((LN($CL$1-A19))-$CL$9)/($CL$10-$CL$9)) -> 20783848 | CM19: =EXP($CM$6+($CM$7-$CM$6)*((LN($CM$1-A19))-$CM$9)/($CM$10-$CM$9)) -> 19136206 | CN19: =EXP($CN$6+($CN$7-$CN$6)*((LN($CN$1-A19))-$CN$9)/($CN$10-$CN$9)) -> 17774323 | CO19: =EXP($CO$6+($CO$7-$CO$6)*((LN($CO$1-A19))-$CO$9)/($CO$10-$CO$9)) -> 10472252 | CP19: =EXP($CP$6+($CP$7-$CP$6)*((LN($CP$1-A19))-$CP$9)/($CP$10-$CP$9)) -> 7676000 | CQ19: =EXP($CQ$6+($CQ$7-$CQ$6)*((LN($CQ$1-A19))-$CQ$9)/($CQ$10-$CQ$9)) -> 6793199.6 | CR19: =EXP($CR$6+($CR$7-$CR$6)*((LN($CR$1-A19))-$CR$9)/($CR$10-$CR$9)) -> 6175125.7 | CS19: =EXP($CS$6+($CS$7-$CS$6)*((LN($CS$1-A19))-$CS$9)/($CS$10-$CS$9)) -> 5712215.5 | CT19: =EXP($CT$6+($CT$7-$CT$6)*((LN($CT$1-A19))-$CT$9)/($CT$10-$CT$9)) -> 5348070.3 | CU19: =EXP($CU$6+($CU$7-$CU$6)*((LN($CU$1-A19))-$CU$9)/($CU$10-$CU$9)) -> 5051487.4 | CV19: =EXP($CV$6+($CV$7-$CV$6)*((LN($CV$1-A19))-$CV$9)/($CV$10-$CV$9)) -> 4803588 | CW19: =EXP($CW$6+($CW$7-$CW$6)*((LN($CW$1-A19))-$CW$9)/($CW$10-$CW$9)) -> 4592176.5 | CX19: =EXP($CX$6+($CX$7-$CX$6)*((LN($CX$1-A19))-$CX$9)/($CX$10-$CX$9)) -> 2518641.5 | CY19: =EXP($CY$6+($CY$7-$CY$6)*((LN($CY$1-A19))-$CY$9)/($CY$10-$CY$9)) -> 1772307.2 | CZ19: =EXP($CZ$6+($CZ$7-$CZ$6)*((LN($CZ$1-A19))-$CZ$9)/($CZ$10-$CZ$9)) -> 1185886.8 | DA19: =EXP($DA$6+($DA$7-$DA$6)*((LN($DA$1-A19))-$DA$9)/($DA$10-$DA$9)) -> 868287.17 | DB19: =EXP($DB$6+($DB$7-$DB$6)*((LN($DB$1-A19))-$DB$9)/($DB$10-$DB$9)) -> 673058.39 | DC19: =EXP($DC$6+($DC$7-$DC$6)*((LN($DC$1-A19))-$DC$9)/($DC$10-$DC$9)) -> 542668.2 | DD19: =EXP($DD$6+($DD$7-$DD$6)*((LN($DD$1-A19))-$DD$9)/($DD$10-$DD$9)) -> 450325.02 | DE19: =EXP($DE$6+($DE$7-$DE$6)*((LN($DE$1-A19))-$DE$9)/($DE$10-$DE$9)) -> 382007.93 | DF19: =EXP($DF$6+($DF$7-$DF$6)*((LN($DF$1-A19))-$DF$9)/($DF$10-$DF$9)) -> 329727.63
A20: 7 | CC20: 7 | CD20: =EXP($CD$6+($CD$7-$CD$6)*((LN($CD$1-A20))-$CD$9)/($CD$10-$CD$9)) -> 91589726 | CE20: =EXP($CE$6+($CE$7-$CE$6)*((LN($CE$1-A20))-$CE$9)/($CE$10-$CE$9)) -> 85488242 | CF20: =EXP($CF$6+($CF$7-$CF$6)*((LN($CF$1-A20))-$CF$9)/($CF$10-$CF$9)) -> 54050361 | CG20: =EXP($CG$6+($CG$7-$CG$6)*((LN($CG$1-A20))-$CG$9)/($CG$10-$CG$9)) -> 41543718 | CH20: =EXP($CH$6+($CH$7-$CH$6)*((LN($CH$1-A20))-$CH$9)/($CH$10-$CH$9)) -> 33914735 | CI20: =EXP($CI$6+($CI$7-$CI$6)*((LN($CI$1-A20))-$CI$9)/($CI$10-$CI$9)) -> 28962558 | CJ20: =EXP($CJ$6+($CJ$7-$CJ$6)*((LN($CJ$1-A20))-$CJ$9)/($CJ$10-$CJ$9)) -> 25467721 | CK20: =EXP($CK$6+($CK$7-$CK$6)*((LN($CK$1-A20))-$CK$9)/($CK$10-$CK$9)) -> 22848993 | CL20: =EXP($CL$6+($CL$7-$CL$6)*((LN($CL$1-A20))-$CL$9)/($CL$10-$CL$9)) -> 20802093 | CM20: =EXP($CM$6+($CM$7-$CM$6)*((LN($CM$1-A20))-$CM$9)/($CM$10-$CM$9)) -> 19151124 | CN20: =EXP($CN$6+($CN$7-$CN$6)*((LN($CN$1-A20))-$CN$9)/($CN$10-$CN$9)) -> 17786784 | CO20: =EXP($CO$6+($CO$7-$CO$6)*((LN($CO$1-A20))-$CO$9)/($CO$10-$CO$9)) -> 10476248 | CP20: =EXP($CP$6+($CP$7-$CP$6)*((LN($CP$1-A20))-$CP$9)/($CP$10-$CP$9)) -> 7676000 | CQ20: =EXP($CQ$6+($CQ$7-$CQ$6)*((LN($CQ$1-A20))-$CQ$9)/($CQ$10-$CQ$9)) -> 6793925.9 | CR20: =EXP($CR$6+($CR$7-$CR$6)*((LN($CR$1-A20))-$CR$9)/($CR$10-$CR$9)) -> 6175653.7 | CS20: =EXP($CS$6+($CS$7-$CS$6)*((LN($CS$1-A20))-$CS$9)/($CS$10-$CS$9)) -> 5712622.4 | CT20: =EXP($CT$6+($CT$7-$CT$6)*((LN($CT$1-A20))-$CT$9)/($CT$10-$CT$9)) -> 5348396.8 | CU20: =EXP($CU$6+($CU$7-$CU$6)*((LN($CU$1-A20))-$CU$9)/($CU$10-$CU$9)) -> 5051757.2 | CV20: =EXP($CV$6+($CV$7-$CV$6)*((LN($CV$1-A20))-$CV$9)/($CV$10-$CV$9)) -> 4803816 | CW20: =EXP($CW$6+($CW$7-$CW$6)*((LN($CW$1-A20))-$CW$9)/($CW$10-$CW$9)) -> 4592372.7 | CX20: =EXP($CX$6+($CX$7-$CX$6)*((LN($CX$1-A20))-$CX$9)/($CX$10-$CX$9)) -> 2518750.7 | CY20: =EXP($CY$6+($CY$7-$CY$6)*((LN($CY$1-A20))-$CY$9)/($CY$10-$CY$9)) -> 1772358.4 | CZ20: =EXP($CZ$6+($CZ$7-$CZ$6)*((LN($CZ$1-A20))-$CZ$9)/($CZ$10-$CZ$9)) -> 1185928.2 | DA20: =EXP($DA$6+($DA$7-$DA$6)*((LN($DA$1-A20))-$DA$9)/($DA$10-$DA$9)) -> 868311.43 | DB20: =EXP($DB$6+($DB$7-$DB$6)*((LN($DB$1-A20))-$DB$9)/($DB$10-$DB$9)) -> 673074.06 | DC20: =EXP($DC$6+($DC$7-$DC$6)*((LN($DC$1-A20))-$DC$9)/($DC$10-$DC$9)) -> 542679.03 | DD20: =EXP($DD$6+($DD$7-$DD$6)*((LN($DD$1-A20))-$DD$9)/($DD$10-$DD$9)) -> 450332.88 | DE20: =EXP($DE$6+($DE$7-$DE$6)*((LN($DE$1-A20))-$DE$9)/($DE$10-$DE$9)) -> 382013.86 | DF20: =EXP($DF$6+($DF$7-$DF$6)*((LN($DF$1-A20))-$DF$9)/($DF$10-$DF$9)) -> 329732.24
A21: 8 | CC21: 8 | CD21: =EXP($CD$6+($CD$7-$CD$6)*((LN($CD$1-A21))-$CD$9)/($CD$10-$CD$9)) -> 92265003 | CE21: =EXP($CE$6+($CE$7-$CE$6)*((LN($CE$1-A21))-$CE$9)/($CE$10-$CE$9)) -> 86050169 | CF21: =EXP($CF$6+($CF$7-$CF$6)*((LN($CF$1-A21))-$CF$9)/($CF$10-$CF$9)) -> 54227649 | CG21: =EXP($CG$6+($CG$7-$CG$6)*((LN($CG$1-A21))-$CG$9)/($CG$10-$CG$9)) -> 41633347 | CH21: =EXP($CH$6+($CH$7-$CH$6)*((LN($CH$1-A21))-$CH$9)/($CH$10-$CH$9)) -> 33974952 | CI21: =EXP($CI$6+($CI$7-$CI$6)*((LN($CI$1-A21))-$CI$9)/($CI$10-$CI$9)) -> 29003533 | CJ21: =EXP($CJ$6+($CJ$7-$CJ$6)*((LN($CJ$1-A21))-$CJ$9)/($CJ$10-$CJ$9)) -> 25497667 | CK21: =EXP($CK$6+($CK$7-$CK$6)*((LN($CK$1-A21))-$CK$9)/($CK$10-$CK$9)) -> 22871978 | CL21: =EXP($CL$6+($CL$7-$CL$6)*((LN($CL$1-A21))-$CL$9)/($CL$10-$CL$9)) -> 20820378 | CM21: =EXP($CM$6+($CM$7-$CM$6)*((LN($CM$1-A21))-$CM$9)/($CM$10-$CM$9)) -> 19166070 | CN21: =EXP($CN$6+($CN$7-$CN$6)*((LN($CN$1-A21))-$CN$9)/($CN$10-$CN$9)) -> 17799267 | CO21: =EXP($CO$6+($CO$7-$CO$6)*((LN($CO$1-A21))-$CO$9)/($CO$10-$CO$9)) -> 10480247 | CP21: =EXP($CP$6+($CP$7-$CP$6)*((LN($CP$1-A21))-$CP$9)/($CP$10-$CP$9)) -> 7676000 | CQ21: =EXP($CQ$6+($CQ$7-$CQ$6)*((LN($CQ$1-A21))-$CQ$9)/($CQ$10-$CQ$9)) -> 6794652.4 | CR21: =EXP($CR$6+($CR$7-$CR$6)*((LN($CR$1-A21))-$CR$9)/($CR$10-$CR$9)) -> 6176181.8 | CS21: =EXP($CS$6+($CS$7-$CS$6)*((LN($CS$1-A21))-$CS$9)/($CS$10-$CS$9)) -> 5713029.4 | CT21: =EXP($CT$6+($CT$7-$CT$6)*((LN($CT$1-A21))-$CT$9)/($CT$10-$CT$9)) -> 5348723.4 | CU21: =EXP($CU$6+($CU$7-$CU$6)*((LN($CU$1-A21))-$CU$9)/($CU$10-$CU$9)) -> 5052027.1 | CV21: =EXP($CV$6+($CV$7-$CV$6)*((LN($CV$1-A21))-$CV$9)/($CV$10-$CV$9)) -> 4804044.1 | CW21: =EXP($CW$6+($CW$7-$CW$6)*((LN($CW$1-A21))-$CW$9)/($CW$10-$CW$9)) -> 4592568.9 | CX21: =EXP($CX$6+($CX$7-$CX$6)*((LN($CX$1-A21))-$CX$9)/($CX$10-$CX$9)) -> 2518859.8 | CY21: =EXP($CY$6+($CY$7-$CY$6)*((LN($CY$1-A21))-$CY$9)/($CY$10-$CY$9)) -> 1772409.6 | CZ21: =EXP($CZ$6+($CZ$7-$CZ$6)*((LN($CZ$1-A21))-$CZ$9)/($CZ$10-$CZ$9)) -> 1185969.6 | DA21: =EXP($DA$6+($DA$7-$DA$6)*((LN($DA$1-A21))-$DA$9)/($DA$10-$DA$9)) -> 868335.69 | DB21: =EXP($DB$6+($DB$7-$DB$6)*((LN($DB$1-A21))-$DB$9)/($DB$10-$DB$9)) -> 673089.73 | DC21: =EXP($DC$6+($DC$7-$DC$6)*((LN($DC$1-A21))-$DC$9)/($DC$10-$DC$9)) -> 542689.86 | DD21: =EXP($DD$6+($DD$7-$DD$6)*((LN($DD$1-A21))-$DD$9)/($DD$10-$DD$9)) -> 450340.75 | DE21: =EXP($DE$6+($DE$7-$DE$6)*((LN($DE$1-A21))-$DE$9)/($DE$10-$DE$9)) -> 382019.79 | DF21: =EXP($DF$6+($DF$7-$DF$6)*((LN($DF$1-A21))-$DF$9)/($DF$10-$DF$9)) -> 329736.84
A22: 9 | CC22: 9 | CD22: =EXP($CD$6+($CD$7-$CD$6)*((LN($CD$1-A22))-$CD$9)/($CD$10-$CD$9)) -> 92953636 | CE22: =EXP($CE$6+($CE$7-$CE$6)*((LN($CE$1-A22))-$CE$9)/($CE$10-$CE$9)) -> 86621992 | CF22: =EXP($CF$6+($CF$7-$CF$6)*((LN($CF$1-A22))-$CF$9)/($CF$10-$CF$9)) -> 54406448 | CG22: =EXP($CG$6+($CG$7-$CG$6)*((LN($CG$1-A22))-$CG$9)/($CG$10-$CG$9)) -> 41723477 | CH22: =EXP($CH$6+($CH$7-$CH$6)*((LN($CH$1-A22))-$CH$9)/($CH$10-$CH$9)) -> 34035430 | CI22: =EXP($CI$6+($CI$7-$CI$6)*((LN($CI$1-A22))-$CI$9)/($CI$10-$CI$9)) -> 29044649 | CJ22: =EXP($CJ$6+($CJ$7-$CJ$6)*((LN($CJ$1-A22))-$CJ$9)/($CJ$10-$CJ$9)) -> 25527699 | CK22: =EXP($CK$6+($CK$7-$CK$6)*((LN($CK$1-A22))-$CK$9)/($CK$10-$CK$9)) -> 22895020 | CL22: =EXP($CL$6+($CL$7-$CL$6)*((LN($CL$1-A22))-$CL$9)/($CL$10-$CL$9)) -> 20838701 | CM22: =EXP($CM$6+($CM$7-$CM$6)*((LN($CM$1-A22))-$CM$9)/($CM$10-$CM$9)) -> 19181045 | CN22: =EXP($CN$6+($CN$7-$CN$6)*((LN($CN$1-A22))-$CN$9)/($CN$10-$CN$9)) -> 17811770 | CO22: =EXP($CO$6+($CO$7-$CO$6)*((LN($CO$1-A22))-$CO$9)/($CO$10-$CO$9)) -> 10484250 | CP22: =EXP($CP$6+($CP$7-$CP$6)*((LN($CP$1-A22))-$CP$9)/($CP$10-$CP$9)) -> 7676000 | CQ22: =EXP($CQ$6+($CQ$7-$CQ$6)*((LN($CQ$1-A22))-$CQ$9)/($CQ$10-$CQ$9)) -> 6795379.2 | CR22: =EXP($CR$6+($CR$7-$CR$6)*((LN($CR$1-A22))-$CR$9)/($CR$10-$CR$9)) -> 6176710.1 | CS22: =EXP($CS$6+($CS$7-$CS$6)*((LN($CS$1-A22))-$CS$9)/($CS$10-$CS$9)) -> 5713436.5 | CT22: =EXP($CT$6+($CT$7-$CT$6)*((LN($CT$1-A22))-$CT$9)/($CT$10-$CT$9)) -> 5349050 | CU22: =EXP($CU$6+($CU$7-$CU$6)*((LN($CU$1-A22))-$CU$9)/($CU$10-$CU$9)) -> 5052297 | CV22: =EXP($CV$6+($CV$7-$CV$6)*((LN($CV$1-A22))-$CV$9)/($CV$10-$CV$9)) -> 4804272.2 | CW22: =EXP($CW$6+($CW$7-$CW$6)*((LN($CW$1-A22))-$CW$9)/($CW$10-$CW$9)) -> 4592765.1 | CX22: =EXP($CX$6+($CX$7-$CX$6)*((LN($CX$1-A22))-$CX$9)/($CX$10-$CX$9)) -> 2518969 | CY22: =EXP($CY$6+($CY$7-$CY$6)*((LN($CY$1-A22))-$CY$9)/($CY$10-$CY$9)) -> 1772460.8 | CZ22: =EXP($CZ$6+($CZ$7-$CZ$6)*((LN($CZ$1-A22))-$CZ$9)/($CZ$10-$CZ$9)) -> 1186011 | DA22: =EXP($DA$6+($DA$7-$DA$6)*((LN($DA$1-A22))-$DA$9)/($DA$10-$DA$9)) -> 868359.95 | DB22: =EXP($DB$6+($DB$7-$DB$6)*((LN($DB$1-A22))-$DB$9)/($DB$10-$DB$9)) -> 673105.4 | DC22: =EXP($DC$6+($DC$7-$DC$6)*((LN($DC$1-A22))-$DC$9)/($DC$10-$DC$9)) -> 542700.69 | DD22: =EXP($DD$6+($DD$7-$DD$6)*((LN($DD$1-A22))-$DD$9)/($DD$10-$DD$9)) -> 450348.61 | DE22: =EXP($DE$6+($DE$7-$DE$6)*((LN($DE$1-A22))-$DE$9)/($DE$10-$DE$9)) -> 382025.72 | DF22: =EXP($DF$6+($DF$7-$DF$6)*((LN($DF$1-A22))-$DF$9)/($DF$10-$DF$9)) -> 329741.45
A23: 10 | CC23: 10 | CD23: =EXP($CD$6+($CD$7-$CD$6)*((LN($CD$1-A23))-$CD$9)/($CD$10-$CD$9)) -> 93656061 | CE23: =EXP($CE$6+($CE$7-$CE$6)*((LN($CE$1-A23))-$CE$9)/($CE$10-$CE$9)) -> 87203996 | CF23: =EXP($CF$6+($CF$7-$CF$6)*((LN($CF$1-A23))-$CF$9)/($CF$10-$CF$9)) -> 54586780 | CG23: =EXP($CG$6+($CG$7-$CG$6)*((LN($CG$1-A23))-$CG$9)/($CG$10-$CG$9)) -> 41814114 | CH23: =EXP($CH$6+($CH$7-$CH$6)*((LN($CH$1-A23))-$CH$9)/($CH$10-$CH$9)) -> 34096170 | CI23: =EXP($CI$6+($CI$7-$CI$6)*((LN($CI$1-A23))-$CI$9)/($CI$10-$CI$9)) -> 29085908 | CJ23: =EXP($CJ$6+($CJ$7-$CJ$6)*((LN($CJ$1-A23))-$CJ$9)/($CJ$10-$CJ$9)) -> 25557817 | CK23: =EXP($CK$6+($CK$7-$CK$6)*((LN($CK$1-A23))-$CK$9)/($CK$10-$CK$9)) -> 22918118 | CL23: =EXP($CL$6+($CL$7-$CL$6)*((LN($CL$1-A23))-$CL$9)/($CL$10-$CL$9)) -> 20857064 | CM23: =EXP($CM$6+($CM$7-$CM$6)*((LN($CM$1-A23))-$CM$9)/($CM$10-$CM$9)) -> 19196049 | CN23: =EXP($CN$6+($CN$7-$CN$6)*((LN($CN$1-A23))-$CN$9)/($CN$10-$CN$9)) -> 17824296 | CO23: =EXP($CO$6+($CO$7-$CO$6)*((LN($CO$1-A23))-$CO$9)/($CO$10-$CO$9)) -> 10488256 | CP23: =EXP($CP$6+($CP$7-$CP$6)*((LN($CP$1-A23))-$CP$9)/($CP$10-$CP$9)) -> 7676000 | CQ23: =EXP($CQ$6+($CQ$7-$CQ$6)*((LN($CQ$1-A23))-$CQ$9)/($CQ$10-$CQ$9)) -> 6796106.2 | CR23: =EXP($CR$6+($CR$7-$CR$6)*((LN($CR$1-A23))-$CR$9)/($CR$10-$CR$9)) -> 6177238.5 | CS23: =EXP($CS$6+($CS$7-$CS$6)*((LN($CS$1-A23))-$CS$9)/($CS$10-$CS$9)) -> 5713843.7 | CT23: =EXP($CT$6+($CT$7-$CT$6)*((LN($CT$1-A23))-$CT$9)/($CT$10-$CT$9)) -> 5349376.7 | CU23: =EXP($CU$6+($CU$7-$CU$6)*((LN($CU$1-A23))-$CU$9)/($CU$10-$CU$9)) -> 5052566.9 | CV23: =EXP($CV$6+($CV$7-$CV$6)*((LN($CV$1-A23))-$CV$9)/($CV$10-$CV$9)) -> 4804500.4 | CW23: =EXP($CW$6+($CW$7-$CW$6)*((LN($CW$1-A23))-$CW$9)/($CW$10-$CW$9)) -> 4592961.4 | CX23: =EXP($CX$6+($CX$7-$CX$6)*((LN($CX$1-A23))-$CX$9)/($CX$10-$CX$9)) -> 2519078.2 | CY23: =EXP($CY$6+($CY$7-$CY$6)*((LN($CY$1-A23))-$CY$9)/($CY$10-$CY$9)) -> 1772512 | CZ23: =EXP($CZ$6+($CZ$7-$CZ$6)*((LN($CZ$1-A23))-$CZ$9)/($CZ$10-$CZ$9)) -> 1186052.4 | DA23: =EXP($DA$6+($DA$7-$DA$6)*((LN($DA$1-A23))-$DA$9)/($DA$10-$DA$9)) -> 868384.22 | DB23: =EXP($DB$6+($DB$7-$DB$6)*((LN($DB$1-A23))-$DB$9)/($DB$10-$DB$9)) -> 673121.08 | DC23: =EXP($DC$6+($DC$7-$DC$6)*((LN($DC$1-A23))-$DC$9)/($DC$10-$DC$9)) -> 542711.52 | DD23: =EXP($DD$6+($DD$7-$DD$6)*((LN($DD$1-A23))-$DD$9)/($DD$10-$DD$9)) -> 450356.48 | DE23: =EXP($DE$6+($DE$7-$DE$6)*((LN($DE$1-A23))-$DE$9)/($DE$10-$DE$9)) -> 382031.65 | DF23: =EXP($DF$6+($DF$7-$DF$6)*((LN($DF$1-A23))-$DF$9)/($DF$10-$DF$9)) -> 329746.06
A24: 11 | CC24: 11 | CD24: =EXP($CD$6+($CD$7-$CD$6)*((LN($CD$1-A24))-$CD$9)/($CD$10-$CD$9)) -> 94372729 | CE24: =EXP($CE$6+($CE$7-$CE$6)*((LN($CE$1-A24))-$CE$9)/($CE$10-$CE$9)) -> 87796480 | CF24: =EXP($CF$6+($CF$7-$CF$6)*((LN($CF$1-A24))-$CF$9)/($CF$10-$CF$9)) -> 54768667 | CG24: =EXP($CG$6+($CG$7-$CG$6)*((LN($CG$1-A24))-$CG$9)/($CG$10-$CG$9)) -> 41905262 | CH24: =EXP($CH$6+($CH$7-$CH$6)*((LN($CH$1-A24))-$CH$9)/($CH$10-$CH$9)) -> 34157176 | CI24: =EXP($CI$6+($CI$7-$CI$6)*((LN($CI$1-A24))-$CI$9)/($CI$10-$CI$9)) -> 29127310 | CJ24: =EXP($CJ$6+($CJ$7-$CJ$6)*((LN($CJ$1-A24))-$CJ$9)/($CJ$10-$CJ$9)) -> 25588022 | CK24: =EXP($CK$6+($CK$7-$CK$6)*((LN($CK$1-A24))-$CK$9)/($CK$10-$CK$9)) -> 22941273 | CL24: =EXP($CL$6+($CL$7-$CL$6)*((LN($CL$1-A24))-$CL$9)/($CL$10-$CL$9)) -> 20875466 | CM24: =EXP($CM$6+($CM$7-$CM$6)*((LN($CM$1-A24))-$CM$9)/($CM$10-$CM$9)) -> 19211081 | CN24: =EXP($CN$6+($CN$7-$CN$6)*((LN($CN$1-A24))-$CN$9)/($CN$10-$CN$9)) -> 17836843 | CO24: =EXP($CO$6+($CO$7-$CO$6)*((LN($CO$1-A24))-$CO$9)/($CO$10-$CO$9)) -> 10492266 | CP24: =EXP($CP$6+($CP$7-$CP$6)*((LN($CP$1-A24))-$CP$9)/($CP$10-$CP$9)) -> 7676000 | CQ24: =EXP($CQ$6+($CQ$7-$CQ$6)*((LN($CQ$1-A24))-$CQ$9)/($CQ$10-$CQ$9)) -> 6796833.5 | CR24: =EXP($CR$6+($CR$7-$CR$6)*((LN($CR$1-A24))-$CR$9)/($CR$10-$CR$9)) -> 6177767.1 | CS24: =EXP($CS$6+($CS$7-$CS$6)*((LN($CS$1-A24))-$CS$9)/($CS$10-$CS$9)) -> 5714250.9 | CT24: =EXP($CT$6+($CT$7-$CT$6)*((LN($CT$1-A24))-$CT$9)/($CT$10-$CT$9)) -> 5349703.4 | CU24: =EXP($CU$6+($CU$7-$CU$6)*((LN($CU$1-A24))-$CU$9)/($CU$10-$CU$9)) -> 5052836.9 | CV24: =EXP($CV$6+($CV$7-$CV$6)*((LN($CV$1-A24))-$CV$9)/($CV$10-$CV$9)) -> 4804728.5 | CW24: =EXP($CW$6+($CW$7-$CW$6)*((LN($CW$1-A24))-$CW$9)/($CW$10-$CW$9)) -> 4593157.7 | CX24: =EXP($CX$6+($CX$7-$CX$6)*((LN($CX$1-A24))-$CX$9)/($CX$10-$CX$9)) -> 2519187.4 | CY24: =EXP($CY$6+($CY$7-$CY$6)*((LN($CY$1-A24))-$CY$9)/($CY$10-$CY$9)) -> 1772563.2 | CZ24: =EXP($CZ$6+($CZ$7-$CZ$6)*((LN($CZ$1-A24))-$CZ$9)/($CZ$10-$CZ$9)) -> 1186093.9 | DA24: =EXP($DA$6+($DA$7-$DA$6)*((LN($DA$1-A24))-$DA$9)/($DA$10-$DA$9)) -> 868408.48 | DB24: =EXP($DB$6+($DB$7-$DB$6)*((LN($DB$1-A24))-$DB$9)/($DB$10-$DB$9)) -> 673136.75 | DC24: =EXP($DC$6+($DC$7-$DC$6)*((LN($DC$1-A24))-$DC$9)/($DC$10-$DC$9)) -> 542722.35 | DD24: =EXP($DD$6+($DD$7-$DD$6)*((LN($DD$1-A24))-$DD$9)/($DD$10-$DD$9)) -> 450364.34 | DE24: =EXP($DE$6+($DE$7-$DE$6)*((LN($DE$1-A24))-$DE$9)/($DE$10-$DE$9)) -> 382037.58 | DF24: =EXP($DF$6+($DF$7-$DF$6)*((LN($DF$1-A24))-$DF$9)/($DF$10-$DF$9)) -> 329750.66
A25: 12 | CC25: 12 | CD25: =EXP($CD$6+($CD$7-$CD$6)*((LN($CD$1-A25))-$CD$9)/($CD$10-$CD$9)) -> 95104117 | CE25: =EXP($CE$6+($CE$7-$CE$6)*((LN($CE$1-A25))-$CE$9)/($CE$10-$CE$9)) -> 88399753 | CF25: =EXP($CF$6+($CF$7-$CF$6)*((LN($CF$1-A25))-$CF$9)/($CF$10-$CF$9)) -> 54952129 | CG25: =EXP($CG$6+($CG$7-$CG$6)*((LN($CG$1-A25))-$CG$9)/($CG$10-$CG$9)) -> 41996925 | CH25: =EXP($CH$6+($CH$7-$CH$6)*((LN($CH$1-A25))-$CH$9)/($CH$10-$CH$9)) -> 34218448 | CI25: =EXP($CI$6+($CI$7-$CI$6)*((LN($CI$1-A25))-$CI$9)/($CI$10-$CI$9)) -> 29168856 | CJ25: =EXP($CJ$6+($CJ$7-$CJ$6)*((LN($CJ$1-A25))-$CJ$9)/($CJ$10-$CJ$9)) -> 25618314 | CK25: =EXP($CK$6+($CK$7-$CK$6)*((LN($CK$1-A25))-$CK$9)/($CK$10-$CK$9)) -> 22964485 | CL25: =EXP($CL$6+($CL$7-$CL$6)*((LN($CL$1-A25))-$CL$9)/($CL$10-$CL$9)) -> 20893908 | CM25: =EXP($CM$6+($CM$7-$CM$6)*((LN($CM$1-A25))-$CM$9)/($CM$10-$CM$9)) -> 19226142 | CN25: =EXP($CN$6+($CN$7-$CN$6)*((LN($CN$1-A25))-$CN$9)/($CN$10-$CN$9)) -> 17849411 | CO25: =EXP($CO$6+($CO$7-$CO$6)*((LN($CO$1-A25))-$CO$9)/($CO$10-$CO$9)) -> 10496279 | CP25: =EXP($CP$6+($CP$7-$CP$6)*((LN($CP$1-A25))-$CP$9)/($CP$10-$CP$9)) -> 7676000 | CQ25: =EXP($CQ$6+($CQ$7-$CQ$6)*((LN($CQ$1-A25))-$CQ$9)/($CQ$10-$CQ$9)) -> 6797561.1 | CR25: =EXP($CR$6+($CR$7-$CR$6)*((LN($CR$1-A25))-$CR$9)/($CR$10-$CR$9)) -> 6178295.8 | CS25: =EXP($CS$6+($CS$7-$CS$6)*((LN($CS$1-A25))-$CS$9)/($CS$10-$CS$9)) -> 5714658.3 | CT25: =EXP($CT$6+($CT$7-$CT$6)*((LN($CT$1-A25))-$CT$9)/($CT$10-$CT$9)) -> 5350030.2 | CU25: =EXP($CU$6+($CU$7-$CU$6)*((LN($CU$1-A25))-$CU$9)/($CU$10-$CU$9)) -> 5053106.9 | CV25: =EXP($CV$6+($CV$7-$CV$6)*((LN($CV$1-A25))-$CV$9)/($CV$10-$CV$9)) -> 4804956.7 | CW25: =EXP($CW$6+($CW$7-$CW$6)*((LN($CW$1-A25))-$CW$9)/($CW$10-$CW$9)) -> 4593354 | CX25: =EXP($CX$6+($CX$7-$CX$6)*((LN($CX$1-A25))-$CX$9)/($CX$10-$CX$9)) -> 2519296.6 | CY25: =EXP($CY$6+($CY$7-$CY$6)*((LN($CY$1-A25))-$CY$9)/($CY$10-$CY$9)) -> 1772614.4 | CZ25: =EXP($CZ$6+($CZ$7-$CZ$6)*((LN($CZ$1-A25))-$CZ$9)/($CZ$10-$CZ$9)) -> 1186135.3 | DA25: =EXP($DA$6+($DA$7-$DA$6)*((LN($DA$1-A25))-$DA$9)/($DA$10-$DA$9)) -> 868432.75 | DB25: =EXP($DB$6+($DB$7-$DB$6)*((LN($DB$1-A25))-$DB$9)/($DB$10-$DB$9)) -> 673152.42 | DC25: =EXP($DC$6+($DC$7-$DC$6)*((LN($DC$1-A25))-$DC$9)/($DC$10-$DC$9)) -> 542733.18 | DD25: =EXP($DD$6+($DD$7-$DD$6)*((LN($DD$1-A25))-$DD$9)/($DD$10-$DD$9)) -> 450372.2 | DE25: =EXP($DE$6+($DE$7-$DE$6)*((LN($DE$1-A25))-$DE$9)/($DE$10-$DE$9)) -> 382043.51 | DF25: =EXP($DF$6+($DF$7-$DF$6)*((LN($DF$1-A25))-$DF$9)/($DF$10-$DF$9)) -> 329755.27
... A73: 60 | CC73: 60 | CD73: =EXP($CD$6+($CD$7-$CD$6)*((LN($CD$1-A73))-$CD$9)/($CD$10-$CD$9)) -> 1.697e+08 | CE73: =EXP($CE$6+($CE$7-$CE$6)*((LN($CE$1-A73))-$CE$9)/($CE$10-$CE$9)) -> 1.4254972e+08 | CF73: =EXP($CF$6+($CF$7-$CF$6)*((LN($CF$1-A73))-$CF$9)/($CF$10-$CF$9)) -> 66174571 | CG73: =EXP($CG$6+($CG$7-$CG$6)*((LN($CG$1-A73))-$CG$9)/($CG$10-$CG$9)) -> 47111969 | CH73: =EXP($CH$6+($CH$7-$CH$6)*((LN($CH$1-A73))-$CH$9)/($CH$10-$CH$9)) -> 37514033 | CI73: =EXP($CI$6+($CI$7-$CI$6)*((LN($CI$1-A73))-$CI$9)/($CI$10-$CI$9)) -> 31349382 | CJ73: =EXP($CJ$6+($CJ$7-$CJ$6)*((LN($CJ$1-A73))-$CJ$9)/($CJ$10-$CJ$9)) -> 27183248 | CK73: =EXP($CK$6+($CK$7-$CK$6)*((LN($CK$1-A73))-$CK$9)/($CK$10-$CK$9)) -> 24150477 | CL73: =EXP($CL$6+($CL$7-$CL$6)*((LN($CL$1-A73))-$CL$9)/($CL$10-$CL$9)) -> 21828516 | CM73: =EXP($CM$6+($CM$7-$CM$6)*((LN($CM$1-A73))-$CM$9)/($CM$10-$CM$9)) -> 19984619 | CN73: =EXP($CN$6+($CN$7-$CN$6)*((LN($CN$1-A73))-$CN$9)/($CN$10-$CN$9)) -> 18479224 | CO73: =EXP($CO$6+($CO$7-$CO$6)*((LN($CO$1-A73))-$CO$9)/($CO$10-$CO$9)) -> 10693196 | CP73: =EXP($CP$6+($CP$7-$CP$6)*((LN($CP$1-A73))-$CP$9)/($CP$10-$CP$9)) -> 7676000 | CQ73: =EXP($CQ$6+($CQ$7-$CQ$6)*((LN($CQ$1-A73))-$CQ$9)/($CQ$10-$CQ$9)) -> 6832793 | CR73: =EXP($CR$6+($CR$7-$CR$6)*((LN($CR$1-A73))-$CR$9)/($CR$10-$CR$9)) -> 6203853.7 | CS73: =EXP($CS$6+($CS$7-$CS$6)*((LN($CS$1-A73))-$CS$9)/($CS$10-$CS$9)) -> 5734327.7 | CT73: =EXP($CT$6+($CT$7-$CT$6)*((LN($CT$1-A73))-$CT$9)/($CT$10-$CT$9)) -> 5365796.4 | CU73: =EXP($CU$6+($CU$7-$CU$6)*((LN($CU$1-A73))-$CU$9)/($CU$10-$CU$9)) -> 5066125.9 | CV73: =EXP($CV$6+($CV$7-$CV$6)*((LN($CV$1-A73))-$CV$9)/($CV$10-$CV$9)) -> 4815953.7 | CW73: =EXP($CW$6+($CW$7-$CW$6)*((LN($CW$1-A73))-$CW$9)/($CW$10-$CW$9)) -> 4602810.5 | CX73: =EXP($CX$6+($CX$7-$CX$6)*((LN($CX$1-A73))-$CX$9)/($CX$10-$CX$9)) -> 2524550.9 | CY73: =EXP($CY$6+($CY$7-$CY$6)*((LN($CY$1-A73))-$CY$9)/($CY$10-$CY$9)) -> 1775076.8 | CZ73: =EXP($CZ$6+($CZ$7-$CZ$6)*((LN($CZ$1-A73))-$CZ$9)/($CZ$10-$CZ$9)) -> 1188126.9 | DA73: =EXP($DA$6+($DA$7-$DA$6)*((LN($DA$1-A73))-$DA$9)/($DA$10-$DA$9)) -> 869598.85 | DB73: =EXP($DB$6+($DB$7-$DB$6)*((LN($DB$1-A73))-$DB$9)/($DB$10-$DB$9)) -> 673905.49 | DC73: =EXP($DC$6+($DC$7-$DC$6)*((LN($DC$1-A73))-$DC$9)/($DC$10-$DC$9)) -> 543253.52 | DD73: =EXP($DD$6+($DD$7-$DD$6)*((LN($DD$1-A73))-$DD$9)/($DD$10-$DD$9)) -> 450749.97 | DE73: =EXP($DE$6+($DE$7-$DE$6)*((LN($DE$1-A73))-$DE$9)/($DE$10-$DE$9)) -> 382328.33 | DF73: =EXP($DF$6+($DF$7-$DF$6)*((LN($DF$1-A73))-$DF$9)/($DF$10-$DF$9)) -> 329976.51
A74: 61 | CC74: 61 | CD74: =AD$2 -> 1.7143139e+08 | CE74: =EXP($CE$6+($CE$7-$CE$6)*((LN($CE$1-A74))-$CE$9)/($CE$10-$CE$9)) -> 1.4475374e+08 | CF74: =EXP($CF$6+($CF$7-$CF$6)*((LN($CF$1-A74))-$CF$9)/($CF$10-$CF$9)) -> 66474279 | CG74: =EXP($CG$6+($CG$7-$CG$6)*((LN($CG$1-A74))-$CG$9)/($CG$10-$CG$9)) -> 47236134 | CH74: =EXP($CH$6+($CH$7-$CH$6)*((LN($CH$1-A74))-$CH$9)/($CH$10-$CH$9)) -> 37591049 | CI74: =EXP($CI$6+($CI$7-$CI$6)*((LN($CI$1-A74))-$CI$9)/($CI$10-$CI$9)) -> 31399087 | CJ74: =EXP($CJ$6+($CJ$7-$CJ$6)*((LN($CJ$1-A74))-$CJ$9)/($CJ$10-$CJ$9)) -> 27218354 | CK74: =EXP($CK$6+($CK$7-$CK$6)*((LN($CK$1-A74))-$CK$9)/($CK$10-$CK$9)) -> 24176786 | CL74: =EXP($CL$6+($CL$7-$CL$6)*((LN($CL$1-A74))-$CL$9)/($CL$10-$CL$9)) -> 21849079 | CM74: =EXP($CM$6+($CM$7-$CM$6)*((LN($CM$1-A74))-$CM$9)/($CM$10-$CM$9)) -> 20001201 | CN74: =EXP($CN$6+($CN$7-$CN$6)*((LN($CN$1-A74))-$CN$9)/($CN$10-$CN$9)) -> 18492924 | CO74: =EXP($CO$6+($CO$7-$CO$6)*((LN($CO$1-A74))-$CO$9)/($CO$10-$CO$9)) -> 10697390 | CP74: =EXP($CP$6+($CP$7-$CP$6)*((LN($CP$1-A74))-$CP$9)/($CP$10-$CP$9)) -> 7676000 | CQ74: =EXP($CQ$6+($CQ$7-$CQ$6)*((LN($CQ$1-A74))-$CQ$9)/($CQ$10-$CQ$9)) -> 6833533.5 | CR74: =EXP($CR$6+($CR$7-$CR$6)*((LN($CR$1-A74))-$CR$9)/($CR$10-$CR$9)) -> 6204389.9 | CS74: =EXP($CS$6+($CS$7-$CS$6)*((LN($CS$1-A74))-$CS$9)/($CS$10-$CS$9)) -> 5734739.8 | CT74: =EXP($CT$6+($CT$7-$CT$6)*((LN($CT$1-A74))-$CT$9)/($CT$10-$CT$9)) -> 5366126.5 | CU74: =EXP($CU$6+($CU$7-$CU$6)*((LN($CU$1-A74))-$CU$9)/($CU$10-$CU$9)) -> 5066398.3 | CV74: =EXP($CV$6+($CV$7-$CV$6)*((LN($CV$1-A74))-$CV$9)/($CV$10-$CV$9)) -> 4816183.7 | CW74: =EXP($CW$6+($CW$7-$CW$6)*((LN($CW$1-A74))-$CW$9)/($CW$10-$CW$9)) -> 4603008.2 | CX74: =EXP($CX$6+($CX$7-$CX$6)*((LN($CX$1-A74))-$CX$9)/($CX$10-$CX$9)) -> 2524660.6 | CY74: =EXP($CY$6+($CY$7-$CY$6)*((LN($CY$1-A74))-$CY$9)/($CY$10-$CY$9)) -> 1775128.1 | CZ74: =EXP($CZ$6+($CZ$7-$CZ$6)*((LN($CZ$1-A74))-$CZ$9)/($CZ$10-$CZ$9)) -> 1188168.4 | DA74: =EXP($DA$6+($DA$7-$DA$6)*((LN($DA$1-A74))-$DA$9)/($DA$10-$DA$9)) -> 869623.18 | DB74: =EXP($DB$6+($DB$7-$DB$6)*((LN($DB$1-A74))-$DB$9)/($DB$10-$DB$9)) -> 673921.19 | DC74: =EXP($DC$6+($DC$7-$DC$6)*((LN($DC$1-A74))-$DC$9)/($DC$10-$DC$9)) -> 543264.37 | DD74: =EXP($DD$6+($DD$7-$DD$6)*((LN($DD$1-A74))-$DD$9)/($DD$10-$DD$9)) -> 450757.85 | DE74: =EXP($DE$6+($DE$7-$DE$6)*((LN($DE$1-A74))-$DE$9)/($DE$10-$DE$9)) -> 382334.27 | DF74: =EXP($DF$6+($DF$7-$DF$6)*((LN($DF$1-A74))-$DF$9)/($DF$10-$DF$9)) -> 329981.12
A75: 62 | CC75: 62 | CD75: =AC$2 -> 1.7324215e+08 | CE75: =EXP($CE$6+($CE$7-$CE$6)*((LN($CE$1-A75))-$CE$9)/($CE$10-$CE$9)) -> 1.4705044e+08 | CF75: =EXP($CF$6+($CF$7-$CF$6)*((LN($CF$1-A75))-$CF$9)/($CF$10-$CF$9)) -> 66777523 | CG75: =EXP($CG$6+($CG$7-$CG$6)*((LN($CG$1-A75))-$CG$9)/($CG$10-$CG$9)) -> 47361148 | CH75: =EXP($CH$6+($CH$7-$CH$6)*((LN($CH$1-A75))-$CH$9)/($CH$10-$CH$9)) -> 37668451 | CI75: =EXP($CI$6+($CI$7-$CI$6)*((LN($CI$1-A75))-$CI$9)/($CI$10-$CI$9)) -> 31448984 | CJ75: =EXP($CJ$6+($CJ$7-$CJ$6)*((LN($CJ$1-A75))-$CJ$9)/($CJ$10-$CJ$9)) -> 27253570 | CK75: =EXP($CK$6+($CK$7-$CK$6)*((LN($CK$1-A75))-$CK$9)/($CK$10-$CK$9)) -> 24203164 | CL75: =EXP($CL$6+($CL$7-$CL$6)*((LN($CL$1-A75))-$CL$9)/($CL$10-$CL$9)) -> 21869688 | CM75: =EXP($CM$6+($CM$7-$CM$6)*((LN($CM$1-A75))-$CM$9)/($CM$10-$CM$9)) -> 20017816 | CN75: =EXP($CN$6+($CN$7-$CN$6)*((LN($CN$1-A75))-$CN$9)/($CN$10-$CN$9)) -> 18506649 | CO75: =EXP($CO$6+($CO$7-$CO$6)*((LN($CO$1-A75))-$CO$9)/($CO$10-$CO$9)) -> 10701587 | CP75: =EXP($CP$6+($CP$7-$CP$6)*((LN($CP$1-A75))-$CP$9)/($CP$10-$CP$9)) -> 7676000 | CQ75: =EXP($CQ$6+($CQ$7-$CQ$6)*((LN($CQ$1-A75))-$CQ$9)/($CQ$10-$CQ$9)) -> 6834274.2 | CR75: =EXP($CR$6+($CR$7-$CR$6)*((LN($CR$1-A75))-$CR$9)/($CR$10-$CR$9)) -> 6204926.3 | CS75: =EXP($CS$6+($CS$7-$CS$6)*((LN($CS$1-A75))-$CS$9)/($CS$10-$CS$9)) -> 5735152.1 | CT75: =EXP($CT$6+($CT$7-$CT$6)*((LN($CT$1-A75))-$CT$9)/($CT$10-$CT$9)) -> 5366456.7 | CU75: =EXP($CU$6+($CU$7-$CU$6)*((LN($CU$1-A75))-$CU$9)/($CU$10-$CU$9)) -> 5066670.8 | CV75: =EXP($CV$6+($CV$7-$CV$6)*((LN($CV$1-A75))-$CV$9)/($CV$10-$CV$9)) -> 4816413.8 | CW75: =EXP($CW$6+($CW$7-$CW$6)*((LN($CW$1-A75))-$CW$9)/($CW$10-$CW$9)) -> 4603206 | CX75: =EXP($CX$6+($CX$7-$CX$6)*((LN($CX$1-A75))-$CX$9)/($CX$10-$CX$9)) -> 2524770.4 | CY75: =EXP($CY$6+($CY$7-$CY$6)*((LN($CY$1-A75))-$CY$9)/($CY$10-$CY$9)) -> 1775179.5 | CZ75: =EXP($CZ$6+($CZ$7-$CZ$6)*((LN($CZ$1-A75))-$CZ$9)/($CZ$10-$CZ$9)) -> 1188210 | DA75: =EXP($DA$6+($DA$7-$DA$6)*((LN($DA$1-A75))-$DA$9)/($DA$10-$DA$9)) -> 869647.5 | DB75: =EXP($DB$6+($DB$7-$DB$6)*((LN($DB$1-A75))-$DB$9)/($DB$10-$DB$9)) -> 673936.9 | DC75: =EXP($DC$6+($DC$7-$DC$6)*((LN($DC$1-A75))-$DC$9)/($DC$10-$DC$9)) -> 543275.22 | DD75: =EXP($DD$6+($DD$7-$DD$6)*((LN($DD$1-A75))-$DD$9)/($DD$10-$DD$9)) -> 450765.73 | DE75: =EXP($DE$6+($DE$7-$DE$6)*((LN($DE$1-A75))-$DE$9)/($DE$10-$DE$9)) -> 382340.21 | DF75: =EXP($DF$6+($DF$7-$DF$6)*((LN($DF$1-A75))-$DF$9)/($DF$10-$DF$9)) -> 329985.73
A76: 63 | CC76: 63 | CD76: =AB$2 -> 1.7513896e+08 | CE76: =EXP($CE$6+($CE$7-$CE$6)*((LN($CE$1-A76))-$CE$9)/($CE$10-$CE$9)) -> 1.494463e+08 | CF76: =EXP($CF$6+($CF$7-$CF$6)*((LN($CF$1-A76))-$CF$9)/($CF$10-$CF$9)) -> 67084371 | CG76: =EXP($CG$6+($CG$7-$CG$6)*((LN($CG$1-A76))-$CG$9)/($CG$10-$CG$9)) -> 47487021 | CH76: =EXP($CH$6+($CH$7-$CH$6)*((LN($CH$1-A76))-$CH$9)/($CH$10-$CH$9)) -> 37746243 | CI76: =EXP($CI$6+($CI$7-$CI$6)*((LN($CI$1-A76))-$CI$9)/($CI$10-$CI$9)) -> 31499075 | CJ76: =EXP($CJ$6+($CJ$7-$CJ$6)*((LN($CJ$1-A76))-$CJ$9)/($CJ$10-$CJ$9)) -> 27288897 | CK76: =EXP($CK$6+($CK$7-$CK$6)*((LN($CK$1-A76))-$CK$9)/($CK$10-$CK$9)) -> 24229614 | CL76: =EXP($CL$6+($CL$7-$CL$6)*((LN($CL$1-A76))-$CL$9)/($CL$10-$CL$9)) -> 21890345 | CM76: =EXP($CM$6+($CM$7-$CM$6)*((LN($CM$1-A76))-$CM$9)/($CM$10-$CM$9)) -> 20034465 | CN76: =EXP($CN$6+($CN$7-$CN$6)*((LN($CN$1-A76))-$CN$9)/($CN$10-$CN$9)) -> 18520399 | CO76: =EXP($CO$6+($CO$7-$CO$6)*((LN($CO$1-A76))-$CO$9)/($CO$10-$CO$9)) -> 10705789 | CP76: =EXP($CP$6+($CP$7-$CP$6)*((LN($CP$1-A76))-$CP$9)/($CP$10-$CP$9)) -> 7676000 | CQ76: =EXP($CQ$6+($CQ$7-$CQ$6)*((LN($CQ$1-A76))-$CQ$9)/($CQ$10-$CQ$9)) -> 6835015.3 | CR76: =EXP($CR$6+($CR$7-$CR$6)*((LN($CR$1-A76))-$CR$9)/($CR$10-$CR$9)) -> 6205462.8 | CS76: =EXP($CS$6+($CS$7-$CS$6)*((LN($CS$1-A76))-$CS$9)/($CS$10-$CS$9)) -> 5735564.5 | CT76: =EXP($CT$6+($CT$7-$CT$6)*((LN($CT$1-A76))-$CT$9)/($CT$10-$CT$9)) -> 5366787 | CU76: =EXP($CU$6+($CU$7-$CU$6)*((LN($CU$1-A76))-$CU$9)/($CU$10-$CU$9)) -> 5066943.3 | CV76: =EXP($CV$6+($CV$7-$CV$6)*((LN($CV$1-A76))-$CV$9)/($CV$10-$CV$9)) -> 4816643.8 | CW76: =EXP($CW$6+($CW$7-$CW$6)*((LN($CW$1-A76))-$CW$9)/($CW$10-$CW$9)) -> 4603403.7 | CX76: =EXP($CX$6+($CX$7-$CX$6)*((LN($CX$1-A76))-$CX$9)/($CX$10-$CX$9)) -> 2524880.1 | CY76: =EXP($CY$6+($CY$7-$CY$6)*((LN($CY$1-A76))-$CY$9)/($CY$10-$CY$9)) -> 1775230.9 | CZ76: =EXP($CZ$6+($CZ$7-$CZ$6)*((LN($CZ$1-A76))-$CZ$9)/($CZ$10-$CZ$9)) -> 1188251.5 | DA76: =EXP($DA$6+($DA$7-$DA$6)*((LN($DA$1-A76))-$DA$9)/($DA$10-$DA$9)) -> 869671.82 | DB76: =EXP($DB$6+($DB$7-$DB$6)*((LN($DB$1-A76))-$DB$9)/($DB$10-$DB$9)) -> 673952.6 | DC76: =EXP($DC$6+($DC$7-$DC$6)*((LN($DC$1-A76))-$DC$9)/($DC$10-$DC$9)) -> 543286.07 | DD76: =EXP($DD$6+($DD$7-$DD$6)*((LN($DD$1-A76))-$DD$9)/($DD$10-$DD$9)) -> 450773.6 | DE76: =EXP($DE$6+($DE$7-$DE$6)*((LN($DE$1-A76))-$DE$9)/($DE$10-$DE$9)) -> 382346.14 | DF76: =EXP($DF$6+($DF$7-$DF$6)*((LN($DF$1-A76))-$DF$9)/($DF$10-$DF$9)) -> 329990.35
A77: 64 | CC77: 64 | CD77: =AA$2 -> 1.7712933e+08 | CE77: =EXP($CE$6+($CE$7-$CE$6)*((LN($CE$1-A77))-$CE$9)/($CE$10-$CE$9)) -> 1.5194848e+08 | CF77: =EXP($CF$6+($CF$7-$CF$6)*((LN($CF$1-A77))-$CF$9)/($CF$10-$CF$9)) -> 67394893 | CG77: =EXP($CG$6+($CG$7-$CG$6)*((LN($CG$1-A77))-$CG$9)/($CG$10-$CG$9)) -> 47613763 | CH77: =EXP($CH$6+($CH$7-$CH$6)*((LN($CH$1-A77))-$CH$9)/($CH$10-$CH$9)) -> 37824428 | CI77: =EXP($CI$6+($CI$7-$CI$6)*((LN($CI$1-A77))-$CI$9)/($CI$10-$CI$9)) -> 31549360 | CJ77: =EXP($CJ$6+($CJ$7-$CJ$6)*((LN($CJ$1-A77))-$CJ$9)/($CJ$10-$CJ$9)) -> 27324336 | CK77: =EXP($CK$6+($CK$7-$CK$6)*((LN($CK$1-A77))-$CK$9)/($CK$10-$CK$9)) -> 24256133 | CL77: =EXP($CL$6+($CL$7-$CL$6)*((LN($CL$1-A77))-$CL$9)/($CL$10-$CL$9)) -> 21911050 | CM77: =EXP($CM$6+($CM$7-$CM$6)*((LN($CM$1-A77))-$CM$9)/($CM$10-$CM$9)) -> 20051148 | CN77: =EXP($CN$6+($CN$7-$CN$6)*((LN($CN$1-A77))-$CN$9)/($CN$10-$CN$9)) -> 18534174 | CO77: =EXP($CO$6+($CO$7-$CO$6)*((LN($CO$1-A77))-$CO$9)/($CO$10-$CO$9)) -> 10709994 | CP77: =EXP($CP$6+($CP$7-$CP$6)*((LN($CP$1-A77))-$CP$9)/($CP$10-$CP$9)) -> 7676000 | CQ77: =EXP($CQ$6+($CQ$7-$CQ$6)*((LN($CQ$1-A77))-$CQ$9)/($CQ$10-$CQ$9)) -> 6835756.6 | CR77: =EXP($CR$6+($CR$7-$CR$6)*((LN($CR$1-A77))-$CR$9)/($CR$10-$CR$9)) -> 6205999.5 | CS77: =EXP($CS$6+($CS$7-$CS$6)*((LN($CS$1-A77))-$CS$9)/($CS$10-$CS$9)) -> 5735977 | CT77: =EXP($CT$6+($CT$7-$CT$6)*((LN($CT$1-A77))-$CT$9)/($CT$10-$CT$9)) -> 5367117.3 | CU77: =EXP($CU$6+($CU$7-$CU$6)*((LN($CU$1-A77))-$CU$9)/($CU$10-$CU$9)) -> 5067215.9 | CV77: =EXP($CV$6+($CV$7-$CV$6)*((LN($CV$1-A77))-$CV$9)/($CV$10-$CV$9)) -> 4816873.9 | CW77: =EXP($CW$6+($CW$7-$CW$6)*((LN($CW$1-A77))-$CW$9)/($CW$10-$CW$9)) -> 4603601.5 | CX77: =EXP($CX$6+($CX$7-$CX$6)*((LN($CX$1-A77))-$CX$9)/($CX$10-$CX$9)) -> 2524989.8 | CY77: =EXP($CY$6+($CY$7-$CY$6)*((LN($CY$1-A77))-$CY$9)/($CY$10-$CY$9)) -> 1775282.3 | CZ77: =EXP($CZ$6+($CZ$7-$CZ$6)*((LN($CZ$1-A77))-$CZ$9)/($CZ$10-$CZ$9)) -> 1188293.1 | DA77: =EXP($DA$6+($DA$7-$DA$6)*((LN($DA$1-A77))-$DA$9)/($DA$10-$DA$9)) -> 869696.15 | DB77: =EXP($DB$6+($DB$7-$DB$6)*((LN($DB$1-A77))-$DB$9)/($DB$10-$DB$9)) -> 673968.31 | DC77: =EXP($DC$6+($DC$7-$DC$6)*((LN($DC$1-A77))-$DC$9)/($DC$10-$DC$9)) -> 543296.92 | DD77: =EXP($DD$6+($DD$7-$DD$6)*((LN($DD$1-A77))-$DD$9)/($DD$10-$DD$9)) -> 450781.48 | DE77: =EXP($DE$6+($DE$7-$DE$6)*((LN($DE$1-A77))-$DE$9)/($DE$10-$DE$9)) -> 382352.08 | DF77: =EXP($DF$6+($DF$7-$DF$6)*((LN($DF$1-A77))-$DF$9)/($DF$10-$DF$9)) -> 329994.96
