Workbook

Sheet Table 32
A1: Table 32
A2: year | B2: 1 | C2: 3 | D2: 10 | E2: 30 | F2: 100 | G2: 300 | H2: 1000 | I2: 3000 | J2: 10000 | K2: 30000 | L2: 100000 | M2: 300000 | N2: 1000000
A3: UO2 | B3: 11410 | C3: 4243 | D3: 1580 | E3: 1022 | F3: 403.8 | G3: 172.4 | H3: 70.17 | I3: 26.5 | J3: 15.6 | K3: 6.019 | L3: 1.184 | M3: 0.6605 | N3: 0.5018
A4: ThO2 | B4: 8881 | C4: 3331 | D4: 1595 | E4: 983.9 | F4: 257.4 | G4: 25.46 | H4: 12.25 | I4: 19.33 | J4: 35.49 | K4: 47.74 | L4: 39.2 | M4: 18.34 | N4: 1.289
A5: MOX | B5: 24240 | C5: 8616 | D5: 4823 | E5: 3413 | F5: 1781 | G5: 919 | H5: 335.9 | I5: 107.9 | J5: 61.18 | K5: 22.97 | L5: 5.609 | M5: 3.608 | N5: 1.896
A8: Currently the above table is valid for PWR and BWR reactor types, for other reactor types these values can be appropriately changed by the user.

Sheet User input
A1: NFCSS Results for Reactor Type:
C2: UO2 fuel | D2: ThO2 fuel | E2: MOX fuel | F2: UO2 fuel | G2: ThO2 fuel | H2: MOX fuel
A3: # | B3: Time [Year] | C3: SFS (tHM) | D3: SFS (tHM) | E3: SFS (tHM) | F3: GWd/t | G3: GWd/t | H3: GWd/t
A4: 1
A5: 2
A6: 3
A7: 4
A8: 5
A9: 6
A10: 7
A11: 8
A12: 9
A13: 10
A14: 11
A15: 12
... A303: 300

Sheet cal_UO2
A1: Time [Year] | B1: 1 | C1: 2 | D1: 3 | E1: 4 | F1: 5 | G1: 6 | H1: 7 | I1: 8 | J1: 9 | K1: 10 | L1: 11 | M1: 12 | N1: 13 | O1: 14 | P1: 15 | Q1: 16 | R1: 17 | S1: 18 | T1: 19 | U1: 20 | V1: 21 | W1: 22 | X1: 23 | Y1: 24 | Z1: 25 | AA1: 26 | AB1: 27 | AC1: 28 | AD1: 29 | AE1: 30 | AF1: 31 | AG1: 32 | AH1: 33 | AI1: 34 | AJ1: 35 | AK1: 36 | AL1: 37 | AM1: 38 | AN1: 39 | AO1: 40 | AP1: 41 | AQ1: 42 | AR1: 43 | AS1: 44 | AT1: 45 | AU1: 46 | AV1: 47 | AW1: 48 | AX1: 49 | AY1: 50 | AZ1: 51 | BA1: 52 | BB1: 53 | BC1: 54 | BD1: 55 | BE1: 56 | BF1: 57 | BG1: 58 | BH1: 59 | BI1: 60 | BJ1: 61 | BK1: 62 | BL1: 63 | BM1: 64 | BN1: 65 | BO1: 66 | BP1: 67 | BQ1: 68 | BR1: 69 | BS1: 70 | BT1: 71 | BU1: 72 | BV1: 73 | BW1: 74 | BX1: 75 | BY1: 76 | BZ1: 77 | CA1: 78 | CB1: 79 | CC1: 80 | CD1: 90 | CE1: 100 | CF1: 200 | CG1: 300 | CH1: 400 | CI1: 500 | CJ1: 600 | CK1: 700 | CL1: 800 | CM1: 900 | CN1: 1000 | CO1: 2000 | CP1: 3000 | CQ1: 4000 | CR1: 5000 | CS1: 6000 | CT1: 7000 | CU1: 8000 | CV1: 9000 | CW1: 10000 | CX1: 20000 | CY1: 30000 | CZ1: 40000 | DA1: 50000 | DB1: 60000 | DC1: 70000 | DD1: 80000 | DE1: 90000 | DF1: 100000 | DG1: 110000 | DH1: 120000 | DI1: 130000 | DJ1: 140000 | DK1: 150000 | DL1: 160000 | DM1: 170000 | DN1: 180000 | DO1: 190000 | DP1: 200000 | DQ1: 210000 | DR1: 220000 | DS1: 230000 | DT1: 240000 | DU1: 250000 | DV1: 260000 | DW1: 270000 | DX1: 280000 | DY1: 290000 | DZ1: 300000 | EA1: 310000 | EB1: 320000 | EC1: 330000 | ED1: 340000 | EE1: 350000 | EF1: 360000 | EG1: 370000 | EH1: 380000 | EI1: 390000 | EJ1: 400000 | EK1: 410000 | EL1: 420000 | EM1: 430000 | EN1: 440000 | EO1: 450000 | EP1: 460000 | EQ1: 470000 | ER1: 480000 | ES1: 490000 | ET1: 500000 | EU1: 510000 | EV1: 520000 | EW1: 530000 | EX1: 540000 | EY1: 550000 | EZ1: 560000 | FA1: 570000 | FB1: 580000 | FC1: 590000 | FD1: 600000 | FE1: 610000 | FF1: 620000 | FG1: 630000 | FH1: 640000 | FI1: 650000 | FJ1: 660000 | FK1: 670000 | FL1: 680000 | FM1: 690000 | FN1: 700000 | FO1: 710000 | FP1: 720000 | FQ1: 730000 | FR1: 740000 | FS1: 750000 | FT1: 760000 | FU1: 770000 | FV1: 780000 | FW1: 790000 | FX1: 800000 | FY1: 810000 | FZ1: 820000 | GA1: 830000 | GB1: 840000 | GC1: 850000 | GD1: 860000 | GE1: 870000 | GF1: 880000 | GG1: 890000 | GH1: 900000 | GI1: 910000 | GJ1: 920000 | GK1: 930000 | GL1: 940000 | GM1: 950000 | GN1: 960000 | GO1: 970000 | GP1: 980000 | GQ1: 990000 | GR1: 1000000
A2: UO2 | B2: ='Table 32'!B3 -> 11410 | C2: =C11 -> 6112.6603 | D2: ='Table 32'!C3 -> 4243 | E2: =E11 -> 3350.906 | F2: =F11 -> 2790.2859 | G2: =G11 -> 2402.5997 | H2: =H11 -> 2117.1535 | I2: =I11 -> 1897.4513 | J2: =J11 -> 1722.664 | K2: ='Table 32'!D3 -> 1580 | L2: =L11 -> 1521.3968 | M2: =M11 -> 1469.7963 | N2: =N11 -> 1423.8753 | O2: =O11 -> 1382.6392 | P2: =P11 -> 1345.3234 | Q2: =Q11 -> 1311.3291 | R2: =R11 -> 1280.1792 | S2: =S11 -> 1251.4882 | ... AD2: =AD11 -> 1035.8325 | AE2: ='Table 32'!E3 -> 1022 | AF2: =AF11 -> 996.47766 | AG2: =AG11 -> 972.37318 | AH2: =AH11 -> 949.56708 | AI2: =AI11 -> 927.95316 | AJ2: =AJ11 -> 907.43672 | AK2: =AK11 -> 887.93298 | AL2: =AL11 -> 869.36587 | AM2: =AM11 -> 851.66686 | ... CD2: =CD11 -> 437.98379 | CE2: ='Table 32'!F3 -> 403.8 | CF2: =CF11 -> 236.0241 | CG2: ='Table 32'!G3 -> 172.4 | CH2: =CH11 -> 139.07751 | CI2: =CI11 -> 117.73432 | CJ2: =CJ11 -> 102.75091 | CK2: =CK11 -> 91.580417 | CL2: =CL11 -> 82.890609 | CM2: =CM11 -> 75.912696 | CN2: ='Table 32'!H3 -> 70.17 | CO2: =CO11 -> 37.960135 | CP2: ='Table 32'!I3 -> 26.5 | CQ2: =CQ11 -> 23.348543 | CR2: =CR11 -> 21.16456 | CS2: =CS11 -> 19.532653 | CT2: =CT11 -> 18.251461 | CU2: =CU11 -> 17.209772 | CV2: =CV11 -> 16.3404 | CW2: ='Table 32'!J3 -> 15.6 | CX2: =CX11 -> 8.5540521 | CY2: ='Table 32'!K3 -> 6.019 | CZ2: =CZ11 -> 4.0812071 | DA2: =DA11 -> 3.0193054 | DB2: =DB11 -> 2.3603098 | DC2: =DC11 -> 1.9167001 | DD2: =DD11 -> 1.6004175 | DE2: =DE11 -> 1.3650526 | DF2: ='Table 32'!L3 -> 1.184 | DG2: =DG11 -> 1.1255405 | DH2: =DH11 -> 1.0746952 | DI2: =DI11 -> 1.0299528 | DJ2: =DJ11 -> 0.9901903 | DK2: =DK11 -> 0.95455331 | DL2: =DL11 -> 0.92237909 | DM2: =DM11 -> 0.89314454 | DN2: =DN11 -> 0.86643061 | ... DY2: =DY11 -> 0.6725039 | DZ2: ='Table 32'!M3 -> 0.6605 | EA2: =EA11 -> 0.65557529 | EB2: =EB11 -> 0.65084194 | EC2: =EC11 -> 0.64628687 | ED2: =ED11 -> 0.64189826 | EE2: =EE11 -> 0.63766539 | EF2: =EF11 -> 0.63357852 | EG2: =EG11 -> 0.62962876 | EH2: =EH11 -> 0.62580799 | ... GQ2: =GQ11 -> 0.5029524 | GR2: ='Table 32'!N3 -> 0.5018
A4: UO2 calculation value
A5: y | C5: =C6+(C7-C6)*(C8-C9)/(C10-C9) -> 8.7181174 | D5: =D6+(D7-D6)*(D8-D9)/(D10-D9) -> 8.3530258 | E5: =E6+(E7-E6)*(E8-E9)/(E10-E9) -> 8.116986 | F5: =F6+(F7-F6)*(F8-F9)/(F10-F9) -> 7.9338993 | G5: =G6+(G7-G6)*(G8-G9)/(G10-G9) -> 7.7843066 | H5: =H6+(H7-H6)*(H8-H9)/(H10-H9) -> 7.6578278 | I5: =I6+(I7-I6)*(I8-I9)/(I10-I9) -> 7.5482668 | J5: =J6+(J7-J6)*(J8-J9)/(J10-J9) -> 7.4516272 | L5: =L6+(L7-L6)*(L8-L9)/(L10-L9) -> 7.3273841 | M5: =M6+(M7-M6)*(M8-M9)/(M10-M9) -> 7.2928791 | N5: =N6+(N7-N6)*(N8-N9)/(N10-N9) -> 7.2611375 | O5: =O6+(O7-O6)*(O8-O9)/(O10-O9) -> 7.2317494 | P5: =P6+(P7-P6)*(P8-P9)/(P10-P9) -> 7.2043897 | Q5: =Q6+(Q7-Q6)*(Q8-Q9)/(Q10-Q9) -> 7.1787965 | R5: =R6+(R7-R6)*(R8-R9)/(R10-R9) -> 7.1547553 | S5: =S6+(S7-S6)*(S8-S9)/(S10-S9) -> 7.1320887 | ... GQ5: =GQ6+(GQ7-GQ6)*(GQ8-GQ9)/(GQ10-GQ9) -> -0.68725975
A6: yi | C6: =LN($B$2) -> 9.3422454 | D6: =LN($B$2) -> 9.3422454 | E6: =LN($D$2) -> 8.3530258 | F6: =LN($D$2) -> 8.3530258 | G6: =LN($D$2) -> 8.3530258 | H6: =LN($D$2) -> 8.3530258 | I6: =LN($D$2) -> 8.3530258 | J6: =LN($D$2) -> 8.3530258 | L6: =LN($K$2) -> 7.3651801 | M6: =LN($K$2) -> 7.3651801 | N6: =LN($K$2) -> 7.3651801 | O6: =LN($K$2) -> 7.3651801 | P6: =LN($K$2) -> 7.3651801 | Q6: =LN($K$2) -> 7.3651801 | R6: =LN($K$2) -> 7.3651801 | S6: =LN($K$2) -> 7.3651801 | ... AE6: =LN($K$2) -> 7.3651801 | AF6: =LN($AE$2) -> 6.9295168 | AG6: =LN($AE$2) -> 6.9295168 | AH6: =LN($AE$2) -> 6.9295168 | AI6: =LN($AE$2) -> 6.9295168 | AJ6: =LN($AE$2) -> 6.9295168 | AK6: =LN($AE$2) -> 6.9295168 | AL6: =LN($AE$2) -> 6.9295168 | AM6: =LN($AE$2) -> 6.9295168 | ... CE6: =LN($AE$2) -> 6.9295168 | CF6: =LN($CE$2) -> 6.0009197 | CG6: =LN($CE$2) -> 6.0009197 | CH6: =LN($CG$2) -> 5.1498174 | CI6: =LN($CG$2) -> 5.1498174 | CJ6: =LN($CG$2) -> 5.1498174 | CK6: =LN($CG$2) -> 5.1498174 | CL6: =LN($CG$2) -> 5.1498174 | CM6: =LN($CG$2) -> 5.1498174 | CN6: =LN($CG$2) -> 5.1498174 | CO6: =LN($CN$2) -> 4.2509209 | CP6: =LN($CP$2) -> 3.2771447 | CQ6: =LN($CP$2) -> 3.2771447 | CR6: =LN($CP$2) -> 3.2771447 | CS6: =LN($CP$2) -> 3.2771447 | CT6: =LN($CP$2) -> 3.2771447 | CU6: =LN($CP$2) -> 3.2771447 | CV6: =LN($CP$2) -> 3.2771447 | CW6: =LN($CP$2) -> 3.2771447 | CX6: =LN($CW$2) -> 2.7472709 | CY6: =LN($CW$2) -> 2.7472709 | CZ6: =LN($CY$2) -> 1.7949211 | DA6: =LN($CY$2) -> 1.7949211 | DB6: =LN($CY$2) -> 1.7949211 | DC6: =LN($CY$2) -> 1.7949211 | DD6: =LN($CY$2) -> 1.7949211 | DE6: =LN($CY$2) -> 1.7949211 | DF6: =LN($CY$2) -> 1.7949211 | DG6: =LN($DF$2) -> 0.16889854 | DH6: =LN($DF$2) -> 0.16889854 | DI6: =LN($DF$2) -> 0.16889854 | DJ6: =LN($DF$2) -> 0.16889854 | DK6: =LN($DF$2) -> 0.16889854 | DL6: =LN($DF$2) -> 0.16889854 | DM6: =LN($DF$2) -> 0.16889854 | DN6: =LN($DF$2) -> 0.16889854 | ... DZ6: =LN($DF$2) -> 0.16889854 | EA6: =LN($DZ$2) -> -0.41475816 | EB6: =LN($DZ$2) -> -0.41475816 | EC6: =LN($DZ$2) -> -0.41475816 | ED6: =LN($DZ$2) -> -0.41475816 | EE6: =LN($DZ$2) -> -0.41475816 | EF6: =LN($DZ$2) -> -0.41475816 | EG6: =LN($DZ$2) -> -0.41475816 | EH6: =LN($DZ$2) -> -0.41475816 | ... GQ6: =LN($DZ$2) -> -0.41475816
A7: yi+1 | C7: =LN($D$2) -> 8.3530258 | D7: =LN($D$2) -> 8.3530258 | E7: =LN($K$2) -> 7.3651801 | F7: =LN($K$2) -> 7.3651801 | G7: =LN($K$2) -> 7.3651801 | H7: =LN($K$2) -> 7.3651801 | I7: =LN($K$2) -> 7.3651801 | J7: =LN($K$2) -> 7.3651801 | L7: =LN($AE$2) -> 6.9295168 | M7: =LN($AE$2) -> 6.9295168 | N7: =LN($AE$2) -> 6.9295168 | O7: =LN($AE$2) -> 6.9295168 | P7: =LN($AE$2) -> 6.9295168 | Q7: =LN($AE$2) -> 6.9295168 | R7: =LN($AE$2) -> 6.9295168 | S7: =LN($AE$2) -> 6.9295168 | ... AE7: =LN($AE$2) -> 6.9295168 | AF7: =LN($CE$2) -> 6.0009197 | AG7: =LN($CE$2) -> 6.0009197 | AH7: =LN($CE$2) -> 6.0009197 | AI7: =LN($CE$2) -> 6.0009197 | AJ7: =LN($CE$2) -> 6.0009197 | AK7: =LN($CE$2) -> 6.0009197 | AL7: =LN($CE$2) -> 6.0009197 | AM7: =LN($CE$2) -> 6.0009197 | ... CE7: =LN($CE$2) -> 6.0009197 | CF7: =LN($CG$2) -> 5.1498174 | CG7: =LN($CG$2) -> 5.1498174 | CH7: =LN($CN$2) -> 4.2509209 | CI7: =LN($CN$2) -> 4.2509209 | CJ7: =LN($CN$2) -> 4.2509209 | CK7: =LN($CN$2) -> 4.2509209 | CL7: =LN($CN$2) -> 4.2509209 | CM7: =LN($CN$2) -> 4.2509209 | CN7: =LN($CN$2) -> 4.2509209 | CO7: =LN($CP$2) -> 3.2771447 | CP7: =LN($CP$2) -> 3.2771447 | CQ7: =LN($CW$2) -> 2.7472709 | CR7: =LN($CW$2) -> 2.7472709 | CS7: =LN($CW$2) -> 2.7472709 | CT7: =LN($CW$2) -> 2.7472709 | CU7: =LN($CW$2) -> 2.7472709 | CV7: =LN($CW$2) -> 2.7472709 | CW7: =LN($CW$2) -> 2.7472709 | CX7: =LN($CY$2) -> 1.7949211 | CY7: =LN($CY$2) -> 1.7949211 | CZ7: =LN($DF$2) -> 0.16889854 | DA7: =LN($DF$2) -> 0.16889854 | DB7: =LN($DF$2) -> 0.16889854 | DC7: =LN($DF$2) -> 0.16889854 | DD7: =LN($DF$2) -> 0.16889854 | DE7: =LN($DF$2) -> 0.16889854 | DF7: =LN($DF$2) -> 0.16889854 | DG7: =LN($DZ$2) -> -0.41475816 | DH7: =LN($DZ$2) -> -0.41475816 | DI7: =LN($DZ$2) -> -0.41475816 | DJ7: =LN($DZ$2) -> -0.41475816 | DK7: =LN($DZ$2) -> -0.41475816 | DL7: =LN($DZ$2) -> -0.41475816 | DM7: =LN($DZ$2) -> -0.41475816 | DN7: =LN($DZ$2) -> -0.41475816 | ... DZ7: =LN($DZ$2) -> -0.41475816 | EA7: =LN($GR$2) -> -0.68955365 | EB7: =LN($GR$2) -> -0.68955365 | EC7: =LN($GR$2) -> -0.68955365 | ED7: =LN($GR$2) -> -0.68955365 | EE7: =LN($GR$2) -> -0.68955365 | EF7: =LN($GR$2) -> -0.68955365 | EG7: =LN($GR$2) -> -0.68955365 | EH7: =LN($GR$2) -> -0.68955365 | ... GQ7: =LN($GR$2) -> -0.68955365
A8: x | C8: =LN(C1) -> 0.69314718 | D8: =LN(D1) -> 1.0986123 | E8: =LN(E1) -> 1.3862944 | F8: =LN(F1) -> 1.6094379 | G8: =LN(G1) -> 1.7917595 | H8: =LN(H1) -> 1.9459101 | I8: =LN(I1) -> 2.0794415 | J8: =LN(J1) -> 2.1972246 | L8: =LN(L1) -> 2.3978953 | M8: =LN(M1) -> 2.4849066 | N8: =LN(N1) -> 2.5649494 | O8: =LN(O1) -> 2.6390573 | P8: =LN(P1) -> 2.7080502 | Q8: =LN(Q1) -> 2.7725887 | R8: =LN(R1) -> 2.8332133 | S8: =LN(S1) -> 2.8903718 | ... GQ8: =LN(GQ1) -> 13.80546
A9: xi | C9: =LN($B$1) -> 0 | D9: =LN($B$1) -> 0 | E9: =LN($D$1) -> 1.0986123 | F9: =LN($D$1) -> 1.0986123 | G9: =LN($D$1) -> 1.0986123 | H9: =LN($D$1) -> 1.0986123 | I9: =LN($D$1) -> 1.0986123 | J9: =LN($D$1) -> 1.0986123 | L9: =LN($K$1) -> 2.3025851 | M9: =LN($K$1) -> 2.3025851 | N9: =LN($K$1) -> 2.3025851 | O9: =LN($K$1) -> 2.3025851 | P9: =LN($K$1) -> 2.3025851 | Q9: =LN($K$1) -> 2.3025851 | R9: =LN($K$1) -> 2.3025851 | S9: =LN($K$1) -> 2.3025851 | ... AE9: =LN($K$1) -> 2.3025851 | AF9: =LN($AE$1) -> 3.4011974 | AG9: =LN($AE$1) -> 3.4011974 | AH9: =LN($AE$1) -> 3.4011974 | AI9: =LN($AE$1) -> 3.4011974 | AJ9: =LN($AE$1) -> 3.4011974 | AK9: =LN($AE$1) -> 3.4011974 | AL9: =LN($AE$1) -> 3.4011974 | AM9: =LN($AE$1) -> 3.4011974 | ... CE9: =LN($AE$1) -> 3.4011974 | CF9: =LN($CE$1) -> 4.6051702 | CG9: =LN($CE$1) -> 4.6051702 | CH9: =LN($CG$1) -> 5.7037825 | CI9: =LN($CG$1) -> 5.7037825 | CJ9: =LN($CG$1) -> 5.7037825 | CK9: =LN($CG$1) -> 5.7037825 | CL9: =LN($CG$1) -> 5.7037825 | CM9: =LN($CG$1) -> 5.7037825 | CN9: =LN($CG$1) -> 5.7037825 | CO9: =LN($CN$1) -> 6.9077553 | CP9: =LN($CP$1) -> 8.0063676 | CQ9: =LN($CP$1) -> 8.0063676 | CR9: =LN($CP$1) -> 8.0063676 | CS9: =LN($CP$1) -> 8.0063676 | CT9: =LN($CP$1) -> 8.0063676 | CU9: =LN($CP$1) -> 8.0063676 | CV9: =LN($CP$1) -> 8.0063676 | CW9: =LN($CP$1) -> 8.0063676 | CX9: =LN($CW$1) -> 9.2103404 | CY9: =LN($CW$1) -> 9.2103404 | CZ9: =LN($CY$1) -> 10.308953 | DA9: =LN($CY$1) -> 10.308953 | DB9: =LN($CY$1) -> 10.308953 | DC9: =LN($CY$1) -> 10.308953 | DD9: =LN($CY$1) -> 10.308953 | DE9: =LN($CY$1) -> 10.308953 | DF9: =LN($CY$1) -> 10.308953 | DG9: =LN($DF$1) -> 11.512925 | DH9: =LN($DF$1) -> 11.512925 | DI9: =LN($DF$1) -> 11.512925 | DJ9: =LN($DF$1) -> 11.512925 | DK9: =LN($DF$1) -> 11.512925 | DL9: =LN($DF$1) -> 11.512925 | DM9: =LN($DF$1) -> 11.512925 | DN9: =LN($DF$1) -> 11.512925 | ... DZ9: =LN($DF$1) -> 11.512925 | EA9: =LN($DZ$1) -> 12.611538 | EB9: =LN($DZ$1) -> 12.611538 | EC9: =LN($DZ$1) -> 12.611538 | ED9: =LN($DZ$1) -> 12.611538 | EE9: =LN($DZ$1) -> 12.611538 | EF9: =LN($DZ$1) -> 12.611538 | EG9: =LN($DZ$1) -> 12.611538 | EH9: =LN($DZ$1) -> 12.611538 | ... GQ9: =LN($DZ$1) -> 12.611538
A10: xi+1 | C10: =LN($D$1) -> 1.0986123 | D10: =LN($D$1) -> 1.0986123 | E10: =LN($K$1) -> 2.3025851 | F10: =LN($K$1) -> 2.3025851 | G10: =LN($K$1) -> 2.3025851 | H10: =LN($K$1) -> 2.3025851 | I10: =LN($K$1) -> 2.3025851 | J10: =LN($K$1) -> 2.3025851 | L10: =LN($AE$1) -> 3.4011974 | M10: =LN($AE$1) -> 3.4011974 | N10: =LN($AE$1) -> 3.4011974 | O10: =LN($AE$1) -> 3.4011974 | P10: =LN($AE$1) -> 3.4011974 | Q10: =LN($AE$1) -> 3.4011974 | R10: =LN($AE$1) -> 3.4011974 | S10: =LN($AE$1) -> 3.4011974 | ... AE10: =LN($AE$1) -> 3.4011974 | AF10: =LN($CE$1) -> 4.6051702 | AG10: =LN($CE$1) -> 4.6051702 | AH10: =LN($CE$1) -> 4.6051702 | AI10: =LN($CE$1) -> 4.6051702 | AJ10: =LN($CE$1) -> 4.6051702 | AK10: =LN($CE$1) -> 4.6051702 | AL10: =LN($CE$1) -> 4.6051702 | AM10: =LN($CE$1) -> 4.6051702 | ... CE10: =LN($CE$1) -> 4.6051702 | CF10: =LN($CG$1) -> 5.7037825 | CG10: =LN($CG$1) -> 5.7037825 | CH10: =LN($CN$1) -> 6.9077553 | CI10: =LN($CN$1) -> 6.9077553 | CJ10: =LN($CN$1) -> 6.9077553 | CK10: =LN($CN$1) -> 6.9077553 | CL10: =LN($CN$1) -> 6.9077553 | CM10: =LN($CN$1) -> 6.9077553 | CN10: =LN($CN$1) -> 6.9077553 | CO10: =LN($CP$1) -> 8.0063676 | CP10: =LN($CW$1) -> 9.2103404 | CQ10: =LN($CW$1) -> 9.2103404 | CR10: =LN($CW$1) -> 9.2103404 | CS10: =LN($CW$1) -> 9.2103404 | CT10: =LN($CW$1) -> 9.2103404 | CU10: =LN($CW$1) -> 9.2103404 | CV10: =LN($CW$1) -> 9.2103404 | CW10: =LN($CW$1) -> 9.2103404 | CX10: =LN($CY$1) -> 10.308953 | CY10: =LN($CY$1) -> 10.308953 | CZ10: =LN($DF$1) -> 11.512925 | DA10: =LN($DF$1) -> 11.512925 | DB10: =LN($DF$1) -> 11.512925 | DC10: =LN($DF$1) -> 11.512925 | DD10: =LN($DF$1) -> 11.512925 | DE10: =LN($DF$1) -> 11.512925 | DF10: =LN($DF$1) -> 11.512925 | DG10: =LN($DZ$1) -> 12.611538 | DH10: =LN($DZ$1) -> 12.611538 | DI10: =LN($DZ$1) -> 12.611538 | DJ10: =LN($DZ$1) -> 12.611538 | DK10: =LN($DZ$1) -> 12.611538 | DL10: =LN($DZ$1) -> 12.611538 | DM10: =LN($DZ$1) -> 12.611538 | DN10: =LN($DZ$1) -> 12.611538 | ... DZ10: =LN($DZ$1) -> 12.611538 | EA10: =LN($GR$1) -> 13.815511 | EB10: =LN($GR$1) -> 13.815511 | EC10: =LN($GR$1) -> 13.815511 | ED10: =LN($GR$1) -> 13.815511 | EE10: =LN($GR$1) -> 13.815511 | EF10: =LN($GR$1) -> 13.815511 | EG10: =LN($GR$1) -> 13.815511 | EH10: =LN($GR$1) -> 13.815511 | ... GQ10: =LN($GR$1) -> 13.815511
A11: DH | C11: =EXP(C5) -> 6112.6603 | D11: =EXP(D5) -> 4243 | E11: =EXP(E5) -> 3350.906 | F11: =EXP(F5) -> 2790.2859 | G11: =EXP(G5) -> 2402.5997 | H11: =EXP(H5) -> 2117.1535 | I11: =EXP(I5) -> 1897.4513 | J11: =EXP(J5) -> 1722.664 | L11: =EXP(L5) -> 1521.3968 | M11: =EXP(M5) -> 1469.7963 | N11: =EXP(N5) -> 1423.8753 | O11: =EXP(O5) -> 1382.6392 | P11: =EXP(P5) -> 1345.3234 | Q11: =EXP(Q5) -> 1311.3291 | R11: =EXP(R5) -> 1280.1792 | S11: =EXP(S5) -> 1251.4882 | ... GQ11: =EXP(GQ5) -> 0.5029524
A14: 1 | CC14: 1 | CD14: =EXP($CD$6+($CD$7-$CD$6)*((LN($CD$1-A14))-$CD$9)/($CD$10-$CD$9)) -> 441.77452 | CE14: =EXP($CE$6+($CE$7-$CE$6)*((LN($CE$1-A14))-$CE$9)/($CE$10-$CE$9)) -> 406.94226 | CF14: =EXP($CF$6+($CF$7-$CF$6)*((LN($CF$1-A14))-$CF$9)/($CF$10-$CF$9)) -> 236.94242 | CG14: =EXP($CG$6+($CG$7-$CG$6)*((LN($CG$1-A14))-$CG$9)/($CG$10-$CG$9)) -> 172.84652 | CH14: =EXP($CH$6+($CH$7-$CH$6)*((LN($CH$1-A14))-$CH$9)/($CH$10-$CH$9)) -> 139.33767 | CI14: =EXP($CI$6+($CI$7-$CI$6)*((LN($CI$1-A14))-$CI$9)/($CI$10-$CI$9)) -> 117.91043 | CJ14: =EXP($CJ$6+($CJ$7-$CJ$6)*((LN($CJ$1-A14))-$CJ$9)/($CJ$10-$CJ$9)) -> 102.87895 | CK14: =EXP($CK$6+($CK$7-$CK$6)*((LN($CK$1-A14))-$CK$9)/($CK$10-$CK$9)) -> 91.678217 | CL14: =EXP($CL$6+($CL$7-$CL$6)*((LN($CL$1-A14))-$CL$9)/($CL$10-$CL$9)) -> 82.968052 | CM14: =EXP($CM$6+($CM$7-$CM$6)*((LN($CM$1-A14))-$CM$9)/($CM$10-$CM$9)) -> 75.975731 | CN14: =EXP($CN$6+($CN$7-$CN$6)*((LN($CN$1-A14))-$CN$9)/($CN$10-$CN$9)) -> 70.222435 | CO14: =EXP($CO$6+($CO$7-$CO$6)*((LN($CO$1-A14))-$CO$9)/($CO$10-$CO$9)) -> 37.976966 | CP14: =EXP($CP$6+($CP$7-$CP$6)*((LN($CP$1-A14))-$CP$9)/($CP$10-$CP$9)) -> 26.5 | CQ14: =EXP($CQ$6+($CQ$7-$CQ$6)*((LN($CQ$1-A14))-$CQ$9)/($CQ$10-$CQ$9)) -> 23.351112 | CR14: =EXP($CR$6+($CR$7-$CR$6)*((LN($CR$1-A14))-$CR$9)/($CR$10-$CR$9)) -> 21.166423 | CS14: =EXP($CS$6+($CS$7-$CS$6)*((LN($CS$1-A14))-$CS$9)/($CS$10-$CS$9)) -> 19.534085 | CT14: =EXP($CT$6+($CT$7-$CT$6)*((LN($CT$1-A14))-$CT$9)/($CT$10-$CT$9)) -> 18.252609 | CU14: =EXP($CU$6+($CU$7-$CU$6)*((LN($CU$1-A14))-$CU$9)/($CU$10-$CU$9)) -> 17.210719 | CV14: =EXP($CV$6+($CV$7-$CV$6)*((LN($CV$1-A14))-$CV$9)/($CV$10-$CV$9)) -> 16.341199 | CW14: =EXP($CW$6+($CW$7-$CW$6)*((LN($CW$1-A14))-$CW$9)/($CW$10-$CW$9)) -> 15.600687 | CX14: =EXP($CX$6+($CX$7-$CX$6)*((LN($CX$1-A14))-$CX$9)/($CX$10-$CX$9)) -> 8.5544229 | CY14: =EXP($CY$6+($CY$7-$CY$6)*((LN($CY$1-A14))-$CY$9)/($CY$10-$CY$9)) -> 6.0191739 | CZ14: =EXP($CZ$6+($CZ$7-$CZ$6)*((LN($CZ$1-A14))-$CZ$9)/($CZ$10-$CZ$9)) -> 4.0813449 | DA14: =EXP($DA$6+($DA$7-$DA$6)*((LN($DA$1-A14))-$DA$9)/($DA$10-$DA$9)) -> 3.019387 | DB14: =EXP($DB$6+($DB$7-$DB$6)*((LN($DB$1-A14))-$DB$9)/($DB$10-$DB$9)) -> 2.3603629 | DC14: =EXP($DC$6+($DC$7-$DC$6)*((LN($DC$1-A14))-$DC$9)/($DC$10-$DC$9)) -> 1.9167371 | DD14: =EXP($DD$6+($DD$7-$DD$6)*((LN($DD$1-A14))-$DD$9)/($DD$10-$DD$9)) -> 1.6004445 | DE14: =EXP($DE$6+($DE$7-$DE$6)*((LN($DE$1-A14))-$DE$9)/($DE$10-$DE$9)) -> 1.365073 | DF14: =EXP($DF$6+($DF$7-$DF$6)*((LN($DF$1-A14))-$DF$9)/($DF$10-$DF$9)) -> 1.184016
A15: 2 | CC15: 2 | CD15: =EXP($CD$6+($CD$7-$CD$6)*((LN($CD$1-A15))-$CD$9)/($CD$10-$CD$9)) -> 445.64145 | CE15: =EXP($CE$6+($CE$7-$CE$6)*((LN($CE$1-A15))-$CE$9)/($CE$10-$CE$9)) -> 410.14124 | CF15: =EXP($CF$6+($CF$7-$CF$6)*((LN($CF$1-A15))-$CF$9)/($CF$10-$CF$9)) -> 237.86897 | CG15: =EXP($CG$6+($CG$7-$CG$6)*((LN($CG$1-A15))-$CG$9)/($CG$10-$CG$9)) -> 173.2957 | CH15: =EXP($CH$6+($CH$7-$CH$6)*((LN($CH$1-A15))-$CH$9)/($CH$10-$CH$9)) -> 139.59897 | CI15: =EXP($CI$6+($CI$7-$CI$6)*((LN($CI$1-A15))-$CI$9)/($CI$10-$CI$9)) -> 118.08716 | CJ15: =EXP($CJ$6+($CJ$7-$CJ$6)*((LN($CJ$1-A15))-$CJ$9)/($CJ$10-$CJ$9)) -> 103.00737 | CK15: =EXP($CK$6+($CK$7-$CK$6)*((LN($CK$1-A15))-$CK$9)/($CK$10-$CK$9)) -> 91.776262 | CL15: =EXP($CL$6+($CL$7-$CL$6)*((LN($CL$1-A15))-$CL$9)/($CL$10-$CL$9)) -> 83.045664 | CM15: =EXP($CM$6+($CM$7-$CM$6)*((LN($CM$1-A15))-$CM$9)/($CM$10-$CM$9)) -> 76.03889 | CN15: =EXP($CN$6+($CN$7-$CN$6)*((LN($CN$1-A15))-$CN$9)/($CN$10-$CN$9)) -> 70.274962 | CO15: =EXP($CO$6+($CO$7-$CO$6)*((LN($CO$1-A15))-$CO$9)/($CO$10-$CO$9)) -> 37.993814 | CP15: =EXP($CP$6+($CP$7-$CP$6)*((LN($CP$1-A15))-$CP$9)/($CP$10-$CP$9)) -> 26.5 | CQ15: =EXP($CQ$6+($CQ$7-$CQ$6)*((LN($CQ$1-A15))-$CQ$9)/($CQ$10-$CQ$9)) -> 23.353682 | CR15: =EXP($CR$6+($CR$7-$CR$6)*((LN($CR$1-A15))-$CR$9)/($CR$10-$CR$9)) -> 21.168287 | CS15: =EXP($CS$6+($CS$7-$CS$6)*((LN($CS$1-A15))-$CS$9)/($CS$10-$CS$9)) -> 19.535519 | CT15: =EXP($CT$6+($CT$7-$CT$6)*((LN($CT$1-A15))-$CT$9)/($CT$10-$CT$9)) -> 18.253757 | CU15: =EXP($CU$6+($CU$7-$CU$6)*((LN($CU$1-A15))-$CU$9)/($CU$10-$CU$9)) -> 17.211666 | CV15: =EXP($CV$6+($CV$7-$CV$6)*((LN($CV$1-A15))-$CV$9)/($CV$10-$CV$9)) -> 16.341998 | CW15: =EXP($CW$6+($CW$7-$CW$6)*((LN($CW$1-A15))-$CW$9)/($CW$10-$CW$9)) -> 15.601373 | CX15: =EXP($CX$6+($CX$7-$CX$6)*((LN($CX$1-A15))-$CX$9)/($CX$10-$CX$9)) -> 8.5547937 | CY15: =EXP($CY$6+($CY$7-$CY$6)*((LN($CY$1-A15))-$CY$9)/($CY$10-$CY$9)) -> 6.0193479 | CZ15: =EXP($CZ$6+($CZ$7-$CZ$6)*((LN($CZ$1-A15))-$CZ$9)/($CZ$10-$CZ$9)) -> 4.0814827 | DA15: =EXP($DA$6+($DA$7-$DA$6)*((LN($DA$1-A15))-$DA$9)/($DA$10-$DA$9)) -> 3.0194685 | DB15: =EXP($DB$6+($DB$7-$DB$6)*((LN($DB$1-A15))-$DB$9)/($DB$10-$DB$9)) -> 2.360416 | DC15: =EXP($DC$6+($DC$7-$DC$6)*((LN($DC$1-A15))-$DC$9)/($DC$10-$DC$9)) -> 1.9167741 | DD15: =EXP($DD$6+($DD$7-$DD$6)*((LN($DD$1-A15))-$DD$9)/($DD$10-$DD$9)) -> 1.6004715 | DE15: =EXP($DE$6+($DE$7-$DE$6)*((LN($DE$1-A15))-$DE$9)/($DE$10-$DE$9)) -> 1.3650935 | DF15: =EXP($DF$6+($DF$7-$DF$6)*((LN($DF$1-A15))-$DF$9)/($DF$10-$DF$9)) -> 1.184032
A16: 3 | CC16: 3 | CD16: =EXP($CD$6+($CD$7-$CD$6)*((LN($CD$1-A16))-$CD$9)/($CD$10-$CD$9)) -> 449.58701 | CE16: =EXP($CE$6+($CE$7-$CE$6)*((LN($CE$1-A16))-$CE$9)/($CE$10-$CE$9)) -> 413.39858 | CF16: =EXP($CF$6+($CF$7-$CF$6)*((LN($CF$1-A16))-$CF$9)/($CF$10-$CF$9)) -> 238.80386 | CG16: =EXP($CG$6+($CG$7-$CG$6)*((LN($CG$1-A16))-$CG$9)/($CG$10-$CG$9)) -> 173.74756 | CH16: =EXP($CH$6+($CH$7-$CH$6)*((LN($CH$1-A16))-$CH$9)/($CH$10-$CH$9)) -> 139.86142 | CI16: =EXP($CI$6+($CI$7-$CI$6)*((LN($CI$1-A16))-$CI$9)/($CI$10-$CI$9)) -> 118.2645 | CJ16: =EXP($CJ$6+($CJ$7-$CJ$6)*((LN($CJ$1-A16))-$CJ$9)/($CJ$10-$CJ$9)) -> 103.13616 | CK16: =EXP($CK$6+($CK$7-$CK$6)*((LN($CK$1-A16))-$CK$9)/($CK$10-$CK$9)) -> 91.874553 | CL16: =EXP($CL$6+($CL$7-$CL$6)*((LN($CL$1-A16))-$CL$9)/($CL$10-$CL$9)) -> 83.123447 | CM16: =EXP($CM$6+($CM$7-$CM$6)*((LN($CM$1-A16))-$CM$9)/($CM$10-$CM$9)) -> 76.102171 | CN16: =EXP($CN$6+($CN$7-$CN$6)*((LN($CN$1-A16))-$CN$9)/($CN$10-$CN$9)) -> 70.327581 | CO16: =EXP($CO$6+($CO$7-$CO$6)*((LN($CO$1-A16))-$CO$9)/($CO$10-$CO$9)) -> 38.010677 | CP16: =EXP($CP$6+($CP$7-$CP$6)*((LN($CP$1-A16))-$CP$9)/($CP$10-$CP$9)) -> 26.5 | CQ16: =EXP($CQ$6+($CQ$7-$CQ$6)*((LN($CQ$1-A16))-$CQ$9)/($CQ$10-$CQ$9)) -> 23.356254 | CR16: =EXP($CR$6+($CR$7-$CR$6)*((LN($CR$1-A16))-$CR$9)/($CR$10-$CR$9)) -> 21.170151 | CS16: =EXP($CS$6+($CS$7-$CS$6)*((LN($CS$1-A16))-$CS$9)/($CS$10-$CS$9)) -> 19.536952 | CT16: =EXP($CT$6+($CT$7-$CT$6)*((LN($CT$1-A16))-$CT$9)/($CT$10-$CT$9)) -> 18.254905 | CU16: =EXP($CU$6+($CU$7-$CU$6)*((LN($CU$1-A16))-$CU$9)/($CU$10-$CU$9)) -> 17.212614 | CV16: =EXP($CV$6+($CV$7-$CV$6)*((LN($CV$1-A16))-$CV$9)/($CV$10-$CV$9)) -> 16.342797 | CW16: =EXP($CW$6+($CW$7-$CW$6)*((LN($CW$1-A16))-$CW$9)/($CW$10-$CW$9)) -> 15.60206 | CX16: =EXP($CX$6+($CX$7-$CX$6)*((LN($CX$1-A16))-$CX$9)/($CX$10-$CX$9)) -> 8.5551645 | CY16: =EXP($CY$6+($CY$7-$CY$6)*((LN($CY$1-A16))-$CY$9)/($CY$10-$CY$9)) -> 6.0195218 | CZ16: =EXP($CZ$6+($CZ$7-$CZ$6)*((LN($CZ$1-A16))-$CZ$9)/($CZ$10-$CZ$9)) -> 4.0816205 | DA16: =EXP($DA$6+($DA$7-$DA$6)*((LN($DA$1-A16))-$DA$9)/($DA$10-$DA$9)) -> 3.0195501 | DB16: =EXP($DB$6+($DB$7-$DB$6)*((LN($DB$1-A16))-$DB$9)/($DB$10-$DB$9)) -> 2.3604692 | DC16: =EXP($DC$6+($DC$7-$DC$6)*((LN($DC$1-A16))-$DC$9)/($DC$10-$DC$9)) -> 1.9168111 | DD16: =EXP($DD$6+($DD$7-$DD$6)*((LN($DD$1-A16))-$DD$9)/($DD$10-$DD$9)) -> 1.6004985 | DE16: =EXP($DE$6+($DE$7-$DE$6)*((LN($DE$1-A16))-$DE$9)/($DE$10-$DE$9)) -> 1.365114 | DF16: =EXP($DF$6+($DF$7-$DF$6)*((LN($DF$1-A16))-$DF$9)/($DF$10-$DF$9)) -> 1.184048
A17: 4 | CC17: 4 | CD17: =EXP($CD$6+($CD$7-$CD$6)*((LN($CD$1-A17))-$CD$9)/($CD$10-$CD$9)) -> 453.61372 | CE17: =EXP($CE$6+($CE$7-$CE$6)*((LN($CE$1-A17))-$CE$9)/($CE$10-$CE$9)) -> 416.71594 | CF17: =EXP($CF$6+($CF$7-$CF$6)*((LN($CF$1-A17))-$CF$9)/($CF$10-$CF$9)) -> 239.74721 | CG17: =EXP($CG$6+($CG$7-$CG$6)*((LN($CG$1-A17))-$CG$9)/($CG$10-$CG$9)) -> 174.20212 | CH17: =EXP($CH$6+($CH$7-$CH$6)*((LN($CH$1-A17))-$CH$9)/($CH$10-$CH$9)) -> 140.12503 | CI17: =EXP($CI$6+($CI$7-$CI$6)*((LN($CI$1-A17))-$CI$9)/($CI$10-$CI$9)) -> 118.44248 | CJ17: =EXP($CJ$6+($CJ$7-$CJ$6)*((LN($CJ$1-A17))-$CJ$9)/($CJ$10-$CJ$9)) -> 103.26534 | CK17: =EXP($CK$6+($CK$7-$CK$6)*((LN($CK$1-A17))-$CK$9)/($CK$10-$CK$9)) -> 91.97309 | CL17: =EXP($CL$6+($CL$7-$CL$6)*((LN($CL$1-A17))-$CL$9)/($CL$10-$CL$9)) -> 83.2014 | CM17: =EXP($CM$6+($CM$7-$CM$6)*((LN($CM$1-A17))-$CM$9)/($CM$10-$CM$9)) -> 76.165576 | CN17: =EXP($CN$6+($CN$7-$CN$6)*((LN($CN$1-A17))-$CN$9)/($CN$10-$CN$9)) -> 70.380293 | CO17: =EXP($CO$6+($CO$7-$CO$6)*((LN($CO$1-A17))-$CO$9)/($CO$10-$CO$9)) -> 38.027556 | CP17: =EXP($CP$6+($CP$7-$CP$6)*((LN($CP$1-A17))-$CP$9)/($CP$10-$CP$9)) -> 26.5 | CQ17: =EXP($CQ$6+($CQ$7-$CQ$6)*((LN($CQ$1-A17))-$CQ$9)/($CQ$10-$CQ$9)) -> 23.358826 | CR17: =EXP($CR$6+($CR$7-$CR$6)*((LN($CR$1-A17))-$CR$9)/($CR$10-$CR$9)) -> 21.172016 | CS17: =EXP($CS$6+($CS$7-$CS$6)*((LN($CS$1-A17))-$CS$9)/($CS$10-$CS$9)) -> 19.538386 | CT17: =EXP($CT$6+($CT$7-$CT$6)*((LN($CT$1-A17))-$CT$9)/($CT$10-$CT$9)) -> 18.256053 | CU17: =EXP($CU$6+($CU$7-$CU$6)*((LN($CU$1-A17))-$CU$9)/($CU$10-$CU$9)) -> 17.213561 | CV17: =EXP($CV$6+($CV$7-$CV$6)*((LN($CV$1-A17))-$CV$9)/($CV$10-$CV$9)) -> 16.343597 | CW17: =EXP($CW$6+($CW$7-$CW$6)*((LN($CW$1-A17))-$CW$9)/($CW$10-$CW$9)) -> 15.602747 | CX17: =EXP($CX$6+($CX$7-$CX$6)*((LN($CX$1-A17))-$CX$9)/($CX$10-$CX$9)) -> 8.5555354 | CY17: =EXP($CY$6+($CY$7-$CY$6)*((LN($CY$1-A17))-$CY$9)/($CY$10-$CY$9)) -> 6.0196958 | CZ17: =EXP($CZ$6+($CZ$7-$CZ$6)*((LN($CZ$1-A17))-$CZ$9)/($CZ$10-$CZ$9)) -> 4.0817583 | DA17: =EXP($DA$6+($DA$7-$DA$6)*((LN($DA$1-A17))-$DA$9)/($DA$10-$DA$9)) -> 3.0196317 | DB17: =EXP($DB$6+($DB$7-$DB$6)*((LN($DB$1-A17))-$DB$9)/($DB$10-$DB$9)) -> 2.3605223 | DC17: =EXP($DC$6+($DC$7-$DC$6)*((LN($DC$1-A17))-$DC$9)/($DC$10-$DC$9)) -> 1.9168481 | DD17: =EXP($DD$6+($DD$7-$DD$6)*((LN($DD$1-A17))-$DD$9)/($DD$10-$DD$9)) -> 1.6005256 | DE17: =EXP($DE$6+($DE$7-$DE$6)*((LN($DE$1-A17))-$DE$9)/($DE$10-$DE$9)) -> 1.3651345 | DF17: =EXP($DF$6+($DF$7-$DF$6)*((LN($DF$1-A17))-$DF$9)/($DF$10-$DF$9)) -> 1.184064
A18: 5 | CC18: 5 | CD18: =EXP($CD$6+($CD$7-$CD$6)*((LN($CD$1-A18))-$CD$9)/($CD$10-$CD$9)) -> 457.72423 | CE18: =EXP($CE$6+($CE$7-$CE$6)*((LN($CE$1-A18))-$CE$9)/($CE$10-$CE$9)) -> 420.09508 | CF18: =EXP($CF$6+($CF$7-$CF$6)*((LN($CF$1-A18))-$CF$9)/($CF$10-$CF$9)) -> 240.69914 | CG18: =EXP($CG$6+($CG$7-$CG$6)*((LN($CG$1-A18))-$CG$9)/($CG$10-$CG$9)) -> 174.65943 | CH18: =EXP($CH$6+($CH$7-$CH$6)*((LN($CH$1-A18))-$CH$9)/($CH$10-$CH$9)) -> 140.3898 | CI18: =EXP($CI$6+($CI$7-$CI$6)*((LN($CI$1-A18))-$CI$9)/($CI$10-$CI$9)) -> 118.62108 | CJ18: =EXP($CJ$6+($CJ$7-$CJ$6)*((LN($CJ$1-A18))-$CJ$9)/($CJ$10-$CJ$9)) -> 103.39489 | CK18: =EXP($CK$6+($CK$7-$CK$6)*((LN($CK$1-A18))-$CK$9)/($CK$10-$CK$9)) -> 92.071875 | CL18: =EXP($CL$6+($CL$7-$CL$6)*((LN($CL$1-A18))-$CL$9)/($CL$10-$CL$9)) -> 83.279525 | CM18: =EXP($CM$6+($CM$7-$CM$6)*((LN($CM$1-A18))-$CM$9)/($CM$10-$CM$9)) -> 76.229104 | CN18: =EXP($CN$6+($CN$7-$CN$6)*((LN($CN$1-A18))-$CN$9)/($CN$10-$CN$9)) -> 70.433097 | CO18: =EXP($CO$6+($CO$7-$CO$6)*((LN($CO$1-A18))-$CO$9)/($CO$10-$CO$9)) -> 38.044451 | CP18: =EXP($CP$6+($CP$7-$CP$6)*((LN($CP$1-A18))-$CP$9)/($CP$10-$CP$9)) -> 26.5 | CQ18: =EXP($CQ$6+($CQ$7-$CQ$6)*((LN($CQ$1-A18))-$CQ$9)/($CQ$10-$CQ$9)) -> 23.361399 | CR18: =EXP($CR$6+($CR$7-$CR$6)*((LN($CR$1-A18))-$CR$9)/($CR$10-$CR$9)) -> 21.173881 | CS18: =EXP($CS$6+($CS$7-$CS$6)*((LN($CS$1-A18))-$CS$9)/($CS$10-$CS$9)) -> 19.539821 | CT18: =EXP($CT$6+($CT$7-$CT$6)*((LN($CT$1-A18))-$CT$9)/($CT$10-$CT$9)) -> 18.257202 | CU18: =EXP($CU$6+($CU$7-$CU$6)*((LN($CU$1-A18))-$CU$9)/($CU$10-$CU$9)) -> 17.214508 | CV18: =EXP($CV$6+($CV$7-$CV$6)*((LN($CV$1-A18))-$CV$9)/($CV$10-$CV$9)) -> 16.344397 | CW18: =EXP($CW$6+($CW$7-$CW$6)*((LN($CW$1-A18))-$CW$9)/($CW$10-$CW$9)) -> 15.603434 | CX18: =EXP($CX$6+($CX$7-$CX$6)*((LN($CX$1-A18))-$CX$9)/($CX$10-$CX$9)) -> 8.5559063 | CY18: =EXP($CY$6+($CY$7-$CY$6)*((LN($CY$1-A18))-$CY$9)/($CY$10-$CY$9)) -> 6.0198697 | CZ18: =EXP($CZ$6+($CZ$7-$CZ$6)*((LN($CZ$1-A18))-$CZ$9)/($CZ$10-$CZ$9)) -> 4.0818962 | DA18: =EXP($DA$6+($DA$7-$DA$6)*((LN($DA$1-A18))-$DA$9)/($DA$10-$DA$9)) -> 3.0197132 | DB18: =EXP($DB$6+($DB$7-$DB$6)*((LN($DB$1-A18))-$DB$9)/($DB$10-$DB$9)) -> 2.3605754 | DC18: =EXP($DC$6+($DC$7-$DC$6)*((LN($DC$1-A18))-$DC$9)/($DC$10-$DC$9)) -> 1.9168851 | DD18: =EXP($DD$6+($DD$7-$DD$6)*((LN($DD$1-A18))-$DD$9)/($DD$10-$DD$9)) -> 1.6005526 | DE18: =EXP($DE$6+($DE$7-$DE$6)*((LN($DE$1-A18))-$DE$9)/($DE$10-$DE$9)) -> 1.365155 | DF18: =EXP($DF$6+($DF$7-$DF$6)*((LN($DF$1-A18))-$DF$9)/($DF$10-$DF$9)) -> 1.18408
A19: 6 | CC19: 6 | CD19: =EXP($CD$6+($CD$7-$CD$6)*((LN($CD$1-A19))-$CD$9)/($CD$10-$CD$9)) -> 461.9213 | CE19: =EXP($CE$6+($CE$7-$CE$6)*((LN($CE$1-A19))-$CE$9)/($CE$10-$CE$9)) -> 423.53782 | CF19: =EXP($CF$6+($CF$7-$CF$6)*((LN($CF$1-A19))-$CF$9)/($CF$10-$CF$9)) -> 241.65978 | CG19: =EXP($CG$6+($CG$7-$CG$6)*((LN($CG$1-A19))-$CG$9)/($CG$10-$CG$9)) -> 175.11949 | CH19: =EXP($CH$6+($CH$7-$CH$6)*((LN($CH$1-A19))-$CH$9)/($CH$10-$CH$9)) -> 140.65575 | CI19: =EXP($CI$6+($CI$7-$CI$6)*((LN($CI$1-A19))-$CI$9)/($CI$10-$CI$9)) -> 118.80031 | CJ19: =EXP($CJ$6+($CJ$7-$CJ$6)*((LN($CJ$1-A19))-$CJ$9)/($CJ$10-$CJ$9)) -> 103.52482 | CK19: =EXP($CK$6+($CK$7-$CK$6)*((LN($CK$1-A19))-$CK$9)/($CK$10-$CK$9)) -> 92.170908 | CL19: =EXP($CL$6+($CL$7-$CL$6)*((LN($CL$1-A19))-$CL$9)/($CL$10-$CL$9)) -> 83.357821 | CM19: =EXP($CM$6+($CM$7-$CM$6)*((LN($CM$1-A19))-$CM$9)/($CM$10-$CM$9)) -> 76.292756 | CN19: =EXP($CN$6+($CN$7-$CN$6)*((LN($CN$1-A19))-$CN$9)/($CN$10-$CN$9)) -> 70.485993 | CO19: =EXP($CO$6+($CO$7-$CO$6)*((LN($CO$1-A19))-$CO$9)/($CO$10-$CO$9)) -> 38.061362 | CP19: =EXP($CP$6+($CP$7-$CP$6)*((LN($CP$1-A19))-$CP$9)/($CP$10-$CP$9)) -> 26.5 | CQ19: =EXP($CQ$6+($CQ$7-$CQ$6)*((LN($CQ$1-A19))-$CQ$9)/($CQ$10-$CQ$9)) -> 23.363973 | CR19: =EXP($CR$6+($CR$7-$CR$6)*((LN($CR$1-A19))-$CR$9)/($CR$10-$CR$9)) -> 21.175747 | CS19: =EXP($CS$6+($CS$7-$CS$6)*((LN($CS$1-A19))-$CS$9)/($CS$10-$CS$9)) -> 19.541255 | CT19: =EXP($CT$6+($CT$7-$CT$6)*((LN($CT$1-A19))-$CT$9)/($CT$10-$CT$9)) -> 18.258351 | CU19: =EXP($CU$6+($CU$7-$CU$6)*((LN($CU$1-A19))-$CU$9)/($CU$10-$CU$9)) -> 17.215456 | CV19: =EXP($CV$6+($CV$7-$CV$6)*((LN($CV$1-A19))-$CV$9)/($CV$10-$CV$9)) -> 16.345196 | CW19: =EXP($CW$6+($CW$7-$CW$6)*((LN($CW$1-A19))-$CW$9)/($CW$10-$CW$9)) -> 15.604121 | CX19: =EXP($CX$6+($CX$7-$CX$6)*((LN($CX$1-A19))-$CX$9)/($CX$10-$CX$9)) -> 8.5562773 | CY19: =EXP($CY$6+($CY$7-$CY$6)*((LN($CY$1-A19))-$CY$9)/($CY$10-$CY$9)) -> 6.0200437 | CZ19: =EXP($CZ$6+($CZ$7-$CZ$6)*((LN($CZ$1-A19))-$CZ$9)/($CZ$10-$CZ$9)) -> 4.082034 | DA19: =EXP($DA$6+($DA$7-$DA$6)*((LN($DA$1-A19))-$DA$9)/($DA$10-$DA$9)) -> 3.0197948 | DB19: =EXP($DB$6+($DB$7-$DB$6)*((LN($DB$1-A19))-$DB$9)/($DB$10-$DB$9)) -> 2.3606286 | DC19: =EXP($DC$6+($DC$7-$DC$6)*((LN($DC$1-A19))-$DC$9)/($DC$10-$DC$9)) -> 1.916922 | DD19: =EXP($DD$6+($DD$7-$DD$6)*((LN($DD$1-A19))-$DD$9)/($DD$10-$DD$9)) -> 1.6005796 | DE19: =EXP($DE$6+($DE$7-$DE$6)*((LN($DE$1-A19))-$DE$9)/($DE$10-$DE$9)) -> 1.3651755 | DF19: =EXP($DF$6+($DF$7-$DF$6)*((LN($DF$1-A19))-$DF$9)/($DF$10-$DF$9)) -> 1.1840959
A20: 7 | CC20: 7 | CD20: =EXP($CD$6+($CD$7-$CD$6)*((LN($CD$1-A20))-$CD$9)/($CD$10-$CD$9)) -> 466.20782 | CE20: =EXP($CE$6+($CE$7-$CE$6)*((LN($CE$1-A20))-$CE$9)/($CE$10-$CE$9)) -> 427.04605 | CF20: =EXP($CF$6+($CF$7-$CF$6)*((LN($CF$1-A20))-$CF$9)/($CF$10-$CF$9)) -> 242.62924 | CG20: =EXP($CG$6+($CG$7-$CG$6)*((LN($CG$1-A20))-$CG$9)/($CG$10-$CG$9)) -> 175.58234 | CH20: =EXP($CH$6+($CH$7-$CH$6)*((LN($CH$1-A20))-$CH$9)/($CH$10-$CH$9)) -> 140.92288 | CI20: =EXP($CI$6+($CI$7-$CI$6)*((LN($CI$1-A20))-$CI$9)/($CI$10-$CI$9)) -> 118.98018 | CJ20: =EXP($CJ$6+($CJ$7-$CJ$6)*((LN($CJ$1-A20))-$CJ$9)/($CJ$10-$CJ$9)) -> 103.65513 | CK20: =EXP($CK$6+($CK$7-$CK$6)*((LN($CK$1-A20))-$CK$9)/($CK$10-$CK$9)) -> 92.270191 | CL20: =EXP($CL$6+($CL$7-$CL$6)*((LN($CL$1-A20))-$CL$9)/($CL$10-$CL$9)) -> 83.43629 | CM20: =EXP($CM$6+($CM$7-$CM$6)*((LN($CM$1-A20))-$CM$9)/($CM$10-$CM$9)) -> 76.356533 | CN20: =EXP($CN$6+($CN$7-$CN$6)*((LN($CN$1-A20))-$CN$9)/($CN$10-$CN$9)) -> 70.538983 | CO20: =EXP($CO$6+($CO$7-$CO$6)*((LN($CO$1-A20))-$CO$9)/($CO$10-$CO$9)) -> 38.078289 | CP20: =EXP($CP$6+($CP$7-$CP$6)*((LN($CP$1-A20))-$CP$9)/($CP$10-$CP$9)) -> 26.5 | CQ20: =EXP($CQ$6+($CQ$7-$CQ$6)*((LN($CQ$1-A20))-$CQ$9)/($CQ$10-$CQ$9)) -> 23.366548 | CR20: =EXP($CR$6+($CR$7-$CR$6)*((LN($CR$1-A20))-$CR$9)/($CR$10-$CR$9)) -> 21.177614 | CS20: =EXP($CS$6+($CS$7-$CS$6)*((LN($CS$1-A20))-$CS$9)/($CS$10-$CS$9)) -> 19.54269 | CT20: =EXP($CT$6+($CT$7-$CT$6)*((LN($CT$1-A20))-$CT$9)/($CT$10-$CT$9)) -> 18.2595 | CU20: =EXP($CU$6+($CU$7-$CU$6)*((LN($CU$1-A20))-$CU$9)/($CU$10-$CU$9)) -> 17.216404 | CV20: =EXP($CV$6+($CV$7-$CV$6)*((LN($CV$1-A20))-$CV$9)/($CV$10-$CV$9)) -> 16.345996 | CW20: =EXP($CW$6+($CW$7-$CW$6)*((LN($CW$1-A20))-$CW$9)/($CW$10-$CW$9)) -> 15.604808 | CX20: =EXP($CX$6+($CX$7-$CX$6)*((LN($CX$1-A20))-$CX$9)/($CX$10-$CX$9)) -> 8.5566483 | CY20: =EXP($CY$6+($CY$7-$CY$6)*((LN($CY$1-A20))-$CY$9)/($CY$10-$CY$9)) -> 6.0202177 | CZ20: =EXP($CZ$6+($CZ$7-$CZ$6)*((LN($CZ$1-A20))-$CZ$9)/($CZ$10-$CZ$9)) -> 4.0821719 | DA20: =EXP($DA$6+($DA$7-$DA$6)*((LN($DA$1-A20))-$DA$9)/($DA$10-$DA$9)) -> 3.0198764 | DB20: =EXP($DB$6+($DB$7-$DB$6)*((LN($DB$1-A20))-$DB$9)/($DB$10-$DB$9)) -> 2.3606817 | DC20: =EXP($DC$6+($DC$7-$DC$6)*((LN($DC$1-A20))-$DC$9)/($DC$10-$DC$9)) -> 1.916959 | DD20: =EXP($DD$6+($DD$7-$DD$6)*((LN($DD$1-A20))-$DD$9)/($DD$10-$DD$9)) -> 1.6006066 | DE20: =EXP($DE$6+($DE$7-$DE$6)*((LN($DE$1-A20))-$DE$9)/($DE$10-$DE$9)) -> 1.365196 | DF20: =EXP($DF$6+($DF$7-$DF$6)*((LN($DF$1-A20))-$DF$9)/($DF$10-$DF$9)) -> 1.1841119
A21: 8 | CC21: 8 | CD21: =EXP($CD$6+($CD$7-$CD$6)*((LN($CD$1-A21))-$CD$9)/($CD$10-$CD$9)) -> 470.58681 | CE21: =EXP($CE$6+($CE$7-$CE$6)*((LN($CE$1-A21))-$CE$9)/($CE$10-$CE$9)) -> 430.62174 | CF21: =EXP($CF$6+($CF$7-$CF$6)*((LN($CF$1-A21))-$CF$9)/($CF$10-$CF$9)) -> 243.60766 | CG21: =EXP($CG$6+($CG$7-$CG$6)*((LN($CG$1-A21))-$CG$9)/($CG$10-$CG$9)) -> 176.04799 | CH21: =EXP($CH$6+($CH$7-$CH$6)*((LN($CH$1-A21))-$CH$9)/($CH$10-$CH$9)) -> 141.19119 | CI21: =EXP($CI$6+($CI$7-$CI$6)*((LN($CI$1-A21))-$CI$9)/($CI$10-$CI$9)) -> 119.16068 | CJ21: =EXP($CJ$6+($CJ$7-$CJ$6)*((LN($CJ$1-A21))-$CJ$9)/($CJ$10-$CJ$9)) -> 103.78583 | CK21: =EXP($CK$6+($CK$7-$CK$6)*((LN($CK$1-A21))-$CK$9)/($CK$10-$CK$9)) -> 92.369724 | CL21: =EXP($CL$6+($CL$7-$CL$6)*((LN($CL$1-A21))-$CL$9)/($CL$10-$CL$9)) -> 83.514932 | CM21: =EXP($CM$6+($CM$7-$CM$6)*((LN($CM$1-A21))-$CM$9)/($CM$10-$CM$9)) -> 76.420435 | CN21: =EXP($CN$6+($CN$7-$CN$6)*((LN($CN$1-A21))-$CN$9)/($CN$10-$CN$9)) -> 70.592066 | CO21: =EXP($CO$6+($CO$7-$CO$6)*((LN($CO$1-A21))-$CO$9)/($CO$10-$CO$9)) -> 38.095232 | CP21: =EXP($CP$6+($CP$7-$CP$6)*((LN($CP$1-A21))-$CP$9)/($CP$10-$CP$9)) -> 26.5 | CQ21: =EXP($CQ$6+($CQ$7-$CQ$6)*((LN($CQ$1-A21))-$CQ$9)/($CQ$10-$CQ$9)) -> 23.369124 | CR21: =EXP($CR$6+($CR$7-$CR$6)*((LN($CR$1-A21))-$CR$9)/($CR$10-$CR$9)) -> 21.179481 | CS21: =EXP($CS$6+($CS$7-$CS$6)*((LN($CS$1-A21))-$CS$9)/($CS$10-$CS$9)) -> 19.544125 | CT21: =EXP($CT$6+($CT$7-$CT$6)*((LN($CT$1-A21))-$CT$9)/($CT$10-$CT$9)) -> 18.260649 | CU21: =EXP($CU$6+($CU$7-$CU$6)*((LN($CU$1-A21))-$CU$9)/($CU$10-$CU$9)) -> 17.217352 | CV21: =EXP($CV$6+($CV$7-$CV$6)*((LN($CV$1-A21))-$CV$9)/($CV$10-$CV$9)) -> 16.346796 | CW21: =EXP($CW$6+($CW$7-$CW$6)*((LN($CW$1-A21))-$CW$9)/($CW$10-$CW$9)) -> 15.605496 | CX21: =EXP($CX$6+($CX$7-$CX$6)*((LN($CX$1-A21))-$CX$9)/($CX$10-$CX$9)) -> 8.5570193 | CY21: =EXP($CY$6+($CY$7-$CY$6)*((LN($CY$1-A21))-$CY$9)/($CY$10-$CY$9)) -> 6.0203917 | CZ21: =EXP($CZ$6+($CZ$7-$CZ$6)*((LN($CZ$1-A21))-$CZ$9)/($CZ$10-$CZ$9)) -> 4.0823097 | DA21: =EXP($DA$6+($DA$7-$DA$6)*((LN($DA$1-A21))-$DA$9)/($DA$10-$DA$9)) -> 3.019958 | DB21: =EXP($DB$6+($DB$7-$DB$6)*((LN($DB$1-A21))-$DB$9)/($DB$10-$DB$9)) -> 2.3607349 | DC21: =EXP($DC$6+($DC$7-$DC$6)*((LN($DC$1-A21))-$DC$9)/($DC$10-$DC$9)) -> 1.916996 | DD21: =EXP($DD$6+($DD$7-$DD$6)*((LN($DD$1-A21))-$DD$9)/($DD$10-$DD$9)) -> 1.6006337 | DE21: =EXP($DE$6+($DE$7-$DE$6)*((LN($DE$1-A21))-$DE$9)/($DE$10-$DE$9)) -> 1.3652164 | DF21: =EXP($DF$6+($DF$7-$DF$6)*((LN($DF$1-A21))-$DF$9)/($DF$10-$DF$9)) -> 1.1841279
A22: 9 | CC22: 9 | CD22: =EXP($CD$6+($CD$7-$CD$6)*((LN($CD$1-A22))-$CD$9)/($CD$10-$CD$9)) -> 475.06141 | CE22: =EXP($CE$6+($CE$7-$CE$6)*((LN($CE$1-A22))-$CE$9)/($CE$10-$CE$9)) -> 434.26694 | CF22: =EXP($CF$6+($CF$7-$CF$6)*((LN($CF$1-A22))-$CF$9)/($CF$10-$CF$9)) -> 244.59517 | CG22: =EXP($CG$6+($CG$7-$CG$6)*((LN($CG$1-A22))-$CG$9)/($CG$10-$CG$9)) -> 176.51649 | CH22: =EXP($CH$6+($CH$7-$CH$6)*((LN($CH$1-A22))-$CH$9)/($CH$10-$CH$9)) -> 141.46071 | CI22: =EXP($CI$6+($CI$7-$CI$6)*((LN($CI$1-A22))-$CI$9)/($CI$10-$CI$9)) -> 119.34183 | CJ22: =EXP($CJ$6+($CJ$7-$CJ$6)*((LN($CJ$1-A22))-$CJ$9)/($CJ$10-$CJ$9)) -> 103.91691 | CK22: =EXP($CK$6+($CK$7-$CK$6)*((LN($CK$1-A22))-$CK$9)/($CK$10-$CK$9)) -> 92.469509 | CL22: =EXP($CL$6+($CL$7-$CL$6)*((LN($CL$1-A22))-$CL$9)/($CL$10-$CL$9)) -> 83.593747 | CM22: =EXP($CM$6+($CM$7-$CM$6)*((LN($CM$1-A22))-$CM$9)/($CM$10-$CM$9)) -> 76.484462 | CN22: =EXP($CN$6+($CN$7-$CN$6)*((LN($CN$1-A22))-$CN$9)/($CN$10-$CN$9)) -> 70.645242 | CO22: =EXP($CO$6+($CO$7-$CO$6)*((LN($CO$1-A22))-$CO$9)/($CO$10-$CO$9)) -> 38.112191 | CP22: =EXP($CP$6+($CP$7-$CP$6)*((LN($CP$1-A22))-$CP$9)/($CP$10-$CP$9)) -> 26.5 | CQ22: =EXP($CQ$6+($CQ$7-$CQ$6)*((LN($CQ$1-A22))-$CQ$9)/($CQ$10-$CQ$9)) -> 23.371701 | CR22: =EXP($CR$6+($CR$7-$CR$6)*((LN($CR$1-A22))-$CR$9)/($CR$10-$CR$9)) -> 21.181348 | CS22: =EXP($CS$6+($CS$7-$CS$6)*((LN($CS$1-A22))-$CS$9)/($CS$10-$CS$9)) -> 19.545561 | CT22: =EXP($CT$6+($CT$7-$CT$6)*((LN($CT$1-A22))-$CT$9)/($CT$10-$CT$9)) -> 18.261799 | CU22: =EXP($CU$6+($CU$7-$CU$6)*((LN($CU$1-A22))-$CU$9)/($CU$10-$CU$9)) -> 17.2183 | CV22: =EXP($CV$6+($CV$7-$CV$6)*((LN($CV$1-A22))-$CV$9)/($CV$10-$CV$9)) -> 16.347596 | CW22: =EXP($CW$6+($CW$7-$CW$6)*((LN($CW$1-A22))-$CW$9)/($CW$10-$CW$9)) -> 15.606183 | CX22: =EXP($CX$6+($CX$7-$CX$6)*((LN($CX$1-A22))-$CX$9)/($CX$10-$CX$9)) -> 8.5573904 | CY22: =EXP($CY$6+($CY$7-$CY$6)*((LN($CY$1-A22))-$CY$9)/($CY$10-$CY$9)) -> 6.0205657 | CZ22: =EXP($CZ$6+($CZ$7-$CZ$6)*((LN($CZ$1-A22))-$CZ$9)/($CZ$10-$CZ$9)) -> 4.0824476 | DA22: =EXP($DA$6+($DA$7-$DA$6)*((LN($DA$1-A22))-$DA$9)/($DA$10-$DA$9)) -> 3.0200395 | DB22: =EXP($DB$6+($DB$7-$DB$6)*((LN($DB$1-A22))-$DB$9)/($DB$10-$DB$9)) -> 2.360788 | DC22: =EXP($DC$6+($DC$7-$DC$6)*((LN($DC$1-A22))-$DC$9)/($DC$10-$DC$9)) -> 1.917033 | DD22: =EXP($DD$6+($DD$7-$DD$6)*((LN($DD$1-A22))-$DD$9)/($DD$10-$DD$9)) -> 1.6006607 | DE22: =EXP($DE$6+($DE$7-$DE$6)*((LN($DE$1-A22))-$DE$9)/($DE$10-$DE$9)) -> 1.3652369 | DF22: =EXP($DF$6+($DF$7-$DF$6)*((LN($DF$1-A22))-$DF$9)/($DF$10-$DF$9)) -> 1.1841439
A23: 10 | CC23: 10 | CD23: =EXP($CD$6+($CD$7-$CD$6)*((LN($CD$1-A23))-$CD$9)/($CD$10-$CD$9)) -> 479.63495 | CE23: =EXP($CE$6+($CE$7-$CE$6)*((LN($CE$1-A23))-$CE$9)/($CE$10-$CE$9)) -> 437.98379 | CF23: =EXP($CF$6+($CF$7-$CF$6)*((LN($CF$1-A23))-$CF$9)/($CF$10-$CF$9)) -> 245.59189 | CG23: =EXP($CG$6+($CG$7-$CG$6)*((LN($CG$1-A23))-$CG$9)/($CG$10-$CG$9)) -> 176.98786 | CH23: =EXP($CH$6+($CH$7-$CH$6)*((LN($CH$1-A23))-$CH$9)/($CH$10-$CH$9)) -> 141.73143 | CI23: =EXP($CI$6+($CI$7-$CI$6)*((LN($CI$1-A23))-$CI$9)/($CI$10-$CI$9)) -> 119.52363 | CJ23: =EXP($CJ$6+($CJ$7-$CJ$6)*((LN($CJ$1-A23))-$CJ$9)/($CJ$10-$CJ$9)) -> 104.04838 | CK23: =EXP($CK$6+($CK$7-$CK$6)*((LN($CK$1-A23))-$CK$9)/($CK$10-$CK$9)) -> 92.569547 | CL23: =EXP($CL$6+($CL$7-$CL$6)*((LN($CL$1-A23))-$CL$9)/($CL$10-$CL$9)) -> 83.672737 | CM23: =EXP($CM$6+($CM$7-$CM$6)*((LN($CM$1-A23))-$CM$9)/($CM$10-$CM$9)) -> 76.548614 | CN23: =EXP($CN$6+($CN$7-$CN$6)*((LN($CN$1-A23))-$CN$9)/($CN$10-$CN$9)) -> 70.698513 | CO23: =EXP($CO$6+($CO$7-$CO$6)*((LN($CO$1-A23))-$CO$9)/($CO$10-$CO$9)) -> 38.129166 | CP23: =EXP($CP$6+($CP$7-$CP$6)*((LN($CP$1-A23))-$CP$9)/($CP$10-$CP$9)) -> 26.5 | CQ23: =EXP($CQ$6+($CQ$7-$CQ$6)*((LN($CQ$1-A23))-$CQ$9)/($CQ$10-$CQ$9)) -> 23.374278 | CR23: =EXP($CR$6+($CR$7-$CR$6)*((LN($CR$1-A23))-$CR$9)/($CR$10-$CR$9)) -> 21.183216 | CS23: =EXP($CS$6+($CS$7-$CS$6)*((LN($CS$1-A23))-$CS$9)/($CS$10-$CS$9)) -> 19.546997 | CT23: =EXP($CT$6+($CT$7-$CT$6)*((LN($CT$1-A23))-$CT$9)/($CT$10-$CT$9)) -> 18.262948 | CU23: =EXP($CU$6+($CU$7-$CU$6)*((LN($CU$1-A23))-$CU$9)/($CU$10-$CU$9)) -> 17.219249 | CV23: =EXP($CV$6+($CV$7-$CV$6)*((LN($CV$1-A23))-$CV$9)/($CV$10-$CV$9)) -> 16.348397 | CW23: =EXP($CW$6+($CW$7-$CW$6)*((LN($CW$1-A23))-$CW$9)/($CW$10-$CW$9)) -> 15.606871 | CX23: =EXP($CX$6+($CX$7-$CX$6)*((LN($CX$1-A23))-$CX$9)/($CX$10-$CX$9)) -> 8.5577614 | CY23: =EXP($CY$6+($CY$7-$CY$6)*((LN($CY$1-A23))-$CY$9)/($CY$10-$CY$9)) -> 6.0207398 | CZ23: =EXP($CZ$6+($CZ$7-$CZ$6)*((LN($CZ$1-A23))-$CZ$9)/($CZ$10-$CZ$9)) -> 4.0825854 | DA23: =EXP($DA$6+($DA$7-$DA$6)*((LN($DA$1-A23))-$DA$9)/($DA$10-$DA$9)) -> 3.0201211 | DB23: =EXP($DB$6+($DB$7-$DB$6)*((LN($DB$1-A23))-$DB$9)/($DB$10-$DB$9)) -> 2.3608411 | DC23: =EXP($DC$6+($DC$7-$DC$6)*((LN($DC$1-A23))-$DC$9)/($DC$10-$DC$9)) -> 1.91707 | DD23: =EXP($DD$6+($DD$7-$DD$6)*((LN($DD$1-A23))-$DD$9)/($DD$10-$DD$9)) -> 1.6006877 | DE23: =EXP($DE$6+($DE$7-$DE$6)*((LN($DE$1-A23))-$DE$9)/($DE$10-$DE$9)) -> 1.3652574 | DF23: =EXP($DF$6+($DF$7-$DF$6)*((LN($DF$1-A23))-$DF$9)/($DF$10-$DF$9)) -> 1.1841599
A24: 11 | CC24: 11 | CD24: =EXP($CD$6+($CD$7-$CD$6)*((LN($CD$1-A24))-$CD$9)/($CD$10-$CD$9)) -> 484.31088 | CE24: =EXP($CE$6+($CE$7-$CE$6)*((LN($CE$1-A24))-$CE$9)/($CE$10-$CE$9)) -> 441.77452 | CF24: =EXP($CF$6+($CF$7-$CF$6)*((LN($CF$1-A24))-$CF$9)/($CF$10-$CF$9)) -> 246.59797 | CG24: =EXP($CG$6+($CG$7-$CG$6)*((LN($CG$1-A24))-$CG$9)/($CG$10-$CG$9)) -> 177.46211 | CH24: =EXP($CH$6+($CH$7-$CH$6)*((LN($CH$1-A24))-$CH$9)/($CH$10-$CH$9)) -> 142.00337 | CI24: =EXP($CI$6+($CI$7-$CI$6)*((LN($CI$1-A24))-$CI$9)/($CI$10-$CI$9)) -> 119.70607 | CJ24: =EXP($CJ$6+($CJ$7-$CJ$6)*((LN($CJ$1-A24))-$CJ$9)/($CJ$10-$CJ$9)) -> 104.18025 | CK24: =EXP($CK$6+($CK$7-$CK$6)*((LN($CK$1-A24))-$CK$9)/($CK$10-$CK$9)) -> 92.669838 | CL24: =EXP($CL$6+($CL$7-$CL$6)*((LN($CL$1-A24))-$CL$9)/($CL$10-$CL$9)) -> 83.751901 | CM24: =EXP($CM$6+($CM$7-$CM$6)*((LN($CM$1-A24))-$CM$9)/($CM$10-$CM$9)) -> 76.612893 | CN24: =EXP($CN$6+($CN$7-$CN$6)*((LN($CN$1-A24))-$CN$9)/($CN$10-$CN$9)) -> 70.751877 | CO24: =EXP($CO$6+($CO$7-$CO$6)*((LN($CO$1-A24))-$CO$9)/($CO$10-$CO$9)) -> 38.146157 | CP24: =EXP($CP$6+($CP$7-$CP$6)*((LN($CP$1-A24))-$CP$9)/($CP$10-$CP$9)) -> 26.5 | CQ24: =EXP($CQ$6+($CQ$7-$CQ$6)*((LN($CQ$1-A24))-$CQ$9)/($CQ$10-$CQ$9)) -> 23.376857 | CR24: =EXP($CR$6+($CR$7-$CR$6)*((LN($CR$1-A24))-$CR$9)/($CR$10-$CR$9)) -> 21.185085 | CS24: =EXP($CS$6+($CS$7-$CS$6)*((LN($CS$1-A24))-$CS$9)/($CS$10-$CS$9)) -> 19.548434 | CT24: =EXP($CT$6+($CT$7-$CT$6)*((LN($CT$1-A24))-$CT$9)/($CT$10-$CT$9)) -> 18.264098 | CU24: =EXP($CU$6+($CU$7-$CU$6)*((LN($CU$1-A24))-$CU$9)/($CU$10-$CU$9)) -> 17.220197 | CV24: =EXP($CV$6+($CV$7-$CV$6)*((LN($CV$1-A24))-$CV$9)/($CV$10-$CV$9)) -> 16.349197 | CW24: =EXP($CW$6+($CW$7-$CW$6)*((LN($CW$1-A24))-$CW$9)/($CW$10-$CW$9)) -> 15.607558 | CX24: =EXP($CX$6+($CX$7-$CX$6)*((LN($CX$1-A24))-$CX$9)/($CX$10-$CX$9)) -> 8.5581326 | CY24: =EXP($CY$6+($CY$7-$CY$6)*((LN($CY$1-A24))-$CY$9)/($CY$10-$CY$9)) -> 6.0209138 | CZ24: =EXP($CZ$6+($CZ$7-$CZ$6)*((LN($CZ$1-A24))-$CZ$9)/($CZ$10-$CZ$9)) -> 4.0827233 | DA24: =EXP($DA$6+($DA$7-$DA$6)*((LN($DA$1-A24))-$DA$9)/($DA$10-$DA$9)) -> 3.0202027 | DB24: =EXP($DB$6+($DB$7-$DB$6)*((LN($DB$1-A24))-$DB$9)/($DB$10-$DB$9)) -> 2.3608943 | DC24: =EXP($DC$6+($DC$7-$DC$6)*((LN($DC$1-A24))-$DC$9)/($DC$10-$DC$9)) -> 1.917107 | DD24: =EXP($DD$6+($DD$7-$DD$6)*((LN($DD$1-A24))-$DD$9)/($DD$10-$DD$9)) -> 1.6007147 | DE24: =EXP($DE$6+($DE$7-$DE$6)*((LN($DE$1-A24))-$DE$9)/($DE$10-$DE$9)) -> 1.3652779 | DF24: =EXP($DF$6+($DF$7-$DF$6)*((LN($DF$1-A24))-$DF$9)/($DF$10-$DF$9)) -> 1.1841759
A25: 12 | CC25: 12 | CD25: =EXP($CD$6+($CD$7-$CD$6)*((LN($CD$1-A25))-$CD$9)/($CD$10-$CD$9)) -> 489.09285 | CE25: =EXP($CE$6+($CE$7-$CE$6)*((LN($CE$1-A25))-$CE$9)/($CE$10-$CE$9)) -> 445.64145 | CF25: =EXP($CF$6+($CF$7-$CF$6)*((LN($CF$1-A25))-$CF$9)/($CF$10-$CF$9)) -> 247.61353 | CG25: =EXP($CG$6+($CG$7-$CG$6)*((LN($CG$1-A25))-$CG$9)/($CG$10-$CG$9)) -> 177.93929 | CH25: =EXP($CH$6+($CH$7-$CH$6)*((LN($CH$1-A25))-$CH$9)/($CH$10-$CH$9)) -> 142.27653 | CI25: =EXP($CI$6+($CI$7-$CI$6)*((LN($CI$1-A25))-$CI$9)/($CI$10-$CI$9)) -> 119.88916 | CJ25: =EXP($CJ$6+($CJ$7-$CJ$6)*((LN($CJ$1-A25))-$CJ$9)/($CJ$10-$CJ$9)) -> 104.3125 | CK25: =EXP($CK$6+($CK$7-$CK$6)*((LN($CK$1-A25))-$CK$9)/($CK$10-$CK$9)) -> 92.770383 | CL25: =EXP($CL$6+($CL$7-$CL$6)*((LN($CL$1-A25))-$CL$9)/($CL$10-$CL$9)) -> 83.831241 | CM25: =EXP($CM$6+($CM$7-$CM$6)*((LN($CM$1-A25))-$CM$9)/($CM$10-$CM$9)) -> 76.677298 | CN25: =EXP($CN$6+($CN$7-$CN$6)*((LN($CN$1-A25))-$CN$9)/($CN$10-$CN$9)) -> 70.805336 | CO25: =EXP($CO$6+($CO$7-$CO$6)*((LN($CO$1-A25))-$CO$9)/($CO$10-$CO$9)) -> 38.163164 | CP25: =EXP($CP$6+($CP$7-$CP$6)*((LN($CP$1-A25))-$CP$9)/($CP$10-$CP$9)) -> 26.5 | CQ25: =EXP($CQ$6+($CQ$7-$CQ$6)*((LN($CQ$1-A25))-$CQ$9)/($CQ$10-$CQ$9)) -> 23.379437 | CR25: =EXP($CR$6+($CR$7-$CR$6)*((LN($CR$1-A25))-$CR$9)/($CR$10-$CR$9)) -> 21.186954 | CS25: =EXP($CS$6+($CS$7-$CS$6)*((LN($CS$1-A25))-$CS$9)/($CS$10-$CS$9)) -> 19.54987 | CT25: =EXP($CT$6+($CT$7-$CT$6)*((LN($CT$1-A25))-$CT$9)/($CT$10-$CT$9)) -> 18.265248 | CU25: =EXP($CU$6+($CU$7-$CU$6)*((LN($CU$1-A25))-$CU$9)/($CU$10-$CU$9)) -> 17.221146 | CV25: =EXP($CV$6+($CV$7-$CV$6)*((LN($CV$1-A25))-$CV$9)/($CV$10-$CV$9)) -> 16.349998 | CW25: =EXP($CW$6+($CW$7-$CW$6)*((LN($CW$1-A25))-$CW$9)/($CW$10-$CW$9)) -> 15.608246 | CX25: =EXP($CX$6+($CX$7-$CX$6)*((LN($CX$1-A25))-$CX$9)/($CX$10-$CX$9)) -> 8.5585037 | CY25: =EXP($CY$6+($CY$7-$CY$6)*((LN($CY$1-A25))-$CY$9)/($CY$10-$CY$9)) -> 6.0210878 | CZ25: =EXP($CZ$6+($CZ$7-$CZ$6)*((LN($CZ$1-A25))-$CZ$9)/($CZ$10-$CZ$9)) -> 4.0828612 | DA25: =EXP($DA$6+($DA$7-$DA$6)*((LN($DA$1-A25))-$DA$9)/($DA$10-$DA$9)) -> 3.0202843 | DB25: =EXP($DB$6+($DB$7-$DB$6)*((LN($DB$1-A25))-$DB$9)/($DB$10-$DB$9)) -> 2.3609474 | DC25: =EXP($DC$6+($DC$7-$DC$6)*((LN($DC$1-A25))-$DC$9)/($DC$10-$DC$9)) -> 1.917144 | DD25: =EXP($DD$6+($DD$7-$DD$6)*((LN($DD$1-A25))-$DD$9)/($DD$10-$DD$9)) -> 1.6007418 | DE25: =EXP($DE$6+($DE$7-$DE$6)*((LN($DE$1-A25))-$DE$9)/($DE$10-$DE$9)) -> 1.3652984 | DF25: =EXP($DF$6+($DF$7-$DF$6)*((LN($DF$1-A25))-$DF$9)/($DF$10-$DF$9)) -> 1.1841919
... A73: 60 | CC73: 60 | CD73: =EXP($CD$6+($CD$7-$CD$6)*((LN($CD$1-A73))-$CD$9)/($CD$10-$CD$9)) -> 1022 | CE73: =EXP($CE$6+($CE$7-$CE$6)*((LN($CE$1-A73))-$CE$9)/($CE$10-$CE$9)) -> 818.63153 | CF73: =EXP($CF$6+($CF$7-$CF$6)*((LN($CF$1-A73))-$CF$9)/($CF$10-$CF$9)) -> 311.14293 | CG73: =EXP($CG$6+($CG$7-$CG$6)*((LN($CG$1-A73))-$CG$9)/($CG$10-$CG$9)) -> 204.93404 | CH73: =EXP($CH$6+($CH$7-$CH$6)*((LN($CH$1-A73))-$CH$9)/($CH$10-$CH$9)) -> 157.01942 | CI73: =EXP($CI$6+($CI$7-$CI$6)*((LN($CI$1-A73))-$CI$9)/($CI$10-$CI$9)) -> 129.52476 | CJ73: =EXP($CJ$6+($CJ$7-$CJ$6)*((LN($CJ$1-A73))-$CJ$9)/($CJ$10-$CJ$9)) -> 111.16002 | CK73: =EXP($CK$6+($CK$7-$CK$6)*((LN($CK$1-A73))-$CK$9)/($CK$10-$CK$9)) -> 97.917244 | CL73: =EXP($CL$6+($CL$7-$CL$6)*((LN($CL$1-A73))-$CL$9)/($CL$10-$CL$9)) -> 87.858585 | CM73: =EXP($CM$6+($CM$7-$CM$6)*((LN($CM$1-A73))-$CM$9)/($CM$10-$CM$9)) -> 79.925473 | CN73: =EXP($CN$6+($CN$7-$CN$6)*((LN($CN$1-A73))-$CN$9)/($CN$10-$CN$9)) -> 73.487666 | CO73: =EXP($CO$6+($CO$7-$CO$6)*((LN($CO$1-A73))-$CO$9)/($CO$10-$CO$9)) -> 38.998947 | CP73: =EXP($CP$6+($CP$7-$CP$6)*((LN($CP$1-A73))-$CP$9)/($CP$10-$CP$9)) -> 26.5 | CQ73: =EXP($CQ$6+($CQ$7-$CQ$6)*((LN($CQ$1-A73))-$CQ$9)/($CQ$10-$CQ$9)) -> 23.504365 | CR73: =EXP($CR$6+($CR$7-$CR$6)*((LN($CR$1-A73))-$CR$9)/($CR$10-$CR$9)) -> 21.277311 | CS73: =EXP($CS$6+($CS$7-$CS$6)*((LN($CS$1-A73))-$CS$9)/($CS$10-$CS$9)) -> 19.619241 | CT73: =EXP($CT$6+($CT$7-$CT$6)*((LN($CT$1-A73))-$CT$9)/($CT$10-$CT$9)) -> 18.32074 | CU73: =EXP($CU$6+($CU$7-$CU$6)*((LN($CU$1-A73))-$CU$9)/($CU$10-$CU$9)) -> 17.266887 | CV73: =EXP($CV$6+($CV$7-$CV$6)*((LN($CV$1-A73))-$CV$9)/($CV$10-$CV$9)) -> 16.388574 | CW73: =EXP($CW$6+($CW$7-$CW$6)*((LN($CW$1-A73))-$CW$9)/($CW$10-$CW$9)) -> 15.641373 | CX73: =EXP($CX$6+($CX$7-$CX$6)*((LN($CX$1-A73))-$CX$9)/($CX$10-$CX$9)) -> 8.5763602 | CY73: =EXP($CY$6+($CY$7-$CY$6)*((LN($CY$1-A73))-$CY$9)/($CY$10-$CY$9)) -> 6.0294549 | CZ73: =EXP($CZ$6+($CZ$7-$CZ$6)*((LN($CZ$1-A73))-$CZ$9)/($CZ$10-$CZ$9)) -> 4.0894895 | DA73: =EXP($DA$6+($DA$7-$DA$6)*((LN($DA$1-A73))-$DA$9)/($DA$10-$DA$9)) -> 3.0242056 | DB73: =EXP($DB$6+($DB$7-$DB$6)*((LN($DB$1-A73))-$DB$9)/($DB$10-$DB$9)) -> 2.3635012 | DC73: =EXP($DC$6+($DC$7-$DC$6)*((LN($DC$1-A73))-$DC$9)/($DC$10-$DC$9)) -> 1.9189212 | DD73: =EXP($DD$6+($DD$7-$DD$6)*((LN($DD$1-A73))-$DD$9)/($DD$10-$DD$9)) -> 1.60204 | DE73: =EXP($DE$6+($DE$7-$DE$6)*((LN($DE$1-A73))-$DE$9)/($DE$10-$DE$9)) -> 1.3662826 | DF73: =EXP($DF$6+($DF$7-$DF$6)*((LN($DF$1-A73))-$DF$9)/($DF$10-$DF$9)) -> 1.1849601
A74: 61 | CC74: 61 | CD74: =AD$2 -> 1035.8325 | CE74: =EXP($CE$6+($CE$7-$CE$6)*((LN($CE$1-A74))-$CE$9)/($CE$10-$CE$9)) -> 834.77409 | CF74: =EXP($CF$6+($CF$7-$CF$6)*((LN($CF$1-A74))-$CF$9)/($CF$10-$CF$9)) -> 312.87566 | CG74: =EXP($CG$6+($CG$7-$CG$6)*((LN($CG$1-A74))-$CG$9)/($CG$10-$CG$9)) -> 205.59801 | CH74: =EXP($CH$6+($CH$7-$CH$6)*((LN($CH$1-A74))-$CH$9)/($CH$10-$CH$9)) -> 157.36511 | CI74: =EXP($CI$6+($CI$7-$CI$6)*((LN($CI$1-A74))-$CI$9)/($CI$10-$CI$9)) -> 129.74498 | CJ74: =EXP($CJ$6+($CJ$7-$CJ$6)*((LN($CJ$1-A74))-$CJ$9)/($CJ$10-$CJ$9)) -> 111.31396 | CK74: =EXP($CK$6+($CK$7-$CK$6)*((LN($CK$1-A74))-$CK$9)/($CK$10-$CK$9)) -> 98.031628 | CL74: =EXP($CL$6+($CL$7-$CL$6)*((LN($CL$1-A74))-$CL$9)/($CL$10-$CL$9)) -> 87.947333 | CM74: =EXP($CM$6+($CM$7-$CM$6)*((LN($CM$1-A74))-$CM$9)/($CM$10-$CM$9)) -> 79.996586 | CN74: =EXP($CN$6+($CN$7-$CN$6)*((LN($CN$1-A74))-$CN$9)/($CN$10-$CN$9)) -> 73.546089 | CO74: =EXP($CO$6+($CO$7-$CO$6)*((LN($CO$1-A74))-$CO$9)/($CO$10-$CO$9)) -> 39.016774 | CP74: =EXP($CP$6+($CP$7-$CP$6)*((LN($CP$1-A74))-$CP$9)/($CP$10-$CP$9)) -> 26.5 | CQ74: =EXP($CQ$6+($CQ$7-$CQ$6)*((LN($CQ$1-A74))-$CQ$9)/($CQ$10-$CQ$9)) -> 23.506991 | CR74: =EXP($CR$6+($CR$7-$CR$6)*((LN($CR$1-A74))-$CR$9)/($CR$10-$CR$9)) -> 21.279207 | CS74: =EXP($CS$6+($CS$7-$CS$6)*((LN($CS$1-A74))-$CS$9)/($CS$10-$CS$9)) -> 19.620695 | CT74: =EXP($CT$6+($CT$7-$CT$6)*((LN($CT$1-A74))-$CT$9)/($CT$10-$CT$9)) -> 18.321902 | CU74: =EXP($CU$6+($CU$7-$CU$6)*((LN($CU$1-A74))-$CU$9)/($CU$10-$CU$9)) -> 17.267844 | CV74: =EXP($CV$6+($CV$7-$CV$6)*((LN($CV$1-A74))-$CV$9)/($CV$10-$CV$9)) -> 16.389381 | CW74: =EXP($CW$6+($CW$7-$CW$6)*((LN($CW$1-A74))-$CW$9)/($CW$10-$CW$9)) -> 15.642065 | CX74: =EXP($CX$6+($CX$7-$CX$6)*((LN($CX$1-A74))-$CX$9)/($CX$10-$CX$9)) -> 8.5767331 | CY74: =EXP($CY$6+($CY$7-$CY$6)*((LN($CY$1-A74))-$CY$9)/($CY$10-$CY$9)) -> 6.0296294 | CZ74: =EXP($CZ$6+($CZ$7-$CZ$6)*((LN($CZ$1-A74))-$CZ$9)/($CZ$10-$CZ$9)) -> 4.0896278 | DA74: =EXP($DA$6+($DA$7-$DA$6)*((LN($DA$1-A74))-$DA$9)/($DA$10-$DA$9)) -> 3.0242874 | DB74: =EXP($DB$6+($DB$7-$DB$6)*((LN($DB$1-A74))-$DB$9)/($DB$10-$DB$9)) -> 2.3635545 | DC74: =EXP($DC$6+($DC$7-$DC$6)*((LN($DC$1-A74))-$DC$9)/($DC$10-$DC$9)) -> 1.9189582 | DD74: =EXP($DD$6+($DD$7-$DD$6)*((LN($DD$1-A74))-$DD$9)/($DD$10-$DD$9)) -> 1.6020671 | DE74: =EXP($DE$6+($DE$7-$DE$6)*((LN($DE$1-A74))-$DE$9)/($DE$10-$DE$9)) -> 1.3663031 | DF74: =EXP($DF$6+($DF$7-$DF$6)*((LN($DF$1-A74))-$DF$9)/($DF$10-$DF$9)) -> 1.1849761
A75: 62 | CC75: 62 | CD75: =AC$2 -> 1050.3476 | CE75: =EXP($CE$6+($CE$7-$CE$6)*((LN($CE$1-A75))-$CE$9)/($CE$10-$CE$9)) -> 851.66686 | CF75: =EXP($CF$6+($CF$7-$CF$6)*((LN($CF$1-A75))-$CF$9)/($CF$10-$CF$9)) -> 314.63066 | CG75: =EXP($CG$6+($CG$7-$CG$6)*((LN($CG$1-A75))-$CG$9)/($CG$10-$CG$9)) -> 206.26693 | CH75: =EXP($CH$6+($CH$7-$CH$6)*((LN($CH$1-A75))-$CH$9)/($CH$10-$CH$9)) -> 157.71258 | CI75: =EXP($CI$6+($CI$7-$CI$6)*((LN($CI$1-A75))-$CI$9)/($CI$10-$CI$9)) -> 129.96607 | CJ75: =EXP($CJ$6+($CJ$7-$CJ$6)*((LN($CJ$1-A75))-$CJ$9)/($CJ$10-$CJ$9)) -> 111.4684 | CK75: =EXP($CK$6+($CK$7-$CK$6)*((LN($CK$1-A75))-$CK$9)/($CK$10-$CK$9)) -> 98.146325 | CL75: =EXP($CL$6+($CL$7-$CL$6)*((LN($CL$1-A75))-$CL$9)/($CL$10-$CL$9)) -> 88.036291 | CM75: =EXP($CM$6+($CM$7-$CM$6)*((LN($CM$1-A75))-$CM$9)/($CM$10-$CM$9)) -> 80.067848 | CN75: =EXP($CN$6+($CN$7-$CN$6)*((LN($CN$1-A75))-$CN$9)/($CN$10-$CN$9)) -> 73.60462 | CO75: =EXP($CO$6+($CO$7-$CO$6)*((LN($CO$1-A75))-$CO$9)/($CO$10-$CO$9)) -> 39.034618 | CP75: =EXP($CP$6+($CP$7-$CP$6)*((LN($CP$1-A75))-$CP$9)/($CP$10-$CP$9)) -> 26.5 | CQ75: =EXP($CQ$6+($CQ$7-$CQ$6)*((LN($CQ$1-A75))-$CQ$9)/($CQ$10-$CQ$9)) -> 23.509618 | CR75: =EXP($CR$6+($CR$7-$CR$6)*((LN($CR$1-A75))-$CR$9)/($CR$10-$CR$9)) -> 21.281103 | CS75: =EXP($CS$6+($CS$7-$CS$6)*((LN($CS$1-A75))-$CS$9)/($CS$10-$CS$9)) -> 19.622149 | CT75: =EXP($CT$6+($CT$7-$CT$6)*((LN($CT$1-A75))-$CT$9)/($CT$10-$CT$9)) -> 18.323064 | CU75: =EXP($CU$6+($CU$7-$CU$6)*((LN($CU$1-A75))-$CU$9)/($CU$10-$CU$9)) -> 17.268801 | CV75: =EXP($CV$6+($CV$7-$CV$6)*((LN($CV$1-A75))-$CV$9)/($CV$10-$CV$9)) -> 16.390188 | CW75: =EXP($CW$6+($CW$7-$CW$6)*((LN($CW$1-A75))-$CW$9)/($CW$10-$CW$9)) -> 15.642758 | CX75: =EXP($CX$6+($CX$7-$CX$6)*((LN($CX$1-A75))-$CX$9)/($CX$10-$CX$9)) -> 8.577106 | CY75: =EXP($CY$6+($CY$7-$CY$6)*((LN($CY$1-A75))-$CY$9)/($CY$10-$CY$9)) -> 6.029804 | CZ75: =EXP($CZ$6+($CZ$7-$CZ$6)*((LN($CZ$1-A75))-$CZ$9)/($CZ$10-$CZ$9)) -> 4.0897661 | DA75: =EXP($DA$6+($DA$7-$DA$6)*((LN($DA$1-A75))-$DA$9)/($DA$10-$DA$9)) -> 3.0243692 | DB75: =EXP($DB$6+($DB$7-$DB$6)*((LN($DB$1-A75))-$DB$9)/($DB$10-$DB$9)) -> 2.3636077 | DC75: =EXP($DC$6+($DC$7-$DC$6)*((LN($DC$1-A75))-$DC$9)/($DC$10-$DC$9)) -> 1.9189953 | DD75: =EXP($DD$6+($DD$7-$DD$6)*((LN($DD$1-A75))-$DD$9)/($DD$10-$DD$9)) -> 1.6020941 | DE75: =EXP($DE$6+($DE$7-$DE$6)*((LN($DE$1-A75))-$DE$9)/($DE$10-$DE$9)) -> 1.3663236 | DF75: =EXP($DF$6+($DF$7-$DF$6)*((LN($DF$1-A75))-$DF$9)/($DF$10-$DF$9)) -> 1.1849921
A76: 63 | CC76: 63 | CD76: =AB$2 -> 1065.6053 | CE76: =EXP($CE$6+($CE$7-$CE$6)*((LN($CE$1-A76))-$CE$9)/($CE$10-$CE$9)) -> 869.36587 | CF76: =EXP($CF$6+($CF$7-$CF$6)*((LN($CF$1-A76))-$CF$9)/($CF$10-$CF$9)) -> 316.40837 | CG76: =EXP($CG$6+($CG$7-$CG$6)*((LN($CG$1-A76))-$CG$9)/($CG$10-$CG$9)) -> 206.94086 | CH76: =EXP($CH$6+($CH$7-$CH$6)*((LN($CH$1-A76))-$CH$9)/($CH$10-$CH$9)) -> 158.06185 | CI76: =EXP($CI$6+($CI$7-$CI$6)*((LN($CI$1-A76))-$CI$9)/($CI$10-$CI$9)) -> 130.18806 | CJ76: =EXP($CJ$6+($CJ$7-$CJ$6)*((LN($CJ$1-A76))-$CJ$9)/($CJ$10-$CJ$9)) -> 111.62334 | CK76: =EXP($CK$6+($CK$7-$CK$6)*((LN($CK$1-A76))-$CK$9)/($CK$10-$CK$9)) -> 98.261337 | CL76: =EXP($CL$6+($CL$7-$CL$6)*((LN($CL$1-A76))-$CL$9)/($CL$10-$CL$9)) -> 88.125459 | CM76: =EXP($CM$6+($CM$7-$CM$6)*((LN($CM$1-A76))-$CM$9)/($CM$10-$CM$9)) -> 80.139258 | CN76: =EXP($CN$6+($CN$7-$CN$6)*((LN($CN$1-A76))-$CN$9)/($CN$10-$CN$9)) -> 73.663261 | CO76: =EXP($CO$6+($CO$7-$CO$6)*((LN($CO$1-A76))-$CO$9)/($CO$10-$CO$9)) -> 39.05248 | CP76: =EXP($CP$6+($CP$7-$CP$6)*((LN($CP$1-A76))-$CP$9)/($CP$10-$CP$9)) -> 26.5 | CQ76: =EXP($CQ$6+($CQ$7-$CQ$6)*((LN($CQ$1-A76))-$CQ$9)/($CQ$10-$CQ$9)) -> 23.512246 | CR76: =EXP($CR$6+($CR$7-$CR$6)*((LN($CR$1-A76))-$CR$9)/($CR$10-$CR$9)) -> 21.283 | CS76: =EXP($CS$6+($CS$7-$CS$6)*((LN($CS$1-A76))-$CS$9)/($CS$10-$CS$9)) -> 19.623603 | CT76: =EXP($CT$6+($CT$7-$CT$6)*((LN($CT$1-A76))-$CT$9)/($CT$10-$CT$9)) -> 18.324226 | CU76: =EXP($CU$6+($CU$7-$CU$6)*((LN($CU$1-A76))-$CU$9)/($CU$10-$CU$9)) -> 17.269759 | CV76: =EXP($CV$6+($CV$7-$CV$6)*((LN($CV$1-A76))-$CV$9)/($CV$10-$CV$9)) -> 16.390995 | CW76: =EXP($CW$6+($CW$7-$CW$6)*((LN($CW$1-A76))-$CW$9)/($CW$10-$CW$9)) -> 15.643451 | CX76: =EXP($CX$6+($CX$7-$CX$6)*((LN($CX$1-A76))-$CX$9)/($CX$10-$CX$9)) -> 8.5774789 | CY76: =EXP($CY$6+($CY$7-$CY$6)*((LN($CY$1-A76))-$CY$9)/($CY$10-$CY$9)) -> 6.0299786 | CZ76: =EXP($CZ$6+($CZ$7-$CZ$6)*((LN($CZ$1-A76))-$CZ$9)/($CZ$10-$CZ$9)) -> 4.0899044 | DA76: =EXP($DA$6+($DA$7-$DA$6)*((LN($DA$1-A76))-$DA$9)/($DA$10-$DA$9)) -> 3.0244509 | DB76: =EXP($DB$6+($DB$7-$DB$6)*((LN($DB$1-A76))-$DB$9)/($DB$10-$DB$9)) -> 2.363661 | DC76: =EXP($DC$6+($DC$7-$DC$6)*((LN($DC$1-A76))-$DC$9)/($DC$10-$DC$9)) -> 1.9190323 | DD76: =EXP($DD$6+($DD$7-$DD$6)*((LN($DD$1-A76))-$DD$9)/($DD$10-$DD$9)) -> 1.6021212 | DE76: =EXP($DE$6+($DE$7-$DE$6)*((LN($DE$1-A76))-$DE$9)/($DE$10-$DE$9)) -> 1.3663441 | DF76: =EXP($DF$6+($DF$7-$DF$6)*((LN($DF$1-A76))-$DF$9)/($DF$10-$DF$9)) -> 1.1850081
A77: 64 | CC77: 64 | CD77: =AA$2 -> 1081.6734 | CE77: =EXP($CE$6+($CE$7-$CE$6)*((LN($CE$1-A77))-$CE$9)/($CE$10-$CE$9)) -> 887.93298 | CF77: =EXP($CF$6+($CF$7-$CF$6)*((LN($CF$1-A77))-$CF$9)/($CF$10-$CF$9)) -> 318.20927 | CG77: =EXP($CG$6+($CG$7-$CG$6)*((LN($CG$1-A77))-$CG$9)/($CG$10-$CG$9)) -> 207.61985 | CH77: =EXP($CH$6+($CH$7-$CH$6)*((LN($CH$1-A77))-$CH$9)/($CH$10-$CH$9)) -> 158.41294 | CI77: =EXP($CI$6+($CI$7-$CI$6)*((LN($CI$1-A77))-$CI$9)/($CI$10-$CI$9)) -> 130.41093 | CJ77: =EXP($CJ$6+($CJ$7-$CJ$6)*((LN($CJ$1-A77))-$CJ$9)/($CJ$10-$CJ$9)) -> 111.77878 | CK77: =EXP($CK$6+($CK$7-$CK$6)*((LN($CK$1-A77))-$CK$9)/($CK$10-$CK$9)) -> 98.376664 | CL77: =EXP($CL$6+($CL$7-$CL$6)*((LN($CL$1-A77))-$CL$9)/($CL$10-$CL$9)) -> 88.21484 | CM77: =EXP($CM$6+($CM$7-$CM$6)*((LN($CM$1-A77))-$CM$9)/($CM$10-$CM$9)) -> 80.210817 | CN77: =EXP($CN$6+($CN$7-$CN$6)*((LN($CN$1-A77))-$CN$9)/($CN$10-$CN$9)) -> 73.722011 | CO77: =EXP($CO$6+($CO$7-$CO$6)*((LN($CO$1-A77))-$CO$9)/($CO$10-$CO$9)) -> 39.070359 | CP77: =EXP($CP$6+($CP$7-$CP$6)*((LN($CP$1-A77))-$CP$9)/($CP$10-$CP$9)) -> 26.5 | CQ77: =EXP($CQ$6+($CQ$7-$CQ$6)*((LN($CQ$1-A77))-$CQ$9)/($CQ$10-$CQ$9)) -> 23.514875 | CR77: =EXP($CR$6+($CR$7-$CR$6)*((LN($CR$1-A77))-$CR$9)/($CR$10-$CR$9)) -> 21.284898 | CS77: =EXP($CS$6+($CS$7-$CS$6)*((LN($CS$1-A77))-$CS$9)/($CS$10-$CS$9)) -> 19.625058 | CT77: =EXP($CT$6+($CT$7-$CT$6)*((LN($CT$1-A77))-$CT$9)/($CT$10-$CT$9)) -> 18.325389 | CU77: =EXP($CU$6+($CU$7-$CU$6)*((LN($CU$1-A77))-$CU$9)/($CU$10-$CU$9)) -> 17.270717 | CV77: =EXP($CV$6+($CV$7-$CV$6)*((LN($CV$1-A77))-$CV$9)/($CV$10-$CV$9)) -> 16.391802 | CW77: =EXP($CW$6+($CW$7-$CW$6)*((LN($CW$1-A77))-$CW$9)/($CW$10-$CW$9)) -> 15.644144 | CX77: =EXP($CX$6+($CX$7-$CX$6)*((LN($CX$1-A77))-$CX$9)/($CX$10-$CX$9)) -> 8.5778519 | CY77: =EXP($CY$6+($CY$7-$CY$6)*((LN($CY$1-A77))-$CY$9)/($CY$10-$CY$9)) -> 6.0301532 | CZ77: =EXP($CZ$6+($CZ$7-$CZ$6)*((LN($CZ$1-A77))-$CZ$9)/($CZ$10-$CZ$9)) -> 4.0900427 | DA77: =EXP($DA$6+($DA$7-$DA$6)*((LN($DA$1-A77))-$DA$9)/($DA$10-$DA$9)) -> 3.0245327 | DB77: =EXP($DB$6+($DB$7-$DB$6)*((LN($DB$1-A77))-$DB$9)/($DB$10-$DB$9)) -> 2.3637142 | DC77: =EXP($DC$6+($DC$7-$DC$6)*((LN($DC$1-A77))-$DC$9)/($DC$10-$DC$9)) -> 1.9190694 | DD77: =EXP($DD$6+($DD$7-$DD$6)*((LN($DD$1-A77))-$DD$9)/($DD$10-$DD$9)) -> 1.6021483 | DE77: =EXP($DE$6+($DE$7-$DE$6)*((LN($DE$1-A77))-$DE$9)/($DE$10-$DE$9)) -> 1.3663646 | DF77: =EXP($DF$6+($DF$7-$DF$6)*((LN($DF$1-A77))-$DF$9)/($DF$10-$DF$9)) -> 1.1850242
