Workbook

Sheet Table 32
A1: Table 32
A2: year | B2: 1 | C2: 3 | D2: 10 | E2: 30 | F2: 100 | G2: 300 | H2: 1000 | I2: 3000 | J2: 10000 | K2: 30000 | L2: 100000 | M2: 300000 | N2: 1000000
A3: UO2 | B3: 11410 | C3: 4243 | D3: 1580 | E3: 1022 | F3: 403.8 | G3: 172.4 | H3: 70.17 | I3: 26.5 | J3: 15.6 | K3: 6.019 | L3: 1.184 | M3: 0.6605 | N3: 0.5018
A4: ThO2 | B4: 8881 | C4: 3331 | D4: 1595 | E4: 983.9 | F4: 257.4 | G4: 25.46 | H4: 12.25 | I4: 19.33 | J4: 35.49 | K4: 47.74 | L4: 39.2 | M4: 18.34 | N4: 1.289
A5: MOX | B5: 24240 | C5: 8616 | D5: 4823 | E5: 3413 | F5: 1781 | G5: 919 | H5: 335.9 | I5: 107.9 | J5: 61.18 | K5: 22.97 | L5: 5.609 | M5: 3.608 | N5: 1.896
A8: Currently the above table is valid for PWR and BWR reactor types, for other reactor types these values can be appropriately changed by the user.

Sheet User input
A1: NFCSS Results for Reactor Type:
C2: UO2 fuel | D2: ThO2 fuel | E2: MOX fuel | F2: UO2 fuel | G2: ThO2 fuel | H2: MOX fuel
A3: # | B3: Time [Year] | C3: SFS (tHM) | D3: SFS (tHM) | E3: SFS (tHM) | F3: GWd/t | G3: GWd/t | H3: GWd/t
A4: 1
A5: 2
A6: 3
A7: 4
A8: 5
A9: 6
A10: 7
A11: 8
A12: 9
A13: 10
A14: 11
A15: 12
... A303: 300

Sheet cal_UO2
A1: Time [Year] | B1: 1 | C1: 2 | D1: 3 | E1: 4 | F1: 5 | G1: 6 | H1: 7 | I1: 8 | J1: 9 | K1: 10 | L1: 11 | M1: 12 | N1: 13 | O1: 14 | P1: 15 | Q1: 16 | R1: 17 | S1: 18 | T1: 19 | U1: 20 | V1: 21 | W1: 22 | X1: 23 | Y1: 24 | Z1: 25 | AA1: 26 | AB1: 27 | AC1: 28 | AD1: 29 | AE1: 30 | AF1: 31 | AG1: 32 | AH1: 33 | AI1: 34 | AJ1: 35 | AK1: 36 | AL1: 37 | AM1: 38 | AN1: 39 | AO1: 40 | AP1: 41 | AQ1: 42 | AR1: 43 | AS1: 44 | AT1: 45 | AU1: 46 | AV1: 47 | AW1: 48 | AX1: 49 | AY1: 50 | AZ1: 51 | BA1: 52 | BB1: 53 | BC1: 54 | BD1: 55 | BE1: 56 | BF1: 57 | BG1: 58 | BH1: 59 | BI1: 60 | BJ1: 61 | BK1: 62 | BL1: 63 | BM1: 64 | BN1: 65 | BO1: 66 | BP1: 67 | BQ1: 68 | BR1: 69 | BS1: 70 | BT1: 71 | BU1: 72 | BV1: 73 | BW1: 74 | BX1: 75 | BY1: 76 | BZ1: 77 | CA1: 78 | CB1: 79 | CC1: 80 | CD1: 90 | CE1: 100 | CF1: 200 | CG1: 300 | CH1: 400 | CI1: 500 | CJ1: 600 | CK1: 700 | CL1: 800 | CM1: 900 | CN1: 1000 | CO1: 2000 | CP1: 3000 | CQ1: 4000 | CR1: 5000 | CS1: 6000 | CT1: 7000 | CU1: 8000 | CV1: 9000 | CW1: 10000 | CX1: 20000 | CY1: 30000 | CZ1: 40000 | DA1: 50000 | DB1: 60000 | DC1: 70000 | DD1: 80000 | DE1: 90000 | DF1: 100000 | DG1: 110000 | DH1: 120000 | DI1: 130000 | DJ1: 140000 | DK1: 150000 | DL1: 160000 | DM1: 170000 | DN1: 180000 | DO1: 190000 | DP1: 200000 | DQ1: 210000 | DR1: 220000 | DS1: 230000 | DT1: 240000 | DU1: 250000 | DV1: 260000 | DW1: 270000 | DX1: 280000 | DY1: 290000 | DZ1: 300000 | EA1: 310000 | EB1: 320000 | EC1: 330000 | ED1: 340000 | EE1: 350000 | EF1: 360000 | EG1: 370000 | EH1: 380000 | EI1: 390000 | EJ1: 400000 | EK1: 410000 | EL1: 420000 | EM1: 430000 | EN1: 440000 | EO1: 450000 | EP1: 460000 | EQ1: 470000 | ER1: 480000 | ES1: 490000 | ET1: 500000 | EU1: 510000 | EV1: 520000 | EW1: 530000 | EX1: 540000 | EY1: 550000 | EZ1: 560000 | FA1: 570000 | FB1: 580000 | FC1: 590000 | FD1: 600000 | FE1: 610000 | FF1: 620000 | FG1: 630000 | FH1: 640000 | FI1: 650000 | FJ1: 660000 | FK1: 670000 | FL1: 680000 | FM1: 690000 | FN1: 700000 | FO1: 710000 | FP1: 720000 | FQ1: 730000 | FR1: 740000 | FS1: 750000 | FT1: 760000 | FU1: 770000 | FV1: 780000 | FW1: 790000 | FX1: 800000 | FY1: 810000 | FZ1: 820000 | GA1: 830000 | GB1: 840000 | GC1: 850000 | GD1: 860000 | GE1: 870000 | GF1: 880000 | GG1: 890000 | GH1: 900000 | GI1: 910000 | GJ1: 920000 | GK1: 930000 | GL1: 940000 | GM1: 950000 | GN1: 960000 | GO1: 970000 | GP1: 980000 | GQ1: 990000 | GR1: 1000000
A2: UO2 | B2: ='Table 32'!B3 -> 11410 | C2: =C11 -> 6112.6603 | D2: ='Table 32'!C3 -> 4243 | E2: =E11 -> 3350.906 | F2: =F11 -> 2790.2859 | G2: =G11 -> 2402.5997 | H2: =H11 -> 2117.1535 | I2: =I11 -> 1897.4513 | J2: =J11 -> 1722.664 | K2: ='Table 32'!D3 -> 1580 | L2: =L11 -> 1521.3968 | M2: =M11 -> 1469.7963 | N2: =N11 -> 1423.8753 | O2: =O11 -> 1382.6392 | P2: =P11 -> 1345.3234 | Q2: =Q11 -> 1311.3291 | R2: =R11 -> 1280.1792 | S2: =S11 -> 1251.4882 | ... AD2: =AD11 -> 1035.8325 | AE2: ='Table 32'!E3 -> 1022 | AF2: =AF11 -> 996.47766 | AG2: =AG11 -> 972.37318 | AH2: =AH11 -> 949.56708 | AI2: =AI11 -> 927.95316 | AJ2: =AJ11 -> 907.43672 | AK2: =AK11 -> 887.93298 | AL2: =AL11 -> 869.36587 | AM2: =AM11 -> 851.66686 | ... CD2: =CD11 -> 437.98379 | CE2: ='Table 32'!F3 -> 403.8 | CF2: =CF11 -> 236.0241 | CG2: ='Table 32'!G3 -> 172.4 | CH2: =CH11 -> 139.07751 | CI2: =CI11 -> 117.73432 | CJ2: =CJ11 -> 102.75091 | CK2: =CK11 -> 91.580417 | CL2: =CL11 -> 82.890609 | CM2: =CM11 -> 75.912696 | CN2: ='Table 32'!H3 -> 70.17 | CO2: =CO11 -> 37.960135 | CP2: ='Table 32'!I3 -> 26.5 | CQ2: =CQ11 -> 23.348543 | CR2: =CR11 -> 21.16456 | CS2: =CS11 -> 19.532653 | CT2: =CT11 -> 18.251461 | CU2: =CU11 -> 17.209772 | CV2: =CV11 -> 16.3404 | CW2: ='Table 32'!J3 -> 15.6 | CX2: =CX11 -> 8.5540521 | CY2: ='Table 32'!K3 -> 6.019 | CZ2: =CZ11 -> 4.0812071 | DA2: =DA11 -> 3.0193054 | DB2: =DB11 -> 2.3603098 | DC2: =DC11 -> 1.9167001 | DD2: =DD11 -> 1.6004175 | DE2: =DE11 -> 1.3650526 | DF2: ='Table 32'!L3 -> 1.184 | DG2: =DG11 -> 1.1255405 | DH2: =DH11 -> 1.0746952 | DI2: =DI11 -> 1.0299528 | DJ2: =DJ11 -> 0.9901903 | DK2: =DK11 -> 0.95455331 | DL2: =DL11 -> 0.92237909 | DM2: =DM11 -> 0.89314454 | DN2: =DN11 -> 0.86643061 | ... DY2: =DY11 -> 0.6725039 | DZ2: ='Table 32'!M3 -> 0.6605 | EA2: =EA11 -> 0.65557529 | EB2: =EB11 -> 0.65084194 | EC2: =EC11 -> 0.64628687 | ED2: =ED11 -> 0.64189826 | EE2: =EE11 -> 0.63766539 | EF2: =EF11 -> 0.63357852 | EG2: =EG11 -> 0.62962876 | EH2: =EH11 -> 0.62580799 | ... GQ2: =GQ11 -> 0.5029524 | GR2: ='Table 32'!N3 -> 0.5018
A4: UO2 calculation value
A5: y | C5: =C6+(C7-C6)*(C8-C9)/(C10-C9) -> 8.7181174 | D5: =D6+(D7-D6)*(D8-D9)/(D10-D9) -> 8.3530258 | E5: =E6+(E7-E6)*(E8-E9)/(E10-E9) -> 8.116986 | F5: =F6+(F7-F6)*(F8-F9)/(F10-F9) -> 7.9338993 | G5: =G6+(G7-G6)*(G8-G9)/(G10-G9) -> 7.7843066 | H5: =H6+(H7-H6)*(H8-H9)/(H10-H9) -> 7.6578278 | I5: =I6+(I7-I6)*(I8-I9)/(I10-I9) -> 7.5482668 | J5: =J6+(J7-J6)*(J8-J9)/(J10-J9) -> 7.4516272 | L5: =L6+(L7-L6)*(L8-L9)/(L10-L9) -> 7.3273841 | M5: =M6+(M7-M6)*(M8-M9)/(M10-M9) -> 7.2928791 | N5: =N6+(N7-N6)*(N8-N9)/(N10-N9) -> 7.2611375 | O5: =O6+(O7-O6)*(O8-O9)/(O10-O9) -> 7.2317494 | P5: =P6+(P7-P6)*(P8-P9)/(P10-P9) -> 7.2043897 | Q5: =Q6+(Q7-Q6)*(Q8-Q9)/(Q10-Q9) -> 7.1787965 | R5: =R6+(R7-R6)*(R8-R9)/(R10-R9) -> 7.1547553 | S5: =S6+(S7-S6)*(S8-S9)/(S10-S9) -> 7.1320887 | ... GQ5: =GQ6+(GQ7-GQ6)*(GQ8-GQ9)/(GQ10-GQ9) -> -0.68725975
A6: yi | C6: =LN($B$2) -> 9.3422454 | D6: =LN($B$2) -> 9.3422454 | E6: =LN($D$2) -> 8.3530258 | F6: =LN($D$2) -> 8.3530258 | G6: =LN($D$2) -> 8.3530258 | H6: =LN($D$2) -> 8.3530258 | I6: =LN($D$2) -> 8.3530258 | J6: =LN($D$2) -> 8.3530258 | L6: =LN($K$2) -> 7.3651801 | M6: =LN($K$2) -> 7.3651801 | N6: =LN($K$2) -> 7.3651801 | O6: =LN($K$2) -> 7.3651801 | P6: =LN($K$2) -> 7.3651801 | Q6: =LN($K$2) -> 7.3651801 | R6: =LN($K$2) -> 7.3651801 | S6: =LN($K$2) -> 7.3651801 | ... AE6: =LN($K$2) -> 7.3651801 | AF6: =LN($AE$2) -> 6.9295168 | AG6: =LN($AE$2) -> 6.9295168 | AH6: =LN($AE$2) -> 6.9295168 | AI6: =LN($AE$2) -> 6.9295168 | AJ6: =LN($AE$2) -> 6.9295168 | AK6: =LN($AE$2) -> 6.9295168 | AL6: =LN($AE$2) -> 6.9295168 | AM6: =LN($AE$2) -> 6.9295168 | ... CE6: =LN($AE$2) -> 6.9295168 | CF6: =LN($CE$2) -> 6.0009197 | CG6: =LN($CE$2) -> 6.0009197 | CH6: =LN($CG$2) -> 5.1498174 | CI6: =LN($CG$2) -> 5.1498174 | CJ6: =LN($CG$2) -> 5.1498174 | CK6: =LN($CG$2) -> 5.1498174 | CL6: =LN($CG$2) -> 5.1498174 | CM6: =LN($CG$2) -> 5.1498174 | CN6: =LN($CG$2) -> 5.1498174 | CO6: =LN($CN$2) -> 4.2509209 | CP6: =LN($CP$2) -> 3.2771447 | CQ6: =LN($CP$2) -> 3.2771447 | CR6: =LN($CP$2) -> 3.2771447 | CS6: =LN($CP$2) -> 3.2771447 | CT6: =LN($CP$2) -> 3.2771447 | CU6: =LN($CP$2) -> 3.2771447 | CV6: =LN($CP$2) -> 3.2771447 | CW6: =LN($CP$2) -> 3.2771447 | CX6: =LN($CW$2) -> 2.7472709 | CY6: =LN($CW$2) -> 2.7472709 | CZ6: =LN($CY$2) -> 1.7949211 | DA6: =LN($CY$2) -> 1.7949211 | DB6: =LN($CY$2) -> 1.7949211 | DC6: =LN($CY$2) -> 1.7949211 | DD6: =LN($CY$2) -> 1.7949211 | DE6: =LN($CY$2) -> 1.7949211 | DF6: =LN($CY$2) -> 1.7949211 | DG6: =LN($DF$2) -> 0.16889854 | DH6: =LN($DF$2) -> 0.16889854 | DI6: =LN($DF$2) -> 0.16889854 | DJ6: =LN($DF$2) -> 0.16889854 | DK6: =LN($DF$2) -> 0.16889854 | DL6: =LN($DF$2) -> 0.16889854 | DM6: =LN($DF$2) -> 0.16889854 | DN6: =LN($DF$2) -> 0.16889854 | ... DZ6: =LN($DF$2) -> 0.16889854 | EA6: =LN($DZ$2) -> -0.41475816 | EB6: =LN($DZ$2) -> -0.41475816 | EC6: =LN($DZ$2) -> -0.41475816 | ED6: =LN($DZ$2) -> -0.41475816 | EE6: =LN($DZ$2) -> -0.41475816 | EF6: =LN($DZ$2) -> -0.41475816 | EG6: =LN($DZ$2) -> -0.41475816 | EH6: =LN($DZ$2) -> -0.41475816 | ... GQ6: =LN($DZ$2) -> -0.41475816
A7: yi+1 | C7: =LN($D$2) -> 8.3530258 | D7: =LN($D$2) -> 8.3530258 | E7: =LN($K$2) -> 7.3651801 | F7: =LN($K$2) -> 7.3651801 | G7: =LN($K$2) -> 7.3651801 | H7: =LN($K$2) -> 7.3651801 | I7: =LN($K$2) -> 7.3651801 | J7: =LN($K$2) -> 7.3651801 | L7: =LN($AE$2) -> 6.9295168 | M7: =LN($AE$2) -> 6.9295168 | N7: =LN($AE$2) -> 6.9295168 | O7: =LN($AE$2) -> 6.9295168 | P7: =LN($AE$2) -> 6.9295168 | Q7: =LN($AE$2) -> 6.9295168 | R7: =LN($AE$2) -> 6.9295168 | S7: =LN($AE$2) -> 6.9295168 | ... AE7: =LN($AE$2) -> 6.9295168 | AF7: =LN($CE$2) -> 6.0009197 | AG7: =LN($CE$2) -> 6.0009197 | AH7: =LN($CE$2) -> 6.0009197 | AI7: =LN($CE$2) -> 6.0009197 | AJ7: =LN($CE$2) -> 6.0009197 | AK7: =LN($CE$2) -> 6.0009197 | AL7: =LN($CE$2) -> 6.0009197 | AM7: =LN($CE$2) -> 6.0009197 | ... CE7: =LN($CE$2) -> 6.0009197 | CF7: =LN($CG$2) -> 5.1498174 | CG7: =LN($CG$2) -> 5.1498174 | CH7: =LN($CN$2) -> 4.2509209 | CI7: =LN($CN$2) -> 4.2509209 | CJ7: =LN($CN$2) -> 4.2509209 | CK7: =LN($CN$2) -> 4.2509209 | CL7: =LN($CN$2) -> 4.2509209 | CM7: =LN($CN$2) -> 4.2509209 | CN7: =LN($CN$2) -> 4.2509209 | CO7: =LN($CP$2) -> 3.2771447 | CP7: =LN($CP$2) -> 3.2771447 | CQ7: =LN($CW$2) -> 2.7472709 | CR7: =LN($CW$2) -> 2.7472709 | CS7: =LN($CW$2) -> 2.7472709 | CT7: =LN($CW$2) -> 2.7472709 | CU7: =LN($CW$2) -> 2.7472709 | CV7: =LN($CW$2) -> 2.7472709 | CW7: =LN($CW$2) -> 2.7472709 | CX7: =LN($CY$2) -> 1.7949211 | CY7: =LN($CY$2) -> 1.7949211 | CZ7: =LN($DF$2) -> 0.16889854 | DA7: =LN($DF$2) -> 0.16889854 | DB7: =LN($DF$2) -> 0.16889854 | DC7: =LN($DF$2) -> 0.16889854 | DD7: =LN($DF$2) -> 0.16889854 | DE7: =LN($DF$2) -> 0.16889854 | DF7: =LN($DF$2) -> 0.16889854 | DG7: =LN($DZ$2) -> -0.41475816 | DH7: =LN($DZ$2) -> -0.41475816 | DI7: =LN($DZ$2) -> -0.41475816 | DJ7: =LN($DZ$2) -> -0.41475816 | DK7: =LN($DZ$2) -> -0.41475816 | DL7: =LN($DZ$2) -> -0.41475816 | DM7: =LN($DZ$2) -> -0.41475816 | DN7: =LN($DZ$2) -> -0.41475816 | ... DZ7: =LN($DZ$2) -> -0.41475816 | EA7: =LN($GR$2) -> -0.68955365 | EB7: =LN($GR$2) -> -0.68955365 | EC7: =LN($GR$2) -> -0.68955365 | ED7: =LN($GR$2) -> -0.68955365 | EE7: =LN($GR$2) -> -0.68955365 | EF7: =LN($GR$2) -> -0.68955365 | EG7: =LN($GR$2) -> -0.68955365 | EH7: =LN($GR$2) -> -0.68955365 | ... GQ7: =LN($GR$2) -> -0.68955365
A8: x | C8: =LN(C1) -> 0.69314718 | D8: =LN(D1) -> 1.0986123 | E8: =LN(E1) -> 1.3862944 | F8: =LN(F1) -> 1.6094379 | G8: =LN(G1) -> 1.7917595 | H8: =LN(H1) -> 1.9459101 | I8: =LN(I1) -> 2.0794415 | J8: =LN(J1) -> 2.1972246 | L8: =LN(L1) -> 2.3978953 | M8: =LN(M1) -> 2.4849066 | N8: =LN(N1) -> 2.5649494 | O8: =LN(O1) -> 2.6390573 | P8: =LN(P1) -> 2.7080502 | Q8: =LN(Q1) -> 2.7725887 | R8: =LN(R1) -> 2.8332133 | S8: =LN(S1) -> 2.8903718 | ... GQ8: =LN(GQ1) -> 13.80546
A9: xi | C9: =LN($B$1) -> 0 | D9: =LN($B$1) -> 0 | E9: =LN($D$1) -> 1.0986123 | F9: =LN($D$1) -> 1.0986123 | G9: =LN($D$1) -> 1.0986123 | H9: =LN($D$1) -> 1.0986123 | I9: =LN($D$1) -> 1.0986123 | J9: =LN($D$1) -> 1.0986123 | L9: =LN($K$1) -> 2.3025851 | M9: =LN($K$1) -> 2.3025851 | N9: =LN($K$1) -> 2.3025851 | O9: =LN($K$1) -> 2.3025851 | P9: =LN($K$1) -> 2.3025851 | Q9: =LN($K$1) -> 2.3025851 | R9: =LN($K$1) -> 2.3025851 | S9: =LN($K$1) -> 2.3025851 | ... AE9: =LN($K$1) -> 2.3025851 | AF9: =LN($AE$1) -> 3.4011974 | AG9: =LN($AE$1) -> 3.4011974 | AH9: =LN($AE$1) -> 3.4011974 | AI9: =LN($AE$1) -> 3.4011974 | AJ9: =LN($AE$1) -> 3.4011974 | AK9: =LN($AE$1) -> 3.4011974 | AL9: =LN($AE$1) -> 3.4011974 | AM9: =LN($AE$1) -> 3.4011974 | ... CE9: =LN($AE$1) -> 3.4011974 | CF9: =LN($CE$1) -> 4.6051702 | CG9: =LN($CE$1) -> 4.6051702 | CH9: =LN($CG$1) -> 5.7037825 | CI9: =LN($CG$1) -> 5.7037825 | CJ9: =LN($CG$1) -> 5.7037825 | CK9: =LN($CG$1) -> 5.7037825 | CL9: =LN($CG$1) -> 5.7037825 | CM9: =LN($CG$1) -> 5.7037825 | CN9: =LN($CG$1) -> 5.7037825 | CO9: =LN($CN$1) -> 6.9077553 | CP9: =LN($CP$1) -> 8.0063676 | CQ9: =LN($CP$1) -> 8.0063676 | CR9: =LN($CP$1) -> 8.0063676 | CS9: =LN($CP$1) -> 8.0063676 | CT9: =LN($CP$1) -> 8.0063676 | CU9: =LN($CP$1) -> 8.0063676 | CV9: =LN($CP$1) -> 8.0063676 | CW9: =LN($CP$1) -> 8.0063676 | CX9: =LN($CW$1) -> 9.2103404 | CY9: =LN($CW$1) -> 9.2103404 | CZ9: =LN($CY$1) -> 10.308953 | DA9: =LN($CY$1) -> 10.308953 | DB9: =LN($CY$1) -> 10.308953 | DC9: =LN($CY$1) -> 10.308953 | DD9: =LN($CY$1) -> 10.308953 | DE9: =LN($CY$1) -> 10.308953 | DF9: =LN($CY$1) -> 10.308953 | DG9: =LN($DF$1) -> 11.512925 | DH9: =LN($DF$1) -> 11.512925 | DI9: =LN($DF$1) -> 11.512925 | DJ9: =LN($DF$1) -> 11.512925 | DK9: =LN($DF$1) -> 11.512925 | DL9: =LN($DF$1) -> 11.512925 | DM9: =LN($DF$1) -> 11.512925 | DN9: =LN($DF$1) -> 11.512925 | ... DZ9: =LN($DF$1) -> 11.512925 | EA9: =LN($DZ$1) -> 12.611538 | EB9: =LN($DZ$1) -> 12.611538 | EC9: =LN($DZ$1) -> 12.611538 | ED9: =LN($DZ$1) -> 12.611538 | EE9: =LN($DZ$1) -> 12.611538 | EF9: =LN($DZ$1) -> 12.611538 | EG9: =LN($DZ$1) -> 12.611538 | EH9: =LN($DZ$1) -> 12.611538 | ... GQ9: =LN($DZ$1) -> 12.611538
A10: xi+1 | C10: =LN($D$1) -> 1.0986123 | D10: =LN($D$1) -> 1.0986123 | E10: =LN($K$1) -> 2.3025851 | F10: =LN($K$1) -> 2.3025851 | G10: =LN($K$1) -> 2.3025851 | H10: =LN($K$1) -> 2.3025851 | I10: =LN($K$1) -> 2.3025851 | J10: =LN($K$1) -> 2.3025851 | L10: =LN($AE$1) -> 3.4011974 | M10: =LN($AE$1) -> 3.4011974 | N10: =LN($AE$1) -> 3.4011974 | O10: =LN($AE$1) -> 3.4011974 | P10: =LN($AE$1) -> 3.4011974 | Q10: =LN($AE$1) -> 3.4011974 | R10: =LN($AE$1) -> 3.4011974 | S10: =LN($AE$1) -> 3.4011974 | ... AE10: =LN($AE$1) -> 3.4011974 | AF10: =LN($CE$1) -> 4.6051702 | AG10: =LN($CE$1) -> 4.6051702 | AH10: =LN($CE$1) -> 4.6051702 | AI10: =LN($CE$1) -> 4.6051702 | AJ10: =LN($CE$1) -> 4.6051702 | AK10: =LN($CE$1) -> 4.6051702 | AL10: =LN($CE$1) -> 4.6051702 | AM10: =LN($CE$1) -> 4.6051702 | ... CE10: =LN($CE$1) -> 4.6051702 | CF10: =LN($CG$1) -> 5.7037825 | CG10: =LN($CG$1) -> 5.7037825 | CH10: =LN($CN$1) -> 6.9077553 | CI10: =LN($CN$1) -> 6.9077553 | CJ10: =LN($CN$1) -> 6.9077553 | CK10: =LN($CN$1) -> 6.9077553 | CL10: =LN($CN$1) -> 6.9077553 | CM10: =LN($CN$1) -> 6.9077553 | CN10: =LN($CN$1) -> 6.9077553 | CO10: =LN($CP$1) -> 8.0063676 | CP10: =LN($CW$1) -> 9.2103404 | CQ10: =LN($CW$1) -> 9.2103404 | CR10: =LN($CW$1) -> 9.2103404 | CS10: =LN($CW$1) -> 9.2103404 | CT10: =LN($CW$1) -> 9.2103404 | CU10: =LN($CW$1) -> 9.2103404 | CV10: =LN($CW$1) -> 9.2103404 | CW10: =LN($CW$1) -> 9.2103404 | CX10: =LN($CY$1) -> 10.308953 | CY10: =LN($CY$1) -> 10.308953 | CZ10: =LN($DF$1) -> 11.512925 | DA10: =LN($DF$1) -> 11.512925 | DB10: =LN($DF$1) -> 11.512925 | DC10: =LN($DF$1) -> 11.512925 | DD10: =LN($DF$1) -> 11.512925 | DE10: =LN($DF$1) -> 11.512925 | DF10: =LN($DF$1) -> 11.512925 | DG10: =LN($DZ$1) -> 12.611538 | DH10: =LN($DZ$1) -> 12.611538 | DI10: =LN($DZ$1) -> 12.611538 | DJ10: =LN($DZ$1) -> 12.611538 | DK10: =LN($DZ$1) -> 12.611538 | DL10: =LN($DZ$1) -> 12.611538 | DM10: =LN($DZ$1) -> 12.611538 | DN10: =LN($DZ$1) -> 12.611538 | ... DZ10: =LN($DZ$1) -> 12.611538 | EA10: =LN($GR$1) -> 13.815511 | EB10: =LN($GR$1) -> 13.815511 | EC10: =LN($GR$1) -> 13.815511 | ED10: =LN($GR$1) -> 13.815511 | EE10: =LN($GR$1) -> 13.815511 | EF10: =LN($GR$1) -> 13.815511 | EG10: =LN($GR$1) -> 13.815511 | EH10: =LN($GR$1) -> 13.815511 | ... GQ10: =LN($GR$1) -> 13.815511
A11: DH | C11: =EXP(C5) -> 6112.6603 | D11: =EXP(D5) -> 4243 | E11: =EXP(E5) -> 3350.906 | F11: =EXP(F5) -> 2790.2859 | G11: =EXP(G5) -> 2402.5997 | H11: =EXP(H5) -> 2117.1535 | I11: =EXP(I5) -> 1897.4513 | J11: =EXP(J5) -> 1722.664 | L11: =EXP(L5) -> 1521.3968 | M11: =EXP(M5) -> 1469.7963 | N11: =EXP(N5) -> 1423.8753 | O11: =EXP(O5) -> 1382.6392 | P11: =EXP(P5) -> 1345.3234 | Q11: =EXP(Q5) -> 1311.3291 | R11: =EXP(R5) -> 1280.1792 | S11: =EXP(S5) -> 1251.4882 | ... GQ11: =EXP(GQ5) -> 0.5029524
A14: 1 | CC14: 1 | CD14: =EXP($CD$6+($CD$7-$CD$6)*((LN($CD$1-A14))-$CD$9)/($CD$10-$CD$9)) -> 441.77452 | CE14: =EXP($CE$6+($CE$7-$CE$6)*((LN($CE$1-A14))-$CE$9)/($CE$10-$CE$9)) -> 406.94226 | CF14: =EXP($CF$6+($CF$7-$CF$6)*((LN($CF$1-A14))-$CF$9)/($CF$10-$CF$9)) -> 236.94242 | CG14: =EXP($CG$6+($CG$7-$CG$6)*((LN($CG$1-A14))-$CG$9)/($CG$10-$CG$9)) -> 172.84652 | CH14: =EXP($CH$6+($CH$7-$CH$6)*((LN($CH$1-A14))-$CH$9)/($CH$10-$CH$9)) -> 139.33767 | CI14: =EXP($CI$6+($CI$7-$CI$6)*((LN($CI$1-A14))-$CI$9)/($CI$10-$CI$9)) -> 117.91043 | CJ14: =EXP($CJ$6+($CJ$7-$CJ$6)*((LN($CJ$1-A14))-$CJ$9)/($CJ$10-$CJ$9)) -> 102.87895 | CK14: =EXP($CK$6+($CK$7-$CK$6)*((LN($CK$1-A14))-$CK$9)/($CK$10-$CK$9)) -> 91.678217 | CL14: =EXP($CL$6+($CL$7-$CL$6)*((LN($CL$1-A14))-$CL$9)/($CL$10-$CL$9)) -> 82.968052 | CM14: =EXP($CM$6+($CM$7-$CM$6)*((LN($CM$1-A14))-$CM$9)/($CM$10-$CM$9)) -> 75.975731 | CN14: =EXP($CN$6+($CN$7-$CN$6)*((LN($CN$1-A14))-$CN$9)/($CN$10-$CN$9)) -> 70.222435 | CO14: =EXP($CO$6+($CO$7-$CO$6)*((LN($CO$1-A14))-$CO$9)/($CO$10-$CO$9)) -> 37.976966 | CP14: =EXP($CP$6+($CP$7-$CP$6)*((LN($CP$1-A14))-$CP$9)/($CP$10-$CP$9)) -> 26.5 | CQ14: =EXP($CQ$6+($CQ$7-$CQ$6)*((LN($CQ$1-A14))-$CQ$9)/($CQ$10-$CQ$9)) -> 23.351112 | CR14: =EXP($CR$6+($CR$7-$CR$6)*((LN($CR$1-A14))-$CR$9)/($CR$10-$CR$9)) -> 21.166423 | CS14: =EXP($CS$6+($CS$7-$CS$6)*((LN($CS$1-A14))-$CS$9)/($CS$10-$CS$9)) -> 19.534085 | CT14: =EXP($CT$6+($CT$7-$CT$6)*((LN($CT$1-A14))-$CT$9)/($CT$10-$CT$9)) -> 18.252609 | CU14: =EXP($CU$6+($CU$7-$CU$6)*((LN($CU$1-A14))-$CU$9)/($CU$10-$CU$9)) -> 17.210719 | CV14: =EXP($CV$6+($CV$7-$CV$6)*((LN($CV$1-A14))-$CV$9)/($CV$10-$CV$9)) -> 16.341199 | CW14: =EXP($CW$6+($CW$7-$CW$6)*((LN($CW$1-A14))-$CW$9)/($CW$10-$CW$9)) -> 15.600687 | CX14: =EXP($CX$6+($CX$7-$CX$6)*((LN($CX$1-A14))-$CX$9)/($CX$10-$CX$9)) -> 8.5544229 | CY14: =EXP($CY$6+($CY$7-$CY$6)*((LN($CY$1-A14))-$CY$9)/($CY$10-$CY$9)) -> 6.0191739 | CZ14: =EXP($CZ$6+($CZ$7-$CZ$6)*((LN($CZ$1-A14))-$CZ$9)/($CZ$10-$CZ$9)) -> 4.0813449 | DA14: =EXP($DA$6+($DA$7-$DA$6)*((LN($DA$1-A14))-$DA$9)/($DA$10-$DA$9)) -> 3.019387 | DB14: =EXP($DB$6+($DB$7-$DB$6)*((LN($DB$1-A14))-$DB$9)/($DB$10-$DB$9)) -> 2.3603629 | DC14: =EXP($DC$6+($DC$7-$DC$6)*((LN($DC$1-A14))-$DC$9)/($DC$10-$DC$9)) -> 1.9167371 | DD14: =EXP($DD$6+($DD$7-$DD$6)*((LN($DD$1-A14))-$DD$9)/($DD$10-$DD$9)) -> 1.6004445 | DE14: =EXP($DE$6+($DE$7-$DE$6)*((LN($DE$1-A14))-$DE$9)/($DE$10-$DE$9)) -> 1.365073 | DF14: =EXP($DF$6+($DF$7-$DF$6)*((LN($DF$1-A14))-$DF$9)/($DF$10-$DF$9)) -> 1.184016
A15: 2 | CC15: 2 | CD15: =EXP($CD$6+($CD$7-$CD$6)*((LN($CD$1-A15))-$CD$9)/($CD$10-$CD$9)) -> 445.64145 | CE15: =EXP($CE$6+($CE$7-$CE$6)*((LN($CE$1-A15))-$CE$9)/($CE$10-$CE$9)) -> 410.14124 | CF15: =EXP($CF$6+($CF$7-$CF$6)*((LN($CF$1-A15))-$CF$9)/($CF$10-$CF$9)) -> 237.86897 | CG15: =EXP($CG$6+($CG$7-$CG$6)*((LN($CG$1-A15))-$CG$9)/($CG$10-$CG$9)) -> 173.2957 | CH15: =EXP($CH$6+($CH$7-$CH$6)*((LN($CH$1-A15))-$CH$9)/($CH$10-$CH$9)) -> 139.59897 | CI15: =EXP($CI$6+($CI$7-$CI$6)*((LN($CI$1-A15))-$CI$9)/($CI$10-$CI$9)) -> 118.08716 | CJ15: =EXP($CJ$6+($CJ$7-$CJ$6)*((LN($CJ$1-A15))-$CJ$9)/($CJ$10-$CJ$9)) -> 103.00737 | CK15: =EXP($CK$6+($CK$7-$CK$6)*((LN($CK$1-A15))-$CK$9)/($CK$10-$CK$9)) -> 91.776262 | CL15: =EXP($CL$6+($CL$7-$CL$6)*((LN($CL$1-A15))-$CL$9)/($CL$10-$CL$9)) -> 83.045664 | CM15: =EXP($CM$6+($CM$7-$CM$6)*((LN($CM$1-A15))-$CM$9)/($CM$10-$CM$9)) -> 76.03889 | CN15: =EXP($CN$6+($CN$7-$CN$6)*((LN($CN$1-A15))-$CN$9)/($CN$10-$CN$9)) -> 70.274962 | CO15: =EXP($CO$6+($CO$7-$CO$6)*((LN($CO$1-A15))-$CO$9)/($CO$10-$CO$9)) -> 37.993814 | CP15: =EXP($CP$6+($CP$7-$CP$6)*((LN($CP$1-A15))-$CP$9)/($CP$10-$CP$9)) -> 26.5 | CQ15: =EXP($CQ$6+($CQ$7-$CQ$6)*((LN($CQ$1-A15))-$CQ$9)/($CQ$10-$CQ$9)) -> 23.353682 | CR15: =EXP($CR$6+($CR$7-$CR$6)*((LN($CR$1-A15))-$CR$9)/($CR$10-$CR$9)) -> 21.168287 | CS15: =EXP($CS$6+($CS$7-$CS$6)*((LN($CS$1-A15))-$CS$9)/($CS$10-$CS$9)) -> 19.535519 | CT15: =EXP($CT$6+($CT$7-$CT$6)*((LN($CT$1-A15))-$CT$9)/($CT$10-$CT$9)) -> 18.253757 | CU15: =EXP($CU$6+($CU$7-$CU$6)*((LN($CU$1-A15))-$CU$9)/($CU$10-$CU$9)) -> 17.211666 | CV15: =EXP($CV$6+($CV$7-$CV$6)*((LN($CV$1-A15))-$CV$9)/($CV$10-$CV$9)) -> 16.341998 | CW15: =EXP($CW$6+($CW$7-$CW$6)*((LN($CW$1-A15))-$CW$9)/($CW$10-$CW$9)) -> 15.601373 | CX15: =EXP($CX$6+($CX$7-$CX$6)*((LN($CX$1-A15))-$CX$9)/($CX$10-$CX$9)) -> 8.5547937 | CY15: =EXP($CY$6+($CY$7-$CY$6)*((LN($CY$1-A15))-$CY$9)/($CY$10-$CY$9)) -> 6.0193479 | CZ15: =EXP($CZ$6+($CZ$7-$CZ$6)*((LN($CZ$1-A15))-$CZ$9)/($CZ$10-$CZ$9)) -> 4.0814827 | DA15: =EXP($DA$6+($DA$7-$DA$6)*((LN($DA$1-A15))-$DA$9)/($DA$10-$DA$9)) -> 3.0194685 | DB15: =EXP($DB$6+($DB$7-$DB$6)*((LN($DB$1-A15))-$DB$9)/($DB$10-$DB$9)) -> 2.360416 | DC15: =EXP($DC$6+($DC$7-$DC$6)*((LN($DC$1-A15))-$DC$9)/($DC$10-$DC$9)) -> 1.9167741 | DD15: =EXP($DD$6+($DD$7-$DD$6)*((LN($DD$1-A15))-$DD$9)/($DD$10-$DD$9)) -> 1.6004715 | DE15: =EXP($DE$6+($DE$7-$DE$6)*((LN($DE$1-A15))-$DE$9)/($DE$10-$DE$9)) -> 1.3650935 | DF15: =EXP($DF$6+($DF$7-$DF$6)*((LN($DF$1-A15))-$DF$9)/($DF$10-$DF$9)) -> 1.184032
A16: 3 | CC16: 3 | CD16: =EXP($CD$6+($CD$7-$CD$6)*((LN($CD$1-A16))-$CD$9)/($CD$10-$CD$9)) -> 449.58701 | CE16: =EXP($CE$6+($CE$7-$CE$6)*((LN($CE$1-A16))-$CE$9)/($CE$10-$CE$9)) -> 413.39858 | CF16: =EXP($CF$6+($CF$7-$CF$6)*((LN($CF$1-A16))-$CF$9)/($CF$10-$CF$9)) -> 238.80386 | CG16: =EXP($CG$6+($CG$7-$CG$6)*((LN($CG$1-A16))-$CG$9)/($CG$10-$CG$9)) -> 173.74756 | CH16: =EXP($CH$6+($CH$7-$CH$6)*((LN($CH$1-A16))-$CH$9)/($CH$10-$CH$9)) -> 139.86142 | CI16: =EXP($CI$6+($CI$7-$CI$6)*((LN($CI$1-A16))-$CI$9)/($CI$10-$CI$9)) -> 118.2645 | CJ16: =EXP($CJ$6+($CJ$7-$CJ$6)*((LN($CJ$1-A16))-$CJ$9)/($CJ$10-$CJ$9)) -> 103.13616 | CK16: =EXP($CK$6+($CK$7-$CK$6)*((LN($CK$1-A16))-$CK$9)/($CK$10-$CK$9)) -> 91.874553 | CL16: =EXP($CL$6+($CL$7-$CL$6)*((LN($CL$1-A16))-$CL$9)/($CL$10-$CL$9)) -> 83.123447 | CM16: =EXP($CM$6+($CM$7-$CM$6)*((LN($CM$1-A16))-$CM$9)/($CM$10-$CM$9)) -> 76.102171 | CN16: =EXP($CN$6+($CN$7-$CN$6)*((LN($CN$1-A16))-$CN$9)/($CN$10-$CN$9)) -> 70.327581 | CO16: =EXP($CO$6+($CO$7-$CO$6)*((LN($CO$1-A16))-$CO$9)/($CO$10-$CO$9)) -> 38.010677 | CP16: =EXP($CP$6+($CP$7-$CP$6)*((LN($CP$1-A16))-$CP$9)/($CP$10-$CP$9)) -> 26.5 | CQ16: =EXP($CQ$6+($CQ$7-$CQ$6)*((LN($CQ$1-A16))-$CQ$9)/($CQ$10-$CQ$9)) -> 23.356254 | CR16: =EXP($CR$6+($CR$7-$CR$6)*((LN($CR$1-A16))-$CR$9)/($CR$10-$CR$9)) -> 21.170151 | CS16: =EXP($CS$6+($CS$7-$CS$6)*((LN($CS$1-A16))-$CS$9)/($CS$10-$CS$9)) -> 19.536952 | CT16: =EXP($CT$6+($CT$7-$CT$6)*((LN($CT$1-A16))-$CT$9)/($CT$10-$CT$9)) -> 18.254905 | CU16: =EXP($CU$6+($CU$7-$CU$6)*((LN($CU$1-A16))-$CU$9)/($CU$10-$CU$9)) -> 17.212614 | CV16: =EXP($CV$6+($CV$7-$CV$6)*((LN($CV$1-A16))-$CV$9)/($CV$10-$CV$9)) -> 16.342797 | CW16: =EXP($CW$6+($CW$7-$CW$6)*((LN($CW$1-A16))-$CW$9)/($CW$10-$CW$9)) -> 15.60206 | CX16: =EXP($CX$6+($CX$7-$CX$6)*((LN($CX$1-A16))-$CX$9)/($CX$10-$CX$9)) -> 8.5551645 | CY16: =EXP($CY$6+($CY$7-$CY$6)*((LN($CY$1-A16))-$CY$9)/($CY$10-$CY$9)) -> 6.0195218 | CZ16: =EXP($CZ$6+($CZ$7-$CZ$6)*((LN($CZ$1-A16))-$CZ$9)/($CZ$10-$CZ$9)) -> 4.0816205 | DA16: =EXP($DA$6+($DA$7-$DA$6)*((LN($DA$1-A16))-$DA$9)/($DA$10-$DA$9)) -> 3.0195501 | DB16: =EXP($DB$6+($DB$7-$DB$6)*((LN($DB$1-A16))-$DB$9)/($DB$10-$DB$9)) -> 2.3604692 | DC16: =EXP($DC$6+($DC$7-$DC$6)*((LN($DC$1-A16))-$DC$9)/($DC$10-$DC$9)) -> 1.9168111 | DD16: =EXP($DD$6+($DD$7-$DD$6)*((LN($DD$1-A16))-$DD$9)/($DD$10-$DD$9)) -> 1.6004985 | DE16: =EXP($DE$6+($DE$7-$DE$6)*((LN($DE$1-A16))-$DE$9)/($DE$10-$DE$9)) -> 1.365114 | DF16: =EXP($DF$6+($DF$7-$DF$6)*((LN($DF$1-A16))-$DF$9)/($DF$10-$DF$9)) -> 1.184048
A17: 4 | CC17: 4 | CD17: =EXP($CD$6+($CD$7-$CD$6)*((LN($CD$1-A17))-$CD$9)/($CD$10-$CD$9)) -> 453.61372 | CE17: =EXP($CE$6+($CE$7-$CE$6)*((LN($CE$1-A17))-$CE$9)/($CE$10-$CE$9)) -> 416.71594 | CF17: =EXP($CF$6+($CF$7-$CF$6)*((LN($CF$1-A17))-$CF$9)/($CF$10-$CF$9)) -> 239.74721 | CG17: =EXP($CG$6+($CG$7-$CG$6)*((LN($CG$1-A17))-$CG$9)/($CG$10-$CG$9)) -> 174.20212 | CH17: =EXP($CH$6+($CH$7-$CH$6)*((LN($CH$1-A17))-$CH$9)/($CH$10-$CH$9)) -> 140.12503 | CI17: =EXP($CI$6+($CI$7-$CI$6)*((LN($CI$1-A17))-$CI$9)/($CI$10-$CI$9)) -> 118.44248 | CJ17: =EXP($CJ$6+($CJ$7-$CJ$6)*((LN($CJ$1-A17))-$CJ$9)/($CJ$10-$CJ$9)) -> 103.26534 | CK17: =EXP($CK$6+($CK$7-$CK$6)*((LN($CK$1-A17))-$CK$9)/($CK$10-$CK$9)) -> 91.97309 | CL17: =EXP($CL$6+($CL$7-$CL$6)*((LN($CL$1-A17))-$CL$9)/($CL$10-$CL$9)) -> 83.2014 | CM17: =EXP($CM$6+($CM$7-$CM$6)*((LN($CM$1-A17))-$CM$9)/($CM$10-$CM$9)) -> 76.165576 | CN17: =EXP($CN$6+($CN$7-$CN$6)*((LN($CN$1-A17))-$CN$9)/($CN$10-$CN$9)) -> 70.380293 | CO17: =EXP($CO$6+($CO$7-$CO$6)*((LN($CO$1-A17))-$CO$9)/($CO$10-$CO$9)) -> 38.027556 | CP17: =EXP($CP$6+($CP$7-$CP$6)*((LN($CP$1-A17))-$CP$9)/($CP$10-$CP$9)) -> 26.5 | CQ17: =EXP($CQ$6+($CQ$7-$CQ$6)*((LN($CQ$1-A17))-$CQ$9)/($CQ$10-$CQ$9)) -> 23.358826 | CR17: =EXP($CR$6+($CR$7-$CR$6)*((LN($CR$1-A17))-$CR$9)/($CR$10-$CR$9)) -> 21.172016 | CS17: =EXP($CS$6+($CS$7-$CS$6)*((LN($CS$1-A17))-$CS$9)/($CS$10-$CS$9)) -> 19.538386 | CT17: =EXP($CT$6+($CT$7-$CT$6)*((LN($CT$1-A17))-$CT$9)/($CT$10-$CT$9)) -> 18.256053 | CU17: =EXP($CU$6+($CU$7-$CU$6)*((LN($CU$1-A17))-$CU$9)/($CU$10-$CU$9)) -> 17.213561 | CV17: =EXP($CV$6+($CV$7-$CV$6)*((LN($CV$1-A17))-$CV$9)/($CV$10-$CV$9)) -> 16.343597 | CW17: =EXP($CW$6+($CW$7-$CW$6)*((LN($CW$1-A17))-$CW$9)/($CW$10-$CW$9)) -> 15.602747 | CX17: =EXP($CX$6+($CX$7-$CX$6)*((LN($CX$1-A17))-$CX$9)/($CX$10-$CX$9)) -> 8.5555354 | CY17: =EXP($CY$6+($CY$7-$CY$6)*((LN($CY$1-A17))-$CY$9)/($CY$10-$CY$9)) -> 6.0196958 | CZ17: =EXP($CZ$6+($CZ$7-$CZ$6)*((LN($CZ$1-A17))-$CZ$9)/($CZ$10-$CZ$9)) -> 4.0817583 | DA17: =EXP($DA$6+($DA$7-$DA$6)*((LN($DA$1-A17))-$DA$9)/($DA$10-$DA$9)) -> 3.0196317 | DB17: =EXP($DB$6+($DB$7-$DB$6)*((LN($DB$1-A17))-$DB$9)/($DB$10-$DB$9)) -> 2.3605223 | DC17: =EXP($DC$6+($DC$7-$DC$6)*((LN($DC$1-A17))-$DC$9)/($DC$10-$DC$9)) -> 1.9168481 | DD17: =EXP($DD$6+($DD$7-$DD$6)*((LN($DD$1-A17))-$DD$9)/($DD$10-$DD$9)) -> 1.6005256 | DE17: =EXP($DE$6+($DE$7-$DE$6)*((LN($DE$1-A17))-$DE$9)/($DE$10-$DE$9)) -> 1.3651345 | DF17: =EXP($DF$6+($DF$7-$DF$6)*((LN($DF$1-A17))-$DF$9)/($DF$10-$DF$9)) -> 1.184064
A18: 5 | CC18: 5 | CD18: =EXP($CD$6+($CD$7-$CD$6)*((LN($CD$1-A18))-$CD$9)/($CD$10-$CD$9)) -> 457.72423 | CE18: =EXP($CE$6+($CE$7-$CE$6)*((LN($CE$1-A18))-$CE$9)/($CE$10-$CE$9)) -> 420.09508 | CF18: =EXP($CF$6+($CF$7-$CF$6)*((LN($CF$1-A18))-$CF$9)/($CF$10-$CF$9)) -> 240.69914 | CG18: =EXP($CG$6+($CG$7-$CG$6)*((LN($CG$1-A18))-$CG$9)/($CG$10-$CG$9)) -> 174.65943 | CH18: =EXP($CH$6+($CH$7-$CH$6)*((LN($CH$1-A18))-$CH$9)/($CH$10-$CH$9)) -> 140.3898 | CI18: =EXP($CI$6+($CI$7-$CI$6)*((LN($CI$1-A18))-$CI$9)/($CI$10-$CI$9)) -> 118.62108 | CJ18: =EXP($CJ$6+($CJ$7-$CJ$6)*((LN($CJ$1-A18))-$CJ$9)/($CJ$10-$CJ$9)) -> 103.39489 | CK18: =EXP($CK$6+($CK$7-$CK$6)*((LN($CK$1-A18))-$CK$9)/($CK$10-$CK$9)) -> 92.071875 | CL18: =EXP($CL$6+($CL$7-$CL$6)*((LN($CL$1-A18))-$CL$9)/($CL$10-$CL$9)) -> 83.279525 | CM18: =EXP($CM$6+($CM$7-$CM$6)*((LN($CM$1-A18))-$CM$9)/($CM$10-$CM$9)) -> 76.229104 | CN18: =EXP($CN$6+($CN$7-$CN$6)*((LN($CN$1-A18))-$CN$9)/($CN$10-$CN$9)) -> 70.433097 | CO18: =EXP($CO$6+($CO$7-$CO$6)*((LN($CO$1-A18))-$CO$9)/($CO$10-$CO$9)) -> 38.044451 | CP18: =EXP($CP$6+($CP$7-$CP$6)*((LN($CP$1-A18))-$CP$9)/($CP$10-$CP$9)) -> 26.5 | CQ18: =EXP($CQ$6+($CQ$7-$CQ$6)*((LN($CQ$1-A18))-$CQ$9)/($CQ$10-$CQ$9)) -> 23.361399 | CR18: =EXP($CR$6+($CR$7-$CR$6)*((LN($CR$1-A18))-$CR$9)/($CR$10-$CR$9)) -> 21.173881 | CS18: =EXP($CS$6+($CS$7-$CS$6)*((LN($CS$1-A18))-$CS$9)/($CS$10-$CS$9)) -> 19.539821 | CT18: =EXP($CT$6+($CT$7-$CT$6)*((LN($CT$1-A18))-$CT$9)/($CT$10-$CT$9)) -> 18.257202 | CU18: =EXP($CU$6+($CU$7-$CU$6)*((LN($CU$1-A18))-$CU$9)/($CU$10-$CU$9)) -> 17.214508 | CV18: =EXP($CV$6+($CV$7-$CV$6)*((LN($CV$1-A18))-$CV$9)/($CV$10-$CV$9)) -> 16.344397 | CW18: =EXP($CW$6+($CW$7-$CW$6)*((LN($CW$1-A18))-$CW$9)/($CW$10-$CW$9)) -> 15.603434 | CX18: =EXP($CX$6+($CX$7-$CX$6)*((LN($CX$1-A18))-$CX$9)/($CX$10-$CX$9)) -> 8.5559063 | CY18: =EXP($CY$6+($CY$7-$CY$6)*((LN($CY$1-A18))-$CY$9)/($CY$10-$CY$9)) -> 6.0198697 | CZ18: =EXP($CZ$6+($CZ$7-$CZ$6)*((LN($CZ$1-A18))-$CZ$9)/($CZ$10-$CZ$9)) -> 4.0818962 | DA18: =EXP($DA$6+($DA$7-$DA$6)*((LN($DA$1-A18))-$DA$9)/($DA$10-$DA$9)) -> 3.0197132 | DB18: =EXP($DB$6+($DB$7-$DB$6)*((LN($DB$1-A18))-$DB$9)/($DB$10-$DB$9)) -> 2.3605754 | DC18: =EXP($DC$6+($DC$7-$DC$6)*((LN($DC$1-A18))-$DC$9)/($DC$10-$DC$9)) -> 1.9168851 | DD18: =EXP($DD$6+($DD$7-$DD$6)*((LN($DD$1-A18))-$DD$9)/($DD$10-$DD$9)) -> 1.6005526 | DE18: =EXP($DE$6+($DE$7-$DE$6)*((LN($DE$1-A18))-$DE$9)/($DE$10-$DE$9)) -> 1.365155 | DF18: =EXP($DF$6+($DF$7-$DF$6)*((LN($DF$1-A18))-$DF$9)/($DF$10-$DF$9)) -> 1.18408
A19: 6 | CC19: 6 | CD19: =EXP($CD$6+($CD$7-$CD$6)*((LN($CD$1-A19))-$CD$9)/($CD$10-$CD$9)) -> 461.9213 | CE19: =EXP($CE$6+($CE$7-$CE$6)*((LN($CE$1-A19))-$CE$9)/($CE$10-$CE$9)) -> 423.53782 | CF19: =EXP($CF$6+($CF$7-$CF$6)*((LN($CF$1-A19))-$CF$9)/($CF$10-$CF$9)) -> 241.65978 | CG19: =EXP($CG$6+($CG$7-$CG$6)*((LN($CG$1-A19))-$CG$9)/($CG$10-$CG$9)) -> 175.11949 | CH19: =EXP($CH$6+($CH$7-$CH$6)*((LN($CH$1-A19))-$CH$9)/($CH$10-$CH$9)) -> 140.65575 | CI19: =EXP($CI$6+($CI$7-$CI$6)*((LN($CI$1-A19))-$CI$9)/($CI$10-$CI$9)) -> 118.80031 | CJ19: =EXP($CJ$6+($CJ$7-$CJ$6)*((LN($CJ$1-A19))-$CJ$9)/($CJ$10-$CJ$9)) -> 103.52482 | CK19: =EXP($CK$6+($CK$7-$CK$6)*((LN($CK$1-A19))-$CK$9)/($CK$10-$CK$9)) -> 92.170908 | CL19: =EXP($CL$6+($CL$7-$CL$6)*((LN($CL$1-A19))-$CL$9)/($CL$10-$CL$9)) -> 83.357821 | CM19: =EXP($CM$6+($CM$7-$CM$6)*((LN($CM$1-A19))-$CM$9)/($CM$10-$CM$9)) -> 76.292756 | CN19: =EXP($CN$6+($CN$7-$CN$6)*((LN($CN$1-A19))-$CN$9)/($CN$10-$CN$9)) -> 70.485993 | CO19: =EXP($CO$6+($CO$7-$CO$6)*((LN($CO$1-A19))-$CO$9)/($CO$10-$CO$9)) -> 38.061362 | CP19: =EXP($CP$6+($CP$7-$CP$6)*((LN($CP$1-A19))-$CP$9)/($CP$10-$CP$9)) -> 26.5 | CQ19: =EXP($CQ$6+($CQ$7-$CQ$6)*((LN($CQ$1-A19))-$CQ$9)/($CQ$10-$CQ$9)) -> 23.363973 | CR19: =EXP($CR$6+($CR$7-$CR$6)*((LN($CR$1-A19))-$CR$9)/($CR$10-$CR$9)) -> 21.175747 | CS19: =EXP($CS$6+($CS$7-$CS$6)*((LN($CS$1-A19))-$CS$9)/($CS$10-$CS$9)) -> 19.541255 | CT19: =EXP($CT$6+($CT$7-$CT$6)*((LN($CT$1-A19))-$CT$9)/($CT$10-$CT$9)) -> 18.258351 | CU19: =EXP($CU$6+($CU$7-$CU$6)*((LN($CU$1-A19))-$CU$9)/($CU$10-$CU$9)) -> 17.215456 | CV19: =EXP($CV$6+($CV$7-$CV$6)*((LN($CV$1-A19))-$CV$9)/($CV$10-$CV$9)) -> 16.345196 | CW19: =EXP($CW$6+($CW$7-$CW$6)*((LN($CW$1-A19))-$CW$9)/($CW$10-$CW$9)) -> 15.604121 | CX19: =EXP($CX$6+($CX$7-$CX$6)*((LN($CX$1-A19))-$CX$9)/($CX$10-$CX$9)) -> 8.5562773 | CY19: =EXP($CY$6+($CY$7-$CY$6)*((LN($CY$1-A19))-$CY$9)/($CY$10-$CY$9)) -> 6.0200437 | CZ19: =EXP($CZ$6+($CZ$7-$CZ$6)*((LN($CZ$1-A19))-$CZ$9)/($CZ$10-$CZ$9)) -> 4.082034 | DA19: =EXP($DA$6+($DA$7-$DA$6)*((LN($DA$1-A19))-$DA$9)/($DA$10-$DA$9)) -> 3.0197948 | DB19: =EXP($DB$6+($DB$7-$DB$6)*((LN($DB$1-A19))-$DB$9)/($DB$10-$DB$9)) -> 2.3606286 | DC19: =EXP($DC$6+($DC$7-$DC$6)*((LN($DC$1-A19))-$DC$9)/($DC$10-$DC$9)) -> 1.916922 | DD19: =EXP($DD$6+($DD$7-$DD$6)*((LN($DD$1-A19))-$DD$9)/($DD$10-$DD$9)) -> 1.6005796 | DE19: =EXP($DE$6+($DE$7-$DE$6)*((LN($DE$1-A19))-$DE$9)/($DE$10-$DE$9)) -> 1.3651755 | DF19: =EXP($DF$6+($DF$7-$DF$6)*((LN($DF$1-A19))-$DF$9)/($DF$10-$DF$9)) -> 1.1840959
A20: 7 | CC20: 7 | CD20: =EXP($CD$6+($CD$7-$CD$6)*((LN($CD$1-A20))-$CD$9)/($CD$10-$CD$9)) -> 466.20782 | CE20: =EXP($CE$6+($CE$7-$CE$6)*((LN($CE$1-A20))-$CE$9)/($CE$10-$CE$9)) -> 427.04605 | CF20: =EXP($CF$6+($CF$7-$CF$6)*((LN($CF$1-A20))-$CF$9)/($CF$10-$CF$9)) -> 242.62924 | CG20: =EXP($CG$6+($CG$7-$CG$6)*((LN($CG$1-A20))-$CG$9)/($CG$10-$CG$9)) -> 175.58234 | CH20: =EXP($CH$6+($CH$7-$CH$6)*((LN($CH$1-A20))-$CH$9)/($CH$10-$CH$9)) -> 140.92288 | CI20: =EXP($CI$6+($CI$7-$CI$6)*((LN($CI$1-A20))-$CI$9)/($CI$10-$CI$9)) -> 118.98018 | CJ20: =EXP($CJ$6+($CJ$7-$CJ$6)*((LN($CJ$1-A20))-$CJ$9)/($CJ$10-$CJ$9)) -> 103.65513 | CK20: =EXP($CK$6+($CK$7-$CK$6)*((LN($CK$1-A20))-$CK$9)/($CK$10-$CK$9)) -> 92.270191 | CL20: =EXP($CL$6+($CL$7-$CL$6)*((LN($CL$1-A20))-$CL$9)/($CL$10-$CL$9)) -> 83.43629 | CM20: =EXP($CM$6+($CM$7-$CM$6)*((LN($CM$1-A20))-$CM$9)/($CM$10-$CM$9)) -> 76.356533 | CN20: =EXP($CN$6+($CN$7-$CN$6)*((LN($CN$1-A20))-$CN$9)/($CN$10-$CN$9)) -> 70.538983 | CO20: =EXP($CO$6+($CO$7-$CO$6)*((LN($CO$1-A20))-$CO$9)/($CO$10-$CO$9)) -> 38.078289 | CP20: =EXP($CP$6+($CP$7-$CP$6)*((LN($CP$1-A20))-$CP$9)/($CP$10-$CP$9)) -> 26.5 | CQ20: =EXP($CQ$6+($CQ$7-$CQ$6)*((LN($CQ$1-A20))-$CQ$9)/($CQ$10-$CQ$9)) -> 23.366548 | CR20: =EXP($CR$6+($CR$7-$CR$6)*((LN($CR$1-A20))-$CR$9)/($CR$10-$CR$9)) -> 21.177614 | CS20: =EXP($CS$6+($CS$7-$CS$6)*((LN($CS$1-A20))-$CS$9)/($CS$10-$CS$9)) -> 19.54269 | CT20: =EXP($CT$6+($CT$7-$CT$6)*((LN($CT$1-A20))-$CT$9)/($CT$10-$CT$9)) -> 18.2595 | CU20: =EXP($CU$6+($CU$7-$CU$6)*((LN($CU$1-A20))-$CU$9)/($CU$10-$CU$9)) -> 17.216404 | CV20: =EXP($CV$6+($CV$7-$CV$6)*((LN($CV$1-A20))-$CV$9)/($CV$10-$CV$9)) -> 16.345996 | CW20: =EXP($CW$6+($CW$7-$CW$6)*((LN($CW$1-A20))-$CW$9)/($CW$10-$CW$9)) -> 15.604808 | CX20: =EXP($CX$6+($CX$7-$CX$6)*((LN($CX$1-A20))-$CX$9)/($CX$10-$CX$9)) -> 8.5566483 | CY20: =EXP($CY$6+($CY$7-$CY$6)*((LN($CY$1-A20))-$CY$9)/($CY$10-$CY$9)) -> 6.0202177 | CZ20: =EXP($CZ$6+($CZ$7-$CZ$6)*((LN($CZ$1-A20))-$CZ$9)/($CZ$10-$CZ$9)) -> 4.0821719 | DA20: =EXP($DA$6+($DA$7-$DA$6)*((LN($DA$1-A20))-$DA$9)/($DA$10-$DA$9)) -> 3.0198764 | DB20: =EXP($DB$6+($DB$7-$DB$6)*((LN($DB$1-A20))-$DB$9)/($DB$10-$DB$9)) -> 2.3606817 | DC20: =EXP($DC$6+($DC$7-$DC$6)*((LN($DC$1-A20))-$DC$9)/($DC$10-$DC$9)) -> 1.916959 | DD20: =EXP($DD$6+($DD$7-$DD$6)*((LN($DD$1-A20))-$DD$9)/($DD$10-$DD$9)) -> 1.6006066 | DE20: =EXP($DE$6+($DE$7-$DE$6)*((LN($DE$1-A20))-$DE$9)/($DE$10-$DE$9)) -> 1.365196 | DF20: =EXP($DF$6+($DF$7-$DF$6)*((LN($DF$1-A20))-$DF$9)/($DF$10-$DF$9)) -> 1.1841119
A21: 8 | CC21: 8 | CD21: =EXP($CD$6+($CD$7-$CD$6)*((LN($CD$1-A21))-$CD$9)/($CD$10-$CD$9)) -> 470.58681 | CE21: =EXP($CE$6+($CE$7-$CE$6)*((LN($CE$1-A21))-$CE$9)/($CE$10-$CE$9)) -> 430.62174 | CF21: =EXP($CF$6+($CF$7-$CF$6)*((LN($CF$1-A21))-$CF$9)/($CF$10-$CF$9)) -> 243.60766 | CG21: =EXP($CG$6+($CG$7-$CG$6)*((LN($CG$1-A21))-$CG$9)/($CG$10-$CG$9)) -> 176.04799 | CH21: =EXP($CH$6+($CH$7-$CH$6)*((LN($CH$1-A21))-$CH$9)/($CH$10-$CH$9)) -> 141.19119 | CI21: =EXP($CI$6+($CI$7-$CI$6)*((LN($CI$1-A21))-$CI$9)/($CI$10-$CI$9)) -> 119.16068 | CJ21: =EXP($CJ$6+($CJ$7-$CJ$6)*((LN($CJ$1-A21))-$CJ$9)/($CJ$10-$CJ$9)) -> 103.78583 | CK21: =EXP($CK$6+($CK$7-$CK$6)*((LN($CK$1-A21))-$CK$9)/($CK$10-$CK$9)) -> 92.369724 | CL21: =EXP($CL$6+($CL$7-$CL$6)*((LN($CL$1-A21))-$CL$9)/($CL$10-$CL$9)) -> 83.514932 | CM21: =EXP($CM$6+($CM$7-$CM$6)*((LN($CM$1-A21))-$CM$9)/($CM$10-$CM$9)) -> 76.420435 | CN21: =EXP($CN$6+($CN$7-$CN$6)*((LN($CN$1-A21))-$CN$9)/($CN$10-$CN$9)) -> 70.592066 | CO21: =EXP($CO$6+($CO$7-$CO$6)*((LN($CO$1-A21))-$CO$9)/($CO$10-$CO$9)) -> 38.095232 | CP21: =EXP($CP$6+($CP$7-$CP$6)*((LN($CP$1-A21))-$CP$9)/($CP$10-$CP$9)) -> 26.5 | CQ21: =EXP($CQ$6+($CQ$7-$CQ$6)*((LN($CQ$1-A21))-$CQ$9)/($CQ$10-$CQ$9)) -> 23.369124 | CR21: =EXP($CR$6+($CR$7-$CR$6)*((LN($CR$1-A21))-$CR$9)/($CR$10-$CR$9)) -> 21.179481 | CS21: =EXP($CS$6+($CS$7-$CS$6)*((LN($CS$1-A21))-$CS$9)/($CS$10-$CS$9)) -> 19.544125 | CT21: =EXP($CT$6+($CT$7-$CT$6)*((LN($CT$1-A21))-$CT$9)/($CT$10-$CT$9)) -> 18.260649 | CU21: =EXP($CU$6+($CU$7-$CU$6)*((LN($CU$1-A21))-$CU$9)/($CU$10-$CU$9)) -> 17.217352 | CV21: =EXP($CV$6+($CV$7-$CV$6)*((LN($CV$1-A21))-$CV$9)/($CV$10-$CV$9)) -> 16.346796 | CW21: =EXP($CW$6+($CW$7-$CW$6)*((LN($CW$1-A21))-$CW$9)/($CW$10-$CW$9)) -> 15.605496 | CX21: =EXP($CX$6+($CX$7-$CX$6)*((LN($CX$1-A21))-$CX$9)/($CX$10-$CX$9)) -> 8.5570193 | CY21: =EXP($CY$6+($CY$7-$CY$6)*((LN($CY$1-A21))-$CY$9)/($CY$10-$CY$9)) -> 6.0203917 | CZ21: =EXP($CZ$6+($CZ$7-$CZ$6)*((LN($CZ$1-A21))-$CZ$9)/($CZ$10-$CZ$9)) -> 4.0823097 | DA21: =EXP($DA$6+($DA$7-$DA$6)*((LN($DA$1-A21))-$DA$9)/($DA$10-$DA$9)) -> 3.019958 | DB21: =EXP($DB$6+($DB$7-$DB$6)*((LN($DB$1-A21))-$DB$9)/($DB$10-$DB$9)) -> 2.3607349 | DC21: =EXP($DC$6+($DC$7-$DC$6)*((LN($DC$1-A21))-$DC$9)/($DC$10-$DC$9)) -> 1.916996 | DD21: =EXP($DD$6+($DD$7-$DD$6)*((LN($DD$1-A21))-$DD$9)/($DD$10-$DD$9)) -> 1.6006337 | DE21: =EXP($DE$6+($DE$7-$DE$6)*((LN($DE$1-A21))-$DE$9)/($DE$10-$DE$9)) -> 1.3652164 | DF21: =EXP($DF$6+($DF$7-$DF$6)*((LN($DF$1-A21))-$DF$9)/($DF$10-$DF$9)) -> 1.1841279
A22: 9 | CC22: 9 | CD22: =EXP($CD$6+($CD$7-$CD$6)*((LN($CD$1-A22))-$CD$9)/($CD$10-$CD$9)) -> 475.06141 | CE22: =EXP($CE$6+($CE$7-$CE$6)*((LN($CE$1-A22))-$CE$9)/($CE$10-$CE$9)) -> 434.26694 | CF22: =EXP($CF$6+($CF$7-$CF$6)*((LN($CF$1-A22))-$CF$9)/($CF$10-$CF$9)) -> 244.59517 | CG22: =EXP($CG$6+($CG$7-$CG$6)*((LN($CG$1-A22))-$CG$9)/($CG$10-$CG$9)) -> 176.51649 | CH22: =EXP($CH$6+($CH$7-$CH$6)*((LN($CH$1-A22))-$CH$9)/($CH$10-$CH$9)) -> 141.46071 | CI22: =EXP($CI$6+($CI$7-$CI$6)*((LN($CI$1-A22))-$CI$9)/($CI$10-$CI$9)) -> 119.34183 | CJ22: =EXP($CJ$6+($CJ$7-$CJ$6)*((LN($CJ$1-A22))-$CJ$9)/($CJ$10-$CJ$9)) -> 103.91691 | CK22: =EXP($CK$6+($CK$7-$CK$6)*((LN($CK$1-A22))-$CK$9)/($CK$10-$CK$9)) -> 92.469509 | CL22: =EXP($CL$6+($CL$7-$CL$6)*((LN($CL$1-A22))-$CL$9)/($CL$10-$CL$9)) -> 83.593747 | CM22: =EXP($CM$6+($CM$7-$CM$6)*((LN($CM$1-A22))-$CM$9)/($CM$10-$CM$9)) -> 76.484462 | CN22: =EXP($CN$6+($CN$7-$CN$6)*((LN($CN$1-A22))-$CN$9)/($CN$10-$CN$9)) -> 70.645242 | CO22: =EXP($CO$6+($CO$7-$CO$6)*((LN($CO$1-A22))-$CO$9)/($CO$10-$CO$9)) -> 38.112191 | CP22: =EXP($CP$6+($CP$7-$CP$6)*((LN($CP$1-A22))-$CP$9)/($CP$10-$CP$9)) -> 26.5 | CQ22: =EXP($CQ$6+($CQ$7-$CQ$6)*((LN($CQ$1-A22))-$CQ$9)/($CQ$10-$CQ$9)) -> 23.371701 | CR22: =EXP($CR$6+($CR$7-$CR$6)*((LN($CR$1-A22))-$CR$9)/($CR$10-$CR$9)) -> 21.181348 | CS22: =EXP($CS$6+($CS$7-$CS$6)*((LN($CS$1-A22))-$CS$9)/($CS$10-$CS$9)) -> 19.545561 | CT22: =EXP($CT$6+($CT$7-$CT$6)*((LN($CT$1-A22))-$CT$9)/($CT$10-$CT$9)) -> 18.261799 | CU22: =EXP($CU$6+($CU$7-$CU$6)*((LN($CU$1-A22))-$CU$9)/($CU$10-$CU$9)) -> 17.2183 | CV22: =EXP($CV$6+($CV$7-$CV$6)*((LN($CV$1-A22))-$CV$9)/($CV$10-$CV$9)) -> 16.347596 | CW22: =EXP($CW$6+($CW$7-$CW$6)*((LN($CW$1-A22))-$CW$9)/($CW$10-$CW$9)) -> 15.606183 | CX22: =EXP($CX$6+($CX$7-$CX$6)*((LN($CX$1-A22))-$CX$9)/($CX$10-$CX$9)) -> 8.5573904 | CY22: =EXP($CY$6+($CY$7-$CY$6)*((LN($CY$1-A22))-$CY$9)/($CY$10-$CY$9)) -> 6.0205657 | CZ22: =EXP($CZ$6+($CZ$7-$CZ$6)*((LN($CZ$1-A22))-$CZ$9)/($CZ$10-$CZ$9)) -> 4.0824476 | DA22: =EXP($DA$6+($DA$7-$DA$6)*((LN($DA$1-A22))-$DA$9)/($DA$10-$DA$9)) -> 3.0200395 | DB22: =EXP($DB$6+($DB$7-$DB$6)*((LN($DB$1-A22))-$DB$9)/($DB$10-$DB$9)) -> 2.360788 | DC22: =EXP($DC$6+($DC$7-$DC$6)*((LN($DC$1-A22))-$DC$9)/($DC$10-$DC$9)) -> 1.917033 | DD22: =EXP($DD$6+($DD$7-$DD$6)*((LN($DD$1-A22))-$DD$9)/($DD$10-$DD$9)) -> 1.6006607 | DE22: =EXP($DE$6+($DE$7-$DE$6)*((LN($DE$1-A22))-$DE$9)/($DE$10-$DE$9)) -> 1.3652369 | DF22: =EXP($DF$6+($DF$7-$DF$6)*((LN($DF$1-A22))-$DF$9)/($DF$10-$DF$9)) -> 1.1841439
A23: 10 | CC23: 10 | CD23: =EXP($CD$6+($CD$7-$CD$6)*((LN($CD$1-A23))-$CD$9)/($CD$10-$CD$9)) -> 479.63495 | CE23: =EXP($CE$6+($CE$7-$CE$6)*((LN($CE$1-A23))-$CE$9)/($CE$10-$CE$9)) -> 437.98379 | CF23: =EXP($CF$6+($CF$7-$CF$6)*((LN($CF$1-A23))-$CF$9)/($CF$10-$CF$9)) -> 245.59189 | CG23: =EXP($CG$6+($CG$7-$CG$6)*((LN($CG$1-A23))-$CG$9)/($CG$10-$CG$9)) -> 176.98786 | CH23: =EXP($CH$6+($CH$7-$CH$6)*((LN($CH$1-A23))-$CH$9)/($CH$10-$CH$9)) -> 141.73143 | CI23: =EXP($CI$6+($CI$7-$CI$6)*((LN($CI$1-A23))-$CI$9)/($CI$10-$CI$9)) -> 119.52363 | CJ23: =EXP($CJ$6+($CJ$7-$CJ$6)*((LN($CJ$1-A23))-$CJ$9)/($CJ$10-$CJ$9)) -> 104.04838 | CK23: =EXP($CK$6+($CK$7-$CK$6)*((LN($CK$1-A23))-$CK$9)/($CK$10-$CK$9)) -> 92.569547 | CL23: =EXP($CL$6+($CL$7-$CL$6)*((LN($CL$1-A23))-$CL$9)/($CL$10-$CL$9)) -> 83.672737 | CM23: =EXP($CM$6+($CM$7-$CM$6)*((LN($CM$1-A23))-$CM$9)/($CM$10-$CM$9)) -> 76.548614 | CN23: =EXP($CN$6+($CN$7-$CN$6)*((LN($CN$1-A23))-$CN$9)/($CN$10-$CN$9)) -> 70.698513 | CO23: =EXP($CO$6+($CO$7-$CO$6)*((LN($CO$1-A23))-$CO$9)/($CO$10-$CO$9)) -> 38.129166 | CP23: =EXP($CP$6+($CP$7-$CP$6)*((LN($CP$1-A23))-$CP$9)/($CP$10-$CP$9)) -> 26.5 | CQ23: =EXP($CQ$6+($CQ$7-$CQ$6)*((LN($CQ$1-A23))-$CQ$9)/($CQ$10-$CQ$9)) -> 23.374278 | CR23: =EXP($CR$6+($CR$7-$CR$6)*((LN($CR$1-A23))-$CR$9)/($CR$10-$CR$9)) -> 21.183216 | CS23: =EXP($CS$6+($CS$7-$CS$6)*((LN($CS$1-A23))-$CS$9)/($CS$10-$CS$9)) -> 19.546997 | CT23: =EXP($CT$6+($CT$7-$CT$6)*((LN($CT$1-A23))-$CT$9)/($CT$10-$CT$9)) -> 18.262948 | CU23: =EXP($CU$6+($CU$7-$CU$6)*((LN($CU$1-A23))-$CU$9)/($CU$10-$CU$9)) -> 17.219249 | CV23: =EXP($CV$6+($CV$7-$CV$6)*((LN($CV$1-A23))-$CV$9)/($CV$10-$CV$9)) -> 16.348397 | CW23: =EXP($CW$6+($CW$7-$CW$6)*((LN($CW$1-A23))-$CW$9)/($CW$10-$CW$9)) -> 15.606871 | CX23: =EXP($CX$6+($CX$7-$CX$6)*((LN($CX$1-A23))-$CX$9)/($CX$10-$CX$9)) -> 8.5577614 | CY23: =EXP($CY$6+($CY$7-$CY$6)*((LN($CY$1-A23))-$CY$9)/($CY$10-$CY$9)) -> 6.0207398 | CZ23: =EXP($CZ$6+($CZ$7-$CZ$6)*((LN($CZ$1-A23))-$CZ$9)/($CZ$10-$CZ$9)) -> 4.0825854 | DA23: =EXP($DA$6+($DA$7-$DA$6)*((LN($DA$1-A23))-$DA$9)/($DA$10-$DA$9)) -> 3.0201211 | DB23: =EXP($DB$6+($DB$7-$DB$6)*((LN($DB$1-A23))-$DB$9)/($DB$10-$DB$9)) -> 2.3608411 | DC23: =EXP($DC$6+($DC$7-$DC$6)*((LN($DC$1-A23))-$DC$9)/($DC$10-$DC$9)) -> 1.91707 | DD23: =EXP($DD$6+($DD$7-$DD$6)*((LN($DD$1-A23))-$DD$9)/($DD$10-$DD$9)) -> 1.6006877 | DE23: =EXP($DE$6+($DE$7-$DE$6)*((LN($DE$1-A23))-$DE$9)/($DE$10-$DE$9)) -> 1.3652574 | DF23: =EXP($DF$6+($DF$7-$DF$6)*((LN($DF$1-A23))-$DF$9)/($DF$10-$DF$9)) -> 1.1841599
A24: 11 | CC24: 11 | CD24: =EXP($CD$6+($CD$7-$CD$6)*((LN($CD$1-A24))-$CD$9)/($CD$10-$CD$9)) -> 484.31088 | CE24: =EXP($CE$6+($CE$7-$CE$6)*((LN($CE$1-A24))-$CE$9)/($CE$10-$CE$9)) -> 441.77452 | CF24: =EXP($CF$6+($CF$7-$CF$6)*((LN($CF$1-A24))-$CF$9)/($CF$10-$CF$9)) -> 246.59797 | CG24: =EXP($CG$6+($CG$7-$CG$6)*((LN($CG$1-A24))-$CG$9)/($CG$10-$CG$9)) -> 177.46211 | CH24: =EXP($CH$6+($CH$7-$CH$6)*((LN($CH$1-A24))-$CH$9)/($CH$10-$CH$9)) -> 142.00337 | CI24: =EXP($CI$6+($CI$7-$CI$6)*((LN($CI$1-A24))-$CI$9)/($CI$10-$CI$9)) -> 119.70607 | CJ24: =EXP($CJ$6+($CJ$7-$CJ$6)*((LN($CJ$1-A24))-$CJ$9)/($CJ$10-$CJ$9)) -> 104.18025 | CK24: =EXP($CK$6+($CK$7-$CK$6)*((LN($CK$1-A24))-$CK$9)/($CK$10-$CK$9)) -> 92.669838 | CL24: =EXP($CL$6+($CL$7-$CL$6)*((LN($CL$1-A24))-$CL$9)/($CL$10-$CL$9)) -> 83.751901 | CM24: =EXP($CM$6+($CM$7-$CM$6)*((LN($CM$1-A24))-$CM$9)/($CM$10-$CM$9)) -> 76.612893 | CN24: =EXP($CN$6+($CN$7-$CN$6)*((LN($CN$1-A24))-$CN$9)/($CN$10-$CN$9)) -> 70.751877 | CO24: =EXP($CO$6+($CO$7-$CO$6)*((LN($CO$1-A24))-$CO$9)/($CO$10-$CO$9)) -> 38.146157 | CP24: =EXP($CP$6+($CP$7-$CP$6)*((LN($CP$1-A24))-$CP$9)/($CP$10-$CP$9)) -> 26.5 | CQ24: =EXP($CQ$6+($CQ$7-$CQ$6)*((LN($CQ$1-A24))-$CQ$9)/($CQ$10-$CQ$9)) -> 23.376857 | CR24: =EXP($CR$6+($CR$7-$CR$6)*((LN($CR$1-A24))-$CR$9)/($CR$10-$CR$9)) -> 21.185085 | CS24: =EXP($CS$6+($CS$7-$CS$6)*((LN($CS$1-A24))-$CS$9)/($CS$10-$CS$9)) -> 19.548434 | CT24: =EXP($CT$6+($CT$7-$CT$6)*((LN($CT$1-A24))-$CT$9)/($CT$10-$CT$9)) -> 18.264098 | CU24: =EXP($CU$6+($CU$7-$CU$6)*((LN($CU$1-A24))-$CU$9)/($CU$10-$CU$9)) -> 17.220197 | CV24: =EXP($CV$6+($CV$7-$CV$6)*((LN($CV$1-A24))-$CV$9)/($CV$10-$CV$9)) -> 16.349197 | CW24: =EXP($CW$6+($CW$7-$CW$6)*((LN($CW$1-A24))-$CW$9)/($CW$10-$CW$9)) -> 15.607558 | CX24: =EXP($CX$6+($CX$7-$CX$6)*((LN($CX$1-A24))-$CX$9)/($CX$10-$CX$9)) -> 8.5581326 | CY24: =EXP($CY$6+($CY$7-$CY$6)*((LN($CY$1-A24))-$CY$9)/($CY$10-$CY$9)) -> 6.0209138 | CZ24: =EXP($CZ$6+($CZ$7-$CZ$6)*((LN($CZ$1-A24))-$CZ$9)/($CZ$10-$CZ$9)) -> 4.0827233 | DA24: =EXP($DA$6+($DA$7-$DA$6)*((LN($DA$1-A24))-$DA$9)/($DA$10-$DA$9)) -> 3.0202027 | DB24: =EXP($DB$6+($DB$7-$DB$6)*((LN($DB$1-A24))-$DB$9)/($DB$10-$DB$9)) -> 2.3608943 | DC24: =EXP($DC$6+($DC$7-$DC$6)*((LN($DC$1-A24))-$DC$9)/($DC$10-$DC$9)) -> 1.917107 | DD24: =EXP($DD$6+($DD$7-$DD$6)*((LN($DD$1-A24))-$DD$9)/($DD$10-$DD$9)) -> 1.6007147 | DE24: =EXP($DE$6+($DE$7-$DE$6)*((LN($DE$1-A24))-$DE$9)/($DE$10-$DE$9)) -> 1.3652779 | DF24: =EXP($DF$6+($DF$7-$DF$6)*((LN($DF$1-A24))-$DF$9)/($DF$10-$DF$9)) -> 1.1841759
A25: 12 | CC25: 12 | CD25: =EXP($CD$6+($CD$7-$CD$6)*((LN($CD$1-A25))-$CD$9)/($CD$10-$CD$9)) -> 489.09285 | CE25: =EXP($CE$6+($CE$7-$CE$6)*((LN($CE$1-A25))-$CE$9)/($CE$10-$CE$9)) -> 445.64145 | CF25: =EXP($CF$6+($CF$7-$CF$6)*((LN($CF$1-A25))-$CF$9)/($CF$10-$CF$9)) -> 247.61353 | CG25: =EXP($CG$6+($CG$7-$CG$6)*((LN($CG$1-A25))-$CG$9)/($CG$10-$CG$9)) -> 177.93929 | CH25: =EXP($CH$6+($CH$7-$CH$6)*((LN($CH$1-A25))-$CH$9)/($CH$10-$CH$9)) -> 142.27653 | CI25: =EXP($CI$6+($CI$7-$CI$6)*((LN($CI$1-A25))-$CI$9)/($CI$10-$CI$9)) -> 119.88916 | CJ25: =EXP($CJ$6+($CJ$7-$CJ$6)*((LN($CJ$1-A25))-$CJ$9)/($CJ$10-$CJ$9)) -> 104.3125 | CK25: =EXP($CK$6+($CK$7-$CK$6)*((LN($CK$1-A25))-$CK$9)/($CK$10-$CK$9)) -> 92.770383 | CL25: =EXP($CL$6+($CL$7-$CL$6)*((LN($CL$1-A25))-$CL$9)/($CL$10-$CL$9)) -> 83.831241 | CM25: =EXP($CM$6+($CM$7-$CM$6)*((LN($CM$1-A25))-$CM$9)/($CM$10-$CM$9)) -> 76.677298 | CN25: =EXP($CN$6+($CN$7-$CN$6)*((LN($CN$1-A25))-$CN$9)/($CN$10-$CN$9)) -> 70.805336 | CO25: =EXP($CO$6+($CO$7-$CO$6)*((LN($CO$1-A25))-$CO$9)/($CO$10-$CO$9)) -> 38.163164 | CP25: =EXP($CP$6+($CP$7-$CP$6)*((LN($CP$1-A25))-$CP$9)/($CP$10-$CP$9)) -> 26.5 | CQ25: =EXP($CQ$6+($CQ$7-$CQ$6)*((LN($CQ$1-A25))-$CQ$9)/($CQ$10-$CQ$9)) -> 23.379437 | CR25: =EXP($CR$6+($CR$7-$CR$6)*((LN($CR$1-A25))-$CR$9)/($CR$10-$CR$9)) -> 21.186954 | CS25: =EXP($CS$6+($CS$7-$CS$6)*((LN($CS$1-A25))-$CS$9)/($CS$10-$CS$9)) -> 19.54987 | CT25: =EXP($CT$6+($CT$7-$CT$6)*((LN($CT$1-A25))-$CT$9)/($CT$10-$CT$9)) -> 18.265248 | CU25: =EXP($CU$6+($CU$7-$CU$6)*((LN($CU$1-A25))-$CU$9)/($CU$10-$CU$9)) -> 17.221146 | CV25: =EXP($CV$6+($CV$7-$CV$6)*((LN($CV$1-A25))-$CV$9)/($CV$10-$CV$9)) -> 16.349998 | CW25: =EXP($CW$6+($CW$7-$CW$6)*((LN($CW$1-A25))-$CW$9)/($CW$10-$CW$9)) -> 15.608246 | CX25: =EXP($CX$6+($CX$7-$CX$6)*((LN($CX$1-A25))-$CX$9)/($CX$10-$CX$9)) -> 8.5585037 | CY25: =EXP($CY$6+($CY$7-$CY$6)*((LN($CY$1-A25))-$CY$9)/($CY$10-$CY$9)) -> 6.0210878 | CZ25: =EXP($CZ$6+($CZ$7-$CZ$6)*((LN($CZ$1-A25))-$CZ$9)/($CZ$10-$CZ$9)) -> 4.0828612 | DA25: =EXP($DA$6+($DA$7-$DA$6)*((LN($DA$1-A25))-$DA$9)/($DA$10-$DA$9)) -> 3.0202843 | DB25: =EXP($DB$6+($DB$7-$DB$6)*((LN($DB$1-A25))-$DB$9)/($DB$10-$DB$9)) -> 2.3609474 | DC25: =EXP($DC$6+($DC$7-$DC$6)*((LN($DC$1-A25))-$DC$9)/($DC$10-$DC$9)) -> 1.917144 | DD25: =EXP($DD$6+($DD$7-$DD$6)*((LN($DD$1-A25))-$DD$9)/($DD$10-$DD$9)) -> 1.6007418 | DE25: =EXP($DE$6+($DE$7-$DE$6)*((LN($DE$1-A25))-$DE$9)/($DE$10-$DE$9)) -> 1.3652984 | DF25: =EXP($DF$6+($DF$7-$DF$6)*((LN($DF$1-A25))-$DF$9)/($DF$10-$DF$9)) -> 1.1841919
... A73: 60 | CC73: 60 | CD73: =EXP($CD$6+($CD$7-$CD$6)*((LN($CD$1-A73))-$CD$9)/($CD$10-$CD$9)) -> 1022 | CE73: =EXP($CE$6+($CE$7-$CE$6)*((LN($CE$1-A73))-$CE$9)/($CE$10-$CE$9)) -> 818.63153 | CF73: =EXP($CF$6+($CF$7-$CF$6)*((LN($CF$1-A73))-$CF$9)/($CF$10-$CF$9)) -> 311.14293 | CG73: =EXP($CG$6+($CG$7-$CG$6)*((LN($CG$1-A73))-$CG$9)/($CG$10-$CG$9)) -> 204.93404 | CH73: =EXP($CH$6+($CH$7-$CH$6)*((LN($CH$1-A73))-$CH$9)/($CH$10-$CH$9)) -> 157.01942 | CI73: =EXP($CI$6+($CI$7-$CI$6)*((LN($CI$1-A73))-$CI$9)/($CI$10-$CI$9)) -> 129.52476 | CJ73: =EXP($CJ$6+($CJ$7-$CJ$6)*((LN($CJ$1-A73))-$CJ$9)/($CJ$10-$CJ$9)) -> 111.16002 | CK73: =EXP($CK$6+($CK$7-$CK$6)*((LN($CK$1-A73))-$CK$9)/($CK$10-$CK$9)) -> 97.917244 | CL73: =EXP($CL$6+($CL$7-$CL$6)*((LN($CL$1-A73))-$CL$9)/($CL$10-$CL$9)) -> 87.858585 | CM73: =EXP($CM$6+($CM$7-$CM$6)*((LN($CM$1-A73))-$CM$9)/($CM$10-$CM$9)) -> 79.925473 | CN73: =EXP($CN$6+($CN$7-$CN$6)*((LN($CN$1-A73))-$CN$9)/($CN$10-$CN$9)) -> 73.487666 | CO73: =EXP($CO$6+($CO$7-$CO$6)*((LN($CO$1-A73))-$CO$9)/($CO$10-$CO$9)) -> 38.998947 | CP73: =EXP($CP$6+($CP$7-$CP$6)*((LN($CP$1-A73))-$CP$9)/($CP$10-$CP$9)) -> 26.5 | CQ73: =EXP($CQ$6+($CQ$7-$CQ$6)*((LN($CQ$1-A73))-$CQ$9)/($CQ$10-$CQ$9)) -> 23.504365 | CR73: =EXP($CR$6+($CR$7-$CR$6)*((LN($CR$1-A73))-$CR$9)/($CR$10-$CR$9)) -> 21.277311 | CS73: =EXP($CS$6+($CS$7-$CS$6)*((LN($CS$1-A73))-$CS$9)/($CS$10-$CS$9)) -> 19.619241 | CT73: =EXP($CT$6+($CT$7-$CT$6)*((LN($CT$1-A73))-$CT$9)/($CT$10-$CT$9)) -> 18.32074 | CU73: =EXP($CU$6+($CU$7-$CU$6)*((LN($CU$1-A73))-$CU$9)/($CU$10-$CU$9)) -> 17.266887 | CV73: =EXP($CV$6+($CV$7-$CV$6)*((LN($CV$1-A73))-$CV$9)/($CV$10-$CV$9)) -> 16.388574 | CW73: =EXP($CW$6+($CW$7-$CW$6)*((LN($CW$1-A73))-$CW$9)/($CW$10-$CW$9)) -> 15.641373 | CX73: =EXP($CX$6+($CX$7-$CX$6)*((LN($CX$1-A73))-$CX$9)/($CX$10-$CX$9)) -> 8.5763602 | CY73: =EXP($CY$6+($CY$7-$CY$6)*((LN($CY$1-A73))-$CY$9)/($CY$10-$CY$9)) -> 6.0294549 | CZ73: =EXP($CZ$6+($CZ$7-$CZ$6)*((LN($CZ$1-A73))-$CZ$9)/($CZ$10-$CZ$9)) -> 4.0894895 | DA73: =EXP($DA$6+($DA$7-$DA$6)*((LN($DA$1-A73))-$DA$9)/($DA$10-$DA$9)) -> 3.0242056 | DB73: =EXP($DB$6+($DB$7-$DB$6)*((LN($DB$1-A73))-$DB$9)/($DB$10-$DB$9)) -> 2.3635012 | DC73: =EXP($DC$6+($DC$7-$DC$6)*((LN($DC$1-A73))-$DC$9)/($DC$10-$DC$9)) -> 1.9189212 | DD73: =EXP($DD$6+($DD$7-$DD$6)*((LN($DD$1-A73))-$DD$9)/($DD$10-$DD$9)) -> 1.60204 | DE73: =EXP($DE$6+($DE$7-$DE$6)*((LN($DE$1-A73))-$DE$9)/($DE$10-$DE$9)) -> 1.3662826 | DF73: =EXP($DF$6+($DF$7-$DF$6)*((LN($DF$1-A73))-$DF$9)/($DF$10-$DF$9)) -> 1.1849601
A74: 61 | CC74: 61 | CD74: =AD$2 -> 1035.8325 | CE74: =EXP($CE$6+($CE$7-$CE$6)*((LN($CE$1-A74))-$CE$9)/($CE$10-$CE$9)) -> 834.77409 | CF74: =EXP($CF$6+($CF$7-$CF$6)*((LN($CF$1-A74))-$CF$9)/($CF$10-$CF$9)) -> 312.87566 | CG74: =EXP($CG$6+($CG$7-$CG$6)*((LN($CG$1-A74))-$CG$9)/($CG$10-$CG$9)) -> 205.59801 | CH74: =EXP($CH$6+($CH$7-$CH$6)*((LN($CH$1-A74))-$CH$9)/($CH$10-$CH$9)) -> 157.36511 | CI74: =EXP($CI$6+($CI$7-$CI$6)*((LN($CI$1-A74))-$CI$9)/($CI$10-$CI$9)) -> 129.74498 | CJ74: =EXP($CJ$6+($CJ$7-$CJ$6)*((LN($CJ$1-A74))-$CJ$9)/($CJ$10-$CJ$9)) -> 111.31396 | CK74: =EXP($CK$6+($CK$7-$CK$6)*((LN($CK$1-A74))-$CK$9)/($CK$10-$CK$9)) -> 98.031628 | CL74: =EXP($CL$6+($CL$7-$CL$6)*((LN($CL$1-A74))-$CL$9)/($CL$10-$CL$9)) -> 87.947333 | CM74: =EXP($CM$6+($CM$7-$CM$6)*((LN($CM$1-A74))-$CM$9)/($CM$10-$CM$9)) -> 79.996586 | CN74: =EXP($CN$6+($CN$7-$CN$6)*((LN($CN$1-A74))-$CN$9)/($CN$10-$CN$9)) -> 73.546089 | CO74: =EXP($CO$6+($CO$7-$CO$6)*((LN($CO$1-A74))-$CO$9)/($CO$10-$CO$9)) -> 39.016774 | CP74: =EXP($CP$6+($CP$7-$CP$6)*((LN($CP$1-A74))-$CP$9)/($CP$10-$CP$9)) -> 26.5 | CQ74: =EXP($CQ$6+($CQ$7-$CQ$6)*((LN($CQ$1-A74))-$CQ$9)/($CQ$10-$CQ$9)) -> 23.506991 | CR74: =EXP($CR$6+($CR$7-$CR$6)*((LN($CR$1-A74))-$CR$9)/($CR$10-$CR$9)) -> 21.279207 | CS74: =EXP($CS$6+($CS$7-$CS$6)*((LN($CS$1-A74))-$CS$9)/($CS$10-$CS$9)) -> 19.620695 | CT74: =EXP($CT$6+($CT$7-$CT$6)*((LN($CT$1-A74))-$CT$9)/($CT$10-$CT$9)) -> 18.321902 | CU74: =EXP($CU$6+($CU$7-$CU$6)*((LN($CU$1-A74))-$CU$9)/($CU$10-$CU$9)) -> 17.267844 | CV74: =EXP($CV$6+($CV$7-$CV$6)*((LN($CV$1-A74))-$CV$9)/($CV$10-$CV$9)) -> 16.389381 | CW74: =EXP($CW$6+($CW$7-$CW$6)*((LN($CW$1-A74))-$CW$9)/($CW$10-$CW$9)) -> 15.642065 | CX74: =EXP($CX$6+($CX$7-$CX$6)*((LN($CX$1-A74))-$CX$9)/($CX$10-$CX$9)) -> 8.5767331 | CY74: =EXP($CY$6+($CY$7-$CY$6)*((LN($CY$1-A74))-$CY$9)/($CY$10-$CY$9)) -> 6.0296294 | CZ74: =EXP($CZ$6+($CZ$7-$CZ$6)*((LN($CZ$1-A74))-$CZ$9)/($CZ$10-$CZ$9)) -> 4.0896278 | DA74: =EXP($DA$6+($DA$7-$DA$6)*((LN($DA$1-A74))-$DA$9)/($DA$10-$DA$9)) -> 3.0242874 | DB74: =EXP($DB$6+($DB$7-$DB$6)*((LN($DB$1-A74))-$DB$9)/($DB$10-$DB$9)) -> 2.3635545 | DC74: =EXP($DC$6+($DC$7-$DC$6)*((LN($DC$1-A74))-$DC$9)/($DC$10-$DC$9)) -> 1.9189582 | DD74: =EXP($DD$6+($DD$7-$DD$6)*((LN($DD$1-A74))-$DD$9)/($DD$10-$DD$9)) -> 1.6020671 | DE74: =EXP($DE$6+($DE$7-$DE$6)*((LN($DE$1-A74))-$DE$9)/($DE$10-$DE$9)) -> 1.3663031 | DF74: =EXP($DF$6+($DF$7-$DF$6)*((LN($DF$1-A74))-$DF$9)/($DF$10-$DF$9)) -> 1.1849761
A75: 62 | CC75: 62 | CD75: =AC$2 -> 1050.3476 | CE75: =EXP($CE$6+($CE$7-$CE$6)*((LN($CE$1-A75))-$CE$9)/($CE$10-$CE$9)) -> 851.66686 | CF75: =EXP($CF$6+($CF$7-$CF$6)*((LN($CF$1-A75))-$CF$9)/($CF$10-$CF$9)) -> 314.63066 | CG75: =EXP($CG$6+($CG$7-$CG$6)*((LN($CG$1-A75))-$CG$9)/($CG$10-$CG$9)) -> 206.26693 | CH75: =EXP($CH$6+($CH$7-$CH$6)*((LN($CH$1-A75))-$CH$9)/($CH$10-$CH$9)) -> 157.71258 | CI75: =EXP($CI$6+($CI$7-$CI$6)*((LN($CI$1-A75))-$CI$9)/($CI$10-$CI$9)) -> 129.96607 | CJ75: =EXP($CJ$6+($CJ$7-$CJ$6)*((LN($CJ$1-A75))-$CJ$9)/($CJ$10-$CJ$9)) -> 111.4684 | CK75: =EXP($CK$6+($CK$7-$CK$6)*((LN($CK$1-A75))-$CK$9)/($CK$10-$CK$9)) -> 98.146325 | CL75: =EXP($CL$6+($CL$7-$CL$6)*((LN($CL$1-A75))-$CL$9)/($CL$10-$CL$9)) -> 88.036291 | CM75: =EXP($CM$6+($CM$7-$CM$6)*((LN($CM$1-A75))-$CM$9)/($CM$10-$CM$9)) -> 80.067848 | CN75: =EXP($CN$6+($CN$7-$CN$6)*((LN($CN$1-A75))-$CN$9)/($CN$10-$CN$9)) -> 73.60462 | CO75: =EXP($CO$6+($CO$7-$CO$6)*((LN($CO$1-A75))-$CO$9)/($CO$10-$CO$9)) -> 39.034618 | CP75: =EXP($CP$6+($CP$7-$CP$6)*((LN($CP$1-A75))-$CP$9)/($CP$10-$CP$9)) -> 26.5 | CQ75: =EXP($CQ$6+($CQ$7-$CQ$6)*((LN($CQ$1-A75))-$CQ$9)/($CQ$10-$CQ$9)) -> 23.509618 | CR75: =EXP($CR$6+($CR$7-$CR$6)*((LN($CR$1-A75))-$CR$9)/($CR$10-$CR$9)) -> 21.281103 | CS75: =EXP($CS$6+($CS$7-$CS$6)*((LN($CS$1-A75))-$CS$9)/($CS$10-$CS$9)) -> 19.622149 | CT75: =EXP($CT$6+($CT$7-$CT$6)*((LN($CT$1-A75))-$CT$9)/($CT$10-$CT$9)) -> 18.323064 | CU75: =EXP($CU$6+($CU$7-$CU$6)*((LN($CU$1-A75))-$CU$9)/($CU$10-$CU$9)) -> 17.268801 | CV75: =EXP($CV$6+($CV$7-$CV$6)*((LN($CV$1-A75))-$CV$9)/($CV$10-$CV$9)) -> 16.390188 | CW75: =EXP($CW$6+($CW$7-$CW$6)*((LN($CW$1-A75))-$CW$9)/($CW$10-$CW$9)) -> 15.642758 | CX75: =EXP($CX$6+($CX$7-$CX$6)*((LN($CX$1-A75))-$CX$9)/($CX$10-$CX$9)) -> 8.577106 | CY75: =EXP($CY$6+($CY$7-$CY$6)*((LN($CY$1-A75))-$CY$9)/($CY$10-$CY$9)) -> 6.029804 | CZ75: =EXP($CZ$6+($CZ$7-$CZ$6)*((LN($CZ$1-A75))-$CZ$9)/($CZ$10-$CZ$9)) -> 4.0897661 | DA75: =EXP($DA$6+($DA$7-$DA$6)*((LN($DA$1-A75))-$DA$9)/($DA$10-$DA$9)) -> 3.0243692 | DB75: =EXP($DB$6+($DB$7-$DB$6)*((LN($DB$1-A75))-$DB$9)/($DB$10-$DB$9)) -> 2.3636077 | DC75: =EXP($DC$6+($DC$7-$DC$6)*((LN($DC$1-A75))-$DC$9)/($DC$10-$DC$9)) -> 1.9189953 | DD75: =EXP($DD$6+($DD$7-$DD$6)*((LN($DD$1-A75))-$DD$9)/($DD$10-$DD$9)) -> 1.6020941 | DE75: =EXP($DE$6+($DE$7-$DE$6)*((LN($DE$1-A75))-$DE$9)/($DE$10-$DE$9)) -> 1.3663236 | DF75: =EXP($DF$6+($DF$7-$DF$6)*((LN($DF$1-A75))-$DF$9)/($DF$10-$DF$9)) -> 1.1849921
A76: 63 | CC76: 63 | CD76: =AB$2 -> 1065.6053 | CE76: =EXP($CE$6+($CE$7-$CE$6)*((LN($CE$1-A76))-$CE$9)/($CE$10-$CE$9)) -> 869.36587 | CF76: =EXP($CF$6+($CF$7-$CF$6)*((LN($CF$1-A76))-$CF$9)/($CF$10-$CF$9)) -> 316.40837 | CG76: =EXP($CG$6+($CG$7-$CG$6)*((LN($CG$1-A76))-$CG$9)/($CG$10-$CG$9)) -> 206.94086 | CH76: =EXP($CH$6+($CH$7-$CH$6)*((LN($CH$1-A76))-$CH$9)/($CH$10-$CH$9)) -> 158.06185 | CI76: =EXP($CI$6+($CI$7-$CI$6)*((LN($CI$1-A76))-$CI$9)/($CI$10-$CI$9)) -> 130.18806 | CJ76: =EXP($CJ$6+($CJ$7-$CJ$6)*((LN($CJ$1-A76))-$CJ$9)/($CJ$10-$CJ$9)) -> 111.62334 | CK76: =EXP($CK$6+($CK$7-$CK$6)*((LN($CK$1-A76))-$CK$9)/($CK$10-$CK$9)) -> 98.261337 | CL76: =EXP($CL$6+($CL$7-$CL$6)*((LN($CL$1-A76))-$CL$9)/($CL$10-$CL$9)) -> 88.125459 | CM76: =EXP($CM$6+($CM$7-$CM$6)*((LN($CM$1-A76))-$CM$9)/($CM$10-$CM$9)) -> 80.139258 | CN76: =EXP($CN$6+($CN$7-$CN$6)*((LN($CN$1-A76))-$CN$9)/($CN$10-$CN$9)) -> 73.663261 | CO76: =EXP($CO$6+($CO$7-$CO$6)*((LN($CO$1-A76))-$CO$9)/($CO$10-$CO$9)) -> 39.05248 | CP76: =EXP($CP$6+($CP$7-$CP$6)*((LN($CP$1-A76))-$CP$9)/($CP$10-$CP$9)) -> 26.5 | CQ76: =EXP($CQ$6+($CQ$7-$CQ$6)*((LN($CQ$1-A76))-$CQ$9)/($CQ$10-$CQ$9)) -> 23.512246 | CR76: =EXP($CR$6+($CR$7-$CR$6)*((LN($CR$1-A76))-$CR$9)/($CR$10-$CR$9)) -> 21.283 | CS76: =EXP($CS$6+($CS$7-$CS$6)*((LN($CS$1-A76))-$CS$9)/($CS$10-$CS$9)) -> 19.623603 | CT76: =EXP($CT$6+($CT$7-$CT$6)*((LN($CT$1-A76))-$CT$9)/($CT$10-$CT$9)) -> 18.324226 | CU76: =EXP($CU$6+($CU$7-$CU$6)*((LN($CU$1-A76))-$CU$9)/($CU$10-$CU$9)) -> 17.269759 | CV76: =EXP($CV$6+($CV$7-$CV$6)*((LN($CV$1-A76))-$CV$9)/($CV$10-$CV$9)) -> 16.390995 | CW76: =EXP($CW$6+($CW$7-$CW$6)*((LN($CW$1-A76))-$CW$9)/($CW$10-$CW$9)) -> 15.643451 | CX76: =EXP($CX$6+($CX$7-$CX$6)*((LN($CX$1-A76))-$CX$9)/($CX$10-$CX$9)) -> 8.5774789 | CY76: =EXP($CY$6+($CY$7-$CY$6)*((LN($CY$1-A76))-$CY$9)/($CY$10-$CY$9)) -> 6.0299786 | CZ76: =EXP($CZ$6+($CZ$7-$CZ$6)*((LN($CZ$1-A76))-$CZ$9)/($CZ$10-$CZ$9)) -> 4.0899044 | DA76: =EXP($DA$6+($DA$7-$DA$6)*((LN($DA$1-A76))-$DA$9)/($DA$10-$DA$9)) -> 3.0244509 | DB76: =EXP($DB$6+($DB$7-$DB$6)*((LN($DB$1-A76))-$DB$9)/($DB$10-$DB$9)) -> 2.363661 | DC76: =EXP($DC$6+($DC$7-$DC$6)*((LN($DC$1-A76))-$DC$9)/($DC$10-$DC$9)) -> 1.9190323 | DD76: =EXP($DD$6+($DD$7-$DD$6)*((LN($DD$1-A76))-$DD$9)/($DD$10-$DD$9)) -> 1.6021212 | DE76: =EXP($DE$6+($DE$7-$DE$6)*((LN($DE$1-A76))-$DE$9)/($DE$10-$DE$9)) -> 1.3663441 | DF76: =EXP($DF$6+($DF$7-$DF$6)*((LN($DF$1-A76))-$DF$9)/($DF$10-$DF$9)) -> 1.1850081
A77: 64 | CC77: 64 | CD77: =AA$2 -> 1081.6734 | CE77: =EXP($CE$6+($CE$7-$CE$6)*((LN($CE$1-A77))-$CE$9)/($CE$10-$CE$9)) -> 887.93298 | CF77: =EXP($CF$6+($CF$7-$CF$6)*((LN($CF$1-A77))-$CF$9)/($CF$10-$CF$9)) -> 318.20927 | CG77: =EXP($CG$6+($CG$7-$CG$6)*((LN($CG$1-A77))-$CG$9)/($CG$10-$CG$9)) -> 207.61985 | CH77: =EXP($CH$6+($CH$7-$CH$6)*((LN($CH$1-A77))-$CH$9)/($CH$10-$CH$9)) -> 158.41294 | CI77: =EXP($CI$6+($CI$7-$CI$6)*((LN($CI$1-A77))-$CI$9)/($CI$10-$CI$9)) -> 130.41093 | CJ77: =EXP($CJ$6+($CJ$7-$CJ$6)*((LN($CJ$1-A77))-$CJ$9)/($CJ$10-$CJ$9)) -> 111.77878 | CK77: =EXP($CK$6+($CK$7-$CK$6)*((LN($CK$1-A77))-$CK$9)/($CK$10-$CK$9)) -> 98.376664 | CL77: =EXP($CL$6+($CL$7-$CL$6)*((LN($CL$1-A77))-$CL$9)/($CL$10-$CL$9)) -> 88.21484 | CM77: =EXP($CM$6+($CM$7-$CM$6)*((LN($CM$1-A77))-$CM$9)/($CM$10-$CM$9)) -> 80.210817 | CN77: =EXP($CN$6+($CN$7-$CN$6)*((LN($CN$1-A77))-$CN$9)/($CN$10-$CN$9)) -> 73.722011 | CO77: =EXP($CO$6+($CO$7-$CO$6)*((LN($CO$1-A77))-$CO$9)/($CO$10-$CO$9)) -> 39.070359 | CP77: =EXP($CP$6+($CP$7-$CP$6)*((LN($CP$1-A77))-$CP$9)/($CP$10-$CP$9)) -> 26.5 | CQ77: =EXP($CQ$6+($CQ$7-$CQ$6)*((LN($CQ$1-A77))-$CQ$9)/($CQ$10-$CQ$9)) -> 23.514875 | CR77: =EXP($CR$6+($CR$7-$CR$6)*((LN($CR$1-A77))-$CR$9)/($CR$10-$CR$9)) -> 21.284898 | CS77: =EXP($CS$6+($CS$7-$CS$6)*((LN($CS$1-A77))-$CS$9)/($CS$10-$CS$9)) -> 19.625058 | CT77: =EXP($CT$6+($CT$7-$CT$6)*((LN($CT$1-A77))-$CT$9)/($CT$10-$CT$9)) -> 18.325389 | CU77: =EXP($CU$6+($CU$7-$CU$6)*((LN($CU$1-A77))-$CU$9)/($CU$10-$CU$9)) -> 17.270717 | CV77: =EXP($CV$6+($CV$7-$CV$6)*((LN($CV$1-A77))-$CV$9)/($CV$10-$CV$9)) -> 16.391802 | CW77: =EXP($CW$6+($CW$7-$CW$6)*((LN($CW$1-A77))-$CW$9)/($CW$10-$CW$9)) -> 15.644144 | CX77: =EXP($CX$6+($CX$7-$CX$6)*((LN($CX$1-A77))-$CX$9)/($CX$10-$CX$9)) -> 8.5778519 | CY77: =EXP($CY$6+($CY$7-$CY$6)*((LN($CY$1-A77))-$CY$9)/($CY$10-$CY$9)) -> 6.0301532 | CZ77: =EXP($CZ$6+($CZ$7-$CZ$6)*((LN($CZ$1-A77))-$CZ$9)/($CZ$10-$CZ$9)) -> 4.0900427 | DA77: =EXP($DA$6+($DA$7-$DA$6)*((LN($DA$1-A77))-$DA$9)/($DA$10-$DA$9)) -> 3.0245327 | DB77: =EXP($DB$6+($DB$7-$DB$6)*((LN($DB$1-A77))-$DB$9)/($DB$10-$DB$9)) -> 2.3637142 | DC77: =EXP($DC$6+($DC$7-$DC$6)*((LN($DC$1-A77))-$DC$9)/($DC$10-$DC$9)) -> 1.9190694 | DD77: =EXP($DD$6+($DD$7-$DD$6)*((LN($DD$1-A77))-$DD$9)/($DD$10-$DD$9)) -> 1.6021483 | DE77: =EXP($DE$6+($DE$7-$DE$6)*((LN($DE$1-A77))-$DE$9)/($DE$10-$DE$9)) -> 1.3663646 | DF77: =EXP($DF$6+($DF$7-$DF$6)*((LN($DF$1-A77))-$DF$9)/($DF$10-$DF$9)) -> 1.1850242
A78: 65 | CC78: 65 | CD78: =Z$2 -> 1098.6285 | CE78: =EXP($CE$6+($CE$7-$CE$6)*((LN($CE$1-A78))-$CE$9)/($CE$10-$CE$9)) -> 907.43672 | CF78: =EXP($CF$6+($CF$7-$CF$6)*((LN($CF$1-A78))-$CF$9)/($CF$10-$CF$9)) -> 320.03381 | CG78: =EXP($CG$6+($CG$7-$CG$6)*((LN($CG$1-A78))-$CG$9)/($CG$10-$CG$9)) -> 208.30397 | CH78: =EXP($CH$6+($CH$7-$CH$6)*((LN($CH$1-A78))-$CH$9)/($CH$10-$CH$9)) -> 158.76586 | CI78: =EXP($CI$6+($CI$7-$CI$6)*((LN($CI$1-A78))-$CI$9)/($CI$10-$CI$9)) -> 130.63469 | CJ78: =EXP($CJ$6+($CJ$7-$CJ$6)*((LN($CJ$1-A78))-$CJ$9)/($CJ$10-$CJ$9)) -> 111.93474 | CK78: =EXP($CK$6+($CK$7-$CK$6)*((LN($CK$1-A78))-$CK$9)/($CK$10-$CK$9)) -> 98.492308 | CL78: =EXP($CL$6+($CL$7-$CL$6)*((LN($CL$1-A78))-$CL$9)/($CL$10-$CL$9)) -> 88.304432 | CM78: =EXP($CM$6+($CM$7-$CM$6)*((LN($CM$1-A78))-$CM$9)/($CM$10-$CM$9)) -> 80.282526 | CN78: =EXP($CN$6+($CN$7-$CN$6)*((LN($CN$1-A78))-$CN$9)/($CN$10-$CN$9)) -> 73.780871 | CO78: =EXP($CO$6+($CO$7-$CO$6)*((LN($CO$1-A78))-$CO$9)/($CO$10-$CO$9)) -> 39.088255 | CP78: =EXP($CP$6+($CP$7-$CP$6)*((LN($CP$1-A78))-$CP$9)/($CP$10-$CP$9)) -> 26.5 | CQ78: =EXP($CQ$6+($CQ$7-$CQ$6)*((LN($CQ$1-A78))-$CQ$9)/($CQ$10-$CQ$9)) -> 23.517504 | CR78: =EXP($CR$6+($CR$7-$CR$6)*((LN($CR$1-A78))-$CR$9)/($CR$10-$CR$9)) -> 21.286796 | CS78: =EXP($CS$6+($CS$7-$CS$6)*((LN($CS$1-A78))-$CS$9)/($CS$10-$CS$9)) -> 19.626513 | CT78: =EXP($CT$6+($CT$7-$CT$6)*((LN($CT$1-A78))-$CT$9)/($CT$10-$CT$9)) -> 18.326552 | CU78: =EXP($CU$6+($CU$7-$CU$6)*((LN($CU$1-A78))-$CU$9)/($CU$10-$CU$9)) -> 17.271674 | CV78: =EXP($CV$6+($CV$7-$CV$6)*((LN($CV$1-A78))-$CV$9)/($CV$10-$CV$9)) -> 16.39261 | CW78: =EXP($CW$6+($CW$7-$CW$6)*((LN($CW$1-A78))-$CW$9)/($CW$10-$CW$9)) -> 15.644837 | CX78: =EXP($CX$6+($CX$7-$CX$6)*((LN($CX$1-A78))-$CX$9)/($CX$10-$CX$9)) -> 8.5782249 | CY78: =EXP($CY$6+($CY$7-$CY$6)*((LN($CY$1-A78))-$CY$9)/($CY$10-$CY$9)) -> 6.0303279 | CZ78: =EXP($CZ$6+($CZ$7-$CZ$6)*((LN($CZ$1-A78))-$CZ$9)/($CZ$10-$CZ$9)) -> 4.090181 | DA78: =EXP($DA$6+($DA$7-$DA$6)*((LN($DA$1-A78))-$DA$9)/($DA$10-$DA$9)) -> 3.0246145 | DB78: =EXP($DB$6+($DB$7-$DB$6)*((LN($DB$1-A78))-$DB$9)/($DB$10-$DB$9)) -> 2.3637675 | DC78: =EXP($DC$6+($DC$7-$DC$6)*((LN($DC$1-A78))-$DC$9)/($DC$10-$DC$9)) -> 1.9191065 | DD78: =EXP($DD$6+($DD$7-$DD$6)*((LN($DD$1-A78))-$DD$9)/($DD$10-$DD$9)) -> 1.6021753 | DE78: =EXP($DE$6+($DE$7-$DE$6)*((LN($DE$1-A78))-$DE$9)/($DE$10-$DE$9)) -> 1.3663852 | DF78: =EXP($DF$6+($DF$7-$DF$6)*((LN($DF$1-A78))-$DF$9)/($DF$10-$DF$9)) -> 1.1850402
A79: 66 | CC79: 66 | CD79: =Y$2 -> 1116.5581 | CE79: =EXP($CE$6+($CE$7-$CE$6)*((LN($CE$1-A79))-$CE$9)/($CE$10-$CE$9)) -> 927.95316 | CF79: =EXP($CF$6+($CF$7-$CF$6)*((LN($CF$1-A79))-$CF$9)/($CF$10-$CF$9)) -> 321.8825 | CG79: =EXP($CG$6+($CG$7-$CG$6)*((LN($CG$1-A79))-$CG$9)/($CG$10-$CG$9)) -> 208.99327 | CH79: =EXP($CH$6+($CH$7-$CH$6)*((LN($CH$1-A79))-$CH$9)/($CH$10-$CH$9)) -> 159.12062 | CI79: =EXP($CI$6+($CI$7-$CI$6)*((LN($CI$1-A79))-$CI$9)/($CI$10-$CI$9)) -> 130.85935 | CJ79: =EXP($CJ$6+($CJ$7-$CJ$6)*((LN($CJ$1-A79))-$CJ$9)/($CJ$10-$CJ$9)) -> 112.0912 | CK79: =EXP($CK$6+($CK$7-$CK$6)*((LN($CK$1-A79))-$CK$9)/($CK$10-$CK$9)) -> 98.608271 | CL79: =EXP($CL$6+($CL$7-$CL$6)*((LN($CL$1-A79))-$CL$9)/($CL$10-$CL$9)) -> 88.394238 | CM79: =EXP($CM$6+($CM$7-$CM$6)*((LN($CM$1-A79))-$CM$9)/($CM$10-$CM$9)) -> 80.354385 | CN79: =EXP($CN$6+($CN$7-$CN$6)*((LN($CN$1-A79))-$CN$9)/($CN$10-$CN$9)) -> 73.839841 | CO79: =EXP($CO$6+($CO$7-$CO$6)*((LN($CO$1-A79))-$CO$9)/($CO$10-$CO$9)) -> 39.106169 | CP79: =EXP($CP$6+($CP$7-$CP$6)*((LN($CP$1-A79))-$CP$9)/($CP$10-$CP$9)) -> 26.5 | CQ79: =EXP($CQ$6+($CQ$7-$CQ$6)*((LN($CQ$1-A79))-$CQ$9)/($CQ$10-$CQ$9)) -> 23.520135 | CR79: =EXP($CR$6+($CR$7-$CR$6)*((LN($CR$1-A79))-$CR$9)/($CR$10-$CR$9)) -> 21.288694 | CS79: =EXP($CS$6+($CS$7-$CS$6)*((LN($CS$1-A79))-$CS$9)/($CS$10-$CS$9)) -> 19.627969 | CT79: =EXP($CT$6+($CT$7-$CT$6)*((LN($CT$1-A79))-$CT$9)/($CT$10-$CT$9)) -> 18.327715 | CU79: =EXP($CU$6+($CU$7-$CU$6)*((LN($CU$1-A79))-$CU$9)/($CU$10-$CU$9)) -> 17.272632 | CV79: =EXP($CV$6+($CV$7-$CV$6)*((LN($CV$1-A79))-$CV$9)/($CV$10-$CV$9)) -> 16.393417 | CW79: =EXP($CW$6+($CW$7-$CW$6)*((LN($CW$1-A79))-$CW$9)/($CW$10-$CW$9)) -> 15.64553 | CX79: =EXP($CX$6+($CX$7-$CX$6)*((LN($CX$1-A79))-$CX$9)/($CX$10-$CX$9)) -> 8.5785979 | CY79: =EXP($CY$6+($CY$7-$CY$6)*((LN($CY$1-A79))-$CY$9)/($CY$10-$CY$9)) -> 6.0305025 | CZ79: =EXP($CZ$6+($CZ$7-$CZ$6)*((LN($CZ$1-A79))-$CZ$9)/($CZ$10-$CZ$9)) -> 4.0903193 | DA79: =EXP($DA$6+($DA$7-$DA$6)*((LN($DA$1-A79))-$DA$9)/($DA$10-$DA$9)) -> 3.0246964 | DB79: =EXP($DB$6+($DB$7-$DB$6)*((LN($DB$1-A79))-$DB$9)/($DB$10-$DB$9)) -> 2.3638208 | DC79: =EXP($DC$6+($DC$7-$DC$6)*((LN($DC$1-A79))-$DC$9)/($DC$10-$DC$9)) -> 1.9191435 | DD79: =EXP($DD$6+($DD$7-$DD$6)*((LN($DD$1-A79))-$DD$9)/($DD$10-$DD$9)) -> 1.6022024 | DE79: =EXP($DE$6+($DE$7-$DE$6)*((LN($DE$1-A79))-$DE$9)/($DE$10-$DE$9)) -> 1.3664057 | DF79: =EXP($DF$6+($DF$7-$DF$6)*((LN($DF$1-A79))-$DF$9)/($DF$10-$DF$9)) -> 1.1850562
A80: 67 | CC80: 67 | CD80: =X$2 -> 1135.5626 | CE80: =EXP($CE$6+($CE$7-$CE$6)*((LN($CE$1-A80))-$CE$9)/($CE$10-$CE$9)) -> 949.56708 | CF80: =EXP($CF$6+($CF$7-$CF$6)*((LN($CF$1-A80))-$CF$9)/($CF$10-$CF$9)) -> 323.75584 | CG80: =EXP($CG$6+($CG$7-$CG$6)*((LN($CG$1-A80))-$CG$9)/($CG$10-$CG$9)) -> 209.68782 | CH80: =EXP($CH$6+($CH$7-$CH$6)*((LN($CH$1-A80))-$CH$9)/($CH$10-$CH$9)) -> 159.47725 | CI80: =EXP($CI$6+($CI$7-$CI$6)*((LN($CI$1-A80))-$CI$9)/($CI$10-$CI$9)) -> 131.08493 | CJ80: =EXP($CJ$6+($CJ$7-$CJ$6)*((LN($CJ$1-A80))-$CJ$9)/($CJ$10-$CJ$9)) -> 112.24818 | CK80: =EXP($CK$6+($CK$7-$CK$6)*((LN($CK$1-A80))-$CK$9)/($CK$10-$CK$9)) -> 98.724554 | CL80: =EXP($CL$6+($CL$7-$CL$6)*((LN($CL$1-A80))-$CL$9)/($CL$10-$CL$9)) -> 88.484258 | CM80: =EXP($CM$6+($CM$7-$CM$6)*((LN($CM$1-A80))-$CM$9)/($CM$10-$CM$9)) -> 80.426395 | CN80: =EXP($CN$6+($CN$7-$CN$6)*((LN($CN$1-A80))-$CN$9)/($CN$10-$CN$9)) -> 73.898922 | CO80: =EXP($CO$6+($CO$7-$CO$6)*((LN($CO$1-A80))-$CO$9)/($CO$10-$CO$9)) -> 39.124101 | CP80: =EXP($CP$6+($CP$7-$CP$6)*((LN($CP$1-A80))-$CP$9)/($CP$10-$CP$9)) -> 26.5 | CQ80: =EXP($CQ$6+($CQ$7-$CQ$6)*((LN($CQ$1-A80))-$CQ$9)/($CQ$10-$CQ$9)) -> 23.522767 | CR80: =EXP($CR$6+($CR$7-$CR$6)*((LN($CR$1-A80))-$CR$9)/($CR$10-$CR$9)) -> 21.290594 | CS80: =EXP($CS$6+($CS$7-$CS$6)*((LN($CS$1-A80))-$CS$9)/($CS$10-$CS$9)) -> 19.629425 | CT80: =EXP($CT$6+($CT$7-$CT$6)*((LN($CT$1-A80))-$CT$9)/($CT$10-$CT$9)) -> 18.328878 | CU80: =EXP($CU$6+($CU$7-$CU$6)*((LN($CU$1-A80))-$CU$9)/($CU$10-$CU$9)) -> 17.273591 | CV80: =EXP($CV$6+($CV$7-$CV$6)*((LN($CV$1-A80))-$CV$9)/($CV$10-$CV$9)) -> 16.394225 | CW80: =EXP($CW$6+($CW$7-$CW$6)*((LN($CW$1-A80))-$CW$9)/($CW$10-$CW$9)) -> 15.646223 | CX80: =EXP($CX$6+($CX$7-$CX$6)*((LN($CX$1-A80))-$CX$9)/($CX$10-$CX$9)) -> 8.578971 | CY80: =EXP($CY$6+($CY$7-$CY$6)*((LN($CY$1-A80))-$CY$9)/($CY$10-$CY$9)) -> 6.0306771 | CZ80: =EXP($CZ$6+($CZ$7-$CZ$6)*((LN($CZ$1-A80))-$CZ$9)/($CZ$10-$CZ$9)) -> 4.0904577 | DA80: =EXP($DA$6+($DA$7-$DA$6)*((LN($DA$1-A80))-$DA$9)/($DA$10-$DA$9)) -> 3.0247782 | DB80: =EXP($DB$6+($DB$7-$DB$6)*((LN($DB$1-A80))-$DB$9)/($DB$10-$DB$9)) -> 2.363874 | DC80: =EXP($DC$6+($DC$7-$DC$6)*((LN($DC$1-A80))-$DC$9)/($DC$10-$DC$9)) -> 1.9191806 | DD80: =EXP($DD$6+($DD$7-$DD$6)*((LN($DD$1-A80))-$DD$9)/($DD$10-$DD$9)) -> 1.6022295 | DE80: =EXP($DE$6+($DE$7-$DE$6)*((LN($DE$1-A80))-$DE$9)/($DE$10-$DE$9)) -> 1.3664262 | DF80: =EXP($DF$6+($DF$7-$DF$6)*((LN($DF$1-A80))-$DF$9)/($DF$10-$DF$9)) -> 1.1850722
A81: 68 | CC81: 68 | CD81: =W$2 -> 1155.7574 | CE81: =EXP($CE$6+($CE$7-$CE$6)*((LN($CE$1-A81))-$CE$9)/($CE$10-$CE$9)) -> 972.37318 | CF81: =EXP($CF$6+($CF$7-$CF$6)*((LN($CF$1-A81))-$CF$9)/($CF$10-$CF$9)) -> 325.65435 | CG81: =EXP($CG$6+($CG$7-$CG$6)*((LN($CG$1-A81))-$CG$9)/($CG$10-$CG$9)) -> 210.38768 | CH81: =EXP($CH$6+($CH$7-$CH$6)*((LN($CH$1-A81))-$CH$9)/($CH$10-$CH$9)) -> 159.83575 | CI81: =EXP($CI$6+($CI$7-$CI$6)*((LN($CI$1-A81))-$CI$9)/($CI$10-$CI$9)) -> 131.31141 | CJ81: =EXP($CJ$6+($CJ$7-$CJ$6)*((LN($CJ$1-A81))-$CJ$9)/($CJ$10-$CJ$9)) -> 112.40567 | CK81: =EXP($CK$6+($CK$7-$CK$6)*((LN($CK$1-A81))-$CK$9)/($CK$10-$CK$9)) -> 98.841158 | CL81: =EXP($CL$6+($CL$7-$CL$6)*((LN($CL$1-A81))-$CL$9)/($CL$10-$CL$9)) -> 88.574493 | CM81: =EXP($CM$6+($CM$7-$CM$6)*((LN($CM$1-A81))-$CM$9)/($CM$10-$CM$9)) -> 80.498556 | CN81: =EXP($CN$6+($CN$7-$CN$6)*((LN($CN$1-A81))-$CN$9)/($CN$10-$CN$9)) -> 73.958113 | CO81: =EXP($CO$6+($CO$7-$CO$6)*((LN($CO$1-A81))-$CO$9)/($CO$10-$CO$9)) -> 39.14205 | CP81: =EXP($CP$6+($CP$7-$CP$6)*((LN($CP$1-A81))-$CP$9)/($CP$10-$CP$9)) -> 26.5 | CQ81: =EXP($CQ$6+($CQ$7-$CQ$6)*((LN($CQ$1-A81))-$CQ$9)/($CQ$10-$CQ$9)) -> 23.525399 | CR81: =EXP($CR$6+($CR$7-$CR$6)*((LN($CR$1-A81))-$CR$9)/($CR$10-$CR$9)) -> 21.292493 | CS81: =EXP($CS$6+($CS$7-$CS$6)*((LN($CS$1-A81))-$CS$9)/($CS$10-$CS$9)) -> 19.630881 | CT81: =EXP($CT$6+($CT$7-$CT$6)*((LN($CT$1-A81))-$CT$9)/($CT$10-$CT$9)) -> 18.330042 | CU81: =EXP($CU$6+($CU$7-$CU$6)*((LN($CU$1-A81))-$CU$9)/($CU$10-$CU$9)) -> 17.274549 | CV81: =EXP($CV$6+($CV$7-$CV$6)*((LN($CV$1-A81))-$CV$9)/($CV$10-$CV$9)) -> 16.395033 | CW81: =EXP($CW$6+($CW$7-$CW$6)*((LN($CW$1-A81))-$CW$9)/($CW$10-$CW$9)) -> 15.646916 | CX81: =EXP($CX$6+($CX$7-$CX$6)*((LN($CX$1-A81))-$CX$9)/($CX$10-$CX$9)) -> 8.5793441 | CY81: =EXP($CY$6+($CY$7-$CY$6)*((LN($CY$1-A81))-$CY$9)/($CY$10-$CY$9)) -> 6.0308518 | CZ81: =EXP($CZ$6+($CZ$7-$CZ$6)*((LN($CZ$1-A81))-$CZ$9)/($CZ$10-$CZ$9)) -> 4.090596 | DA81: =EXP($DA$6+($DA$7-$DA$6)*((LN($DA$1-A81))-$DA$9)/($DA$10-$DA$9)) -> 3.02486 | DB81: =EXP($DB$6+($DB$7-$DB$6)*((LN($DB$1-A81))-$DB$9)/($DB$10-$DB$9)) -> 2.3639273 | DC81: =EXP($DC$6+($DC$7-$DC$6)*((LN($DC$1-A81))-$DC$9)/($DC$10-$DC$9)) -> 1.9192176 | DD81: =EXP($DD$6+($DD$7-$DD$6)*((LN($DD$1-A81))-$DD$9)/($DD$10-$DD$9)) -> 1.6022566 | DE81: =EXP($DE$6+($DE$7-$DE$6)*((LN($DE$1-A81))-$DE$9)/($DE$10-$DE$9)) -> 1.3664467 | DF81: =EXP($DF$6+($DF$7-$DF$6)*((LN($DF$1-A81))-$DF$9)/($DF$10-$DF$9)) -> 1.1850882
A82: 69 | CC82: 69 | CD82: =V$2 -> 1177.2765 | CE82: =EXP($CE$6+($CE$7-$CE$6)*((LN($CE$1-A82))-$CE$9)/($CE$10-$CE$9)) -> 996.47766 | CF82: =EXP($CF$6+($CF$7-$CF$6)*((LN($CF$1-A82))-$CF$9)/($CF$10-$CF$9)) -> 327.57855 | CG82: =EXP($CG$6+($CG$7-$CG$6)*((LN($CG$1-A82))-$CG$9)/($CG$10-$CG$9)) -> 211.09292 | CH82: =EXP($CH$6+($CH$7-$CH$6)*((LN($CH$1-A82))-$CH$9)/($CH$10-$CH$9)) -> 160.19614 | CI82: =EXP($CI$6+($CI$7-$CI$6)*((LN($CI$1-A82))-$CI$9)/($CI$10-$CI$9)) -> 131.53881 | CJ82: =EXP($CJ$6+($CJ$7-$CJ$6)*((LN($CJ$1-A82))-$CJ$9)/($CJ$10-$CJ$9)) -> 112.56368 | CK82: =EXP($CK$6+($CK$7-$CK$6)*((LN($CK$1-A82))-$CK$9)/($CK$10-$CK$9)) -> 98.958085 | CL82: =EXP($CL$6+($CL$7-$CL$6)*((LN($CL$1-A82))-$CL$9)/($CL$10-$CL$9)) -> 88.664943 | CM82: =EXP($CM$6+($CM$7-$CM$6)*((LN($CM$1-A82))-$CM$9)/($CM$10-$CM$9)) -> 80.570869 | CN82: =EXP($CN$6+($CN$7-$CN$6)*((LN($CN$1-A82))-$CN$9)/($CN$10-$CN$9)) -> 74.017415 | CO82: =EXP($CO$6+($CO$7-$CO$6)*((LN($CO$1-A82))-$CO$9)/($CO$10-$CO$9)) -> 39.160016 | CP82: =EXP($CP$6+($CP$7-$CP$6)*((LN($CP$1-A82))-$CP$9)/($CP$10-$CP$9)) -> 26.5 | CQ82: =EXP($CQ$6+($CQ$7-$CQ$6)*((LN($CQ$1-A82))-$CQ$9)/($CQ$10-$CQ$9)) -> 23.528033 | CR82: =EXP($CR$6+($CR$7-$CR$6)*((LN($CR$1-A82))-$CR$9)/($CR$10-$CR$9)) -> 21.294394 | CS82: =EXP($CS$6+($CS$7-$CS$6)*((LN($CS$1-A82))-$CS$9)/($CS$10-$CS$9)) -> 19.632338 | CT82: =EXP($CT$6+($CT$7-$CT$6)*((LN($CT$1-A82))-$CT$9)/($CT$10-$CT$9)) -> 18.331206 | CU82: =EXP($CU$6+($CU$7-$CU$6)*((LN($CU$1-A82))-$CU$9)/($CU$10-$CU$9)) -> 17.275508 | CV82: =EXP($CV$6+($CV$7-$CV$6)*((LN($CV$1-A82))-$CV$9)/($CV$10-$CV$9)) -> 16.395841 | CW82: =EXP($CW$6+($CW$7-$CW$6)*((LN($CW$1-A82))-$CW$9)/($CW$10-$CW$9)) -> 15.64761 | CX82: =EXP($CX$6+($CX$7-$CX$6)*((LN($CX$1-A82))-$CX$9)/($CX$10-$CX$9)) -> 8.5797173 | CY82: =EXP($CY$6+($CY$7-$CY$6)*((LN($CY$1-A82))-$CY$9)/($CY$10-$CY$9)) -> 6.0310265 | CZ82: =EXP($CZ$6+($CZ$7-$CZ$6)*((LN($CZ$1-A82))-$CZ$9)/($CZ$10-$CZ$9)) -> 4.0907344 | DA82: =EXP($DA$6+($DA$7-$DA$6)*((LN($DA$1-A82))-$DA$9)/($DA$10-$DA$9)) -> 3.0249418 | DB82: =EXP($DB$6+($DB$7-$DB$6)*((LN($DB$1-A82))-$DB$9)/($DB$10-$DB$9)) -> 2.3639806 | DC82: =EXP($DC$6+($DC$7-$DC$6)*((LN($DC$1-A82))-$DC$9)/($DC$10-$DC$9)) -> 1.9192547 | DD82: =EXP($DD$6+($DD$7-$DD$6)*((LN($DD$1-A82))-$DD$9)/($DD$10-$DD$9)) -> 1.6022836 | DE82: =EXP($DE$6+($DE$7-$DE$6)*((LN($DE$1-A82))-$DE$9)/($DE$10-$DE$9)) -> 1.3664672 | DF82: =EXP($DF$6+($DF$7-$DF$6)*((LN($DF$1-A82))-$DF$9)/($DF$10-$DF$9)) -> 1.1851042
A83: 70 | CC83: 70 | CD83: =U$2 -> 1200.2764 | CE83: =EXP($CE$6+($CE$7-$CE$6)*((LN($CE$1-A83))-$CE$9)/($CE$10-$CE$9)) -> 1022 | CF83: =EXP($CF$6+($CF$7-$CF$6)*((LN($CF$1-A83))-$CF$9)/($CF$10-$CF$9)) -> 329.52899 | CG83: =EXP($CG$6+($CG$7-$CG$6)*((LN($CG$1-A83))-$CG$9)/($CG$10-$CG$9)) -> 211.80359 | CH83: =EXP($CH$6+($CH$7-$CH$6)*((LN($CH$1-A83))-$CH$9)/($CH$10-$CH$9)) -> 160.55843 | CI83: =EXP($CI$6+($CI$7-$CI$6)*((LN($CI$1-A83))-$CI$9)/($CI$10-$CI$9)) -> 131.76713 | CJ83: =EXP($CJ$6+($CJ$7-$CJ$6)*((LN($CJ$1-A83))-$CJ$9)/($CJ$10-$CJ$9)) -> 112.72221 | CK83: =EXP($CK$6+($CK$7-$CK$6)*((LN($CK$1-A83))-$CK$9)/($CK$10-$CK$9)) -> 99.075336 | CL83: =EXP($CL$6+($CL$7-$CL$6)*((LN($CL$1-A83))-$CL$9)/($CL$10-$CL$9)) -> 88.755609 | CM83: =EXP($CM$6+($CM$7-$CM$6)*((LN($CM$1-A83))-$CM$9)/($CM$10-$CM$9)) -> 80.643333 | CN83: =EXP($CN$6+($CN$7-$CN$6)*((LN($CN$1-A83))-$CN$9)/($CN$10-$CN$9)) -> 74.076828 | CO83: =EXP($CO$6+($CO$7-$CO$6)*((LN($CO$1-A83))-$CO$9)/($CO$10-$CO$9)) -> 39.178 | CP83: =EXP($CP$6+($CP$7-$CP$6)*((LN($CP$1-A83))-$CP$9)/($CP$10-$CP$9)) -> 26.5 | CQ83: =EXP($CQ$6+($CQ$7-$CQ$6)*((LN($CQ$1-A83))-$CQ$9)/($CQ$10-$CQ$9)) -> 23.530668 | CR83: =EXP($CR$6+($CR$7-$CR$6)*((LN($CR$1-A83))-$CR$9)/($CR$10-$CR$9)) -> 21.296294 | CS83: =EXP($CS$6+($CS$7-$CS$6)*((LN($CS$1-A83))-$CS$9)/($CS$10-$CS$9)) -> 19.633795 | CT83: =EXP($CT$6+($CT$7-$CT$6)*((LN($CT$1-A83))-$CT$9)/($CT$10-$CT$9)) -> 18.33237 | CU83: =EXP($CU$6+($CU$7-$CU$6)*((LN($CU$1-A83))-$CU$9)/($CU$10-$CU$9)) -> 17.276466 | CV83: =EXP($CV$6+($CV$7-$CV$6)*((LN($CV$1-A83))-$CV$9)/($CV$10-$CV$9)) -> 16.396649 | CW83: =EXP($CW$6+($CW$7-$CW$6)*((LN($CW$1-A83))-$CW$9)/($CW$10-$CW$9)) -> 15.648303 | CX83: =EXP($CX$6+($CX$7-$CX$6)*((LN($CX$1-A83))-$CX$9)/($CX$10-$CX$9)) -> 8.5800904 | CY83: =EXP($CY$6+($CY$7-$CY$6)*((LN($CY$1-A83))-$CY$9)/($CY$10-$CY$9)) -> 6.0312011 | CZ83: =EXP($CZ$6+($CZ$7-$CZ$6)*((LN($CZ$1-A83))-$CZ$9)/($CZ$10-$CZ$9)) -> 4.0908727 | DA83: =EXP($DA$6+($DA$7-$DA$6)*((LN($DA$1-A83))-$DA$9)/($DA$10-$DA$9)) -> 3.0250236 | DB83: =EXP($DB$6+($DB$7-$DB$6)*((LN($DB$1-A83))-$DB$9)/($DB$10-$DB$9)) -> 2.3640339 | DC83: =EXP($DC$6+($DC$7-$DC$6)*((LN($DC$1-A83))-$DC$9)/($DC$10-$DC$9)) -> 1.9192918 | DD83: =EXP($DD$6+($DD$7-$DD$6)*((LN($DD$1-A83))-$DD$9)/($DD$10-$DD$9)) -> 1.6023107 | DE83: =EXP($DE$6+($DE$7-$DE$6)*((LN($DE$1-A83))-$DE$9)/($DE$10-$DE$9)) -> 1.3664878 | DF83: =EXP($DF$6+($DF$7-$DF$6)*((LN($DF$1-A83))-$DF$9)/($DF$10-$DF$9)) -> 1.1851203
A84: 71 | CC84: 71 | CD84: =T$2 -> 1224.9409 | CE84: =AD$2 -> 1035.8325 | CF84: =EXP($CF$6+($CF$7-$CF$6)*((LN($CF$1-A84))-$CF$9)/($CF$10-$CF$9)) -> 331.50625 | CG84: =EXP($CG$6+($CG$7-$CG$6)*((LN($CG$1-A84))-$CG$9)/($CG$10-$CG$9)) -> 212.51977 | CH84: =EXP($CH$6+($CH$7-$CH$6)*((LN($CH$1-A84))-$CH$9)/($CH$10-$CH$9)) -> 160.92265 | CI84: =EXP($CI$6+($CI$7-$CI$6)*((LN($CI$1-A84))-$CI$9)/($CI$10-$CI$9)) -> 131.99638 | CJ84: =EXP($CJ$6+($CJ$7-$CJ$6)*((LN($CJ$1-A84))-$CJ$9)/($CJ$10-$CJ$9)) -> 112.88126 | CK84: =EXP($CK$6+($CK$7-$CK$6)*((LN($CK$1-A84))-$CK$9)/($CK$10-$CK$9)) -> 99.192913 | CL84: =EXP($CL$6+($CL$7-$CL$6)*((LN($CL$1-A84))-$CL$9)/($CL$10-$CL$9)) -> 88.846493 | CM84: =EXP($CM$6+($CM$7-$CM$6)*((LN($CM$1-A84))-$CM$9)/($CM$10-$CM$9)) -> 80.715951 | CN84: =EXP($CN$6+($CN$7-$CN$6)*((LN($CN$1-A84))-$CN$9)/($CN$10-$CN$9)) -> 74.136353 | CO84: =EXP($CO$6+($CO$7-$CO$6)*((LN($CO$1-A84))-$CO$9)/($CO$10-$CO$9)) -> 39.196002 | CP84: =EXP($CP$6+($CP$7-$CP$6)*((LN($CP$1-A84))-$CP$9)/($CP$10-$CP$9)) -> 26.5 | CQ84: =EXP($CQ$6+($CQ$7-$CQ$6)*((LN($CQ$1-A84))-$CQ$9)/($CQ$10-$CQ$9)) -> 23.533303 | CR84: =EXP($CR$6+($CR$7-$CR$6)*((LN($CR$1-A84))-$CR$9)/($CR$10-$CR$9)) -> 21.298196 | CS84: =EXP($CS$6+($CS$7-$CS$6)*((LN($CS$1-A84))-$CS$9)/($CS$10-$CS$9)) -> 19.635252 | CT84: =EXP($CT$6+($CT$7-$CT$6)*((LN($CT$1-A84))-$CT$9)/($CT$10-$CT$9)) -> 18.333534 | CU84: =EXP($CU$6+($CU$7-$CU$6)*((LN($CU$1-A84))-$CU$9)/($CU$10-$CU$9)) -> 17.277425 | CV84: =EXP($CV$6+($CV$7-$CV$6)*((LN($CV$1-A84))-$CV$9)/($CV$10-$CV$9)) -> 16.397457 | CW84: =EXP($CW$6+($CW$7-$CW$6)*((LN($CW$1-A84))-$CW$9)/($CW$10-$CW$9)) -> 15.648997 | CX84: =EXP($CX$6+($CX$7-$CX$6)*((LN($CX$1-A84))-$CX$9)/($CX$10-$CX$9)) -> 8.5804637 | CY84: =EXP($CY$6+($CY$7-$CY$6)*((LN($CY$1-A84))-$CY$9)/($CY$10-$CY$9)) -> 6.0313758 | CZ84: =EXP($CZ$6+($CZ$7-$CZ$6)*((LN($CZ$1-A84))-$CZ$9)/($CZ$10-$CZ$9)) -> 4.0910111 | DA84: =EXP($DA$6+($DA$7-$DA$6)*((LN($DA$1-A84))-$DA$9)/($DA$10-$DA$9)) -> 3.0251054 | DB84: =EXP($DB$6+($DB$7-$DB$6)*((LN($DB$1-A84))-$DB$9)/($DB$10-$DB$9)) -> 2.3640871 | DC84: =EXP($DC$6+($DC$7-$DC$6)*((LN($DC$1-A84))-$DC$9)/($DC$10-$DC$9)) -> 1.9193288 | DD84: =EXP($DD$6+($DD$7-$DD$6)*((LN($DD$1-A84))-$DD$9)/($DD$10-$DD$9)) -> 1.6023378 | DE84: =EXP($DE$6+($DE$7-$DE$6)*((LN($DE$1-A84))-$DE$9)/($DE$10-$DE$9)) -> 1.3665083 | DF84: =EXP($DF$6+($DF$7-$DF$6)*((LN($DF$1-A84))-$DF$9)/($DF$10-$DF$9)) -> 1.1851363
A85: 72 | CC85: 72 | CD85: =S$2 -> 1251.4882 | CE85: =AC$2 -> 1050.3476 | CF85: =EXP($CF$6+($CF$7-$CF$6)*((LN($CF$1-A85))-$CF$9)/($CF$10-$CF$9)) -> 333.5109 | CG85: =EXP($CG$6+($CG$7-$CG$6)*((LN($CG$1-A85))-$CG$9)/($CG$10-$CG$9)) -> 213.24152 | CH85: =EXP($CH$6+($CH$7-$CH$6)*((LN($CH$1-A85))-$CH$9)/($CH$10-$CH$9)) -> 161.28881 | CI85: =EXP($CI$6+($CI$7-$CI$6)*((LN($CI$1-A85))-$CI$9)/($CI$10-$CI$9)) -> 132.22657 | CJ85: =EXP($CJ$6+($CJ$7-$CJ$6)*((LN($CJ$1-A85))-$CJ$9)/($CJ$10-$CJ$9)) -> 113.04084 | CK85: =EXP($CK$6+($CK$7-$CK$6)*((LN($CK$1-A85))-$CK$9)/($CK$10-$CK$9)) -> 99.310816 | CL85: =EXP($CL$6+($CL$7-$CL$6)*((LN($CL$1-A85))-$CL$9)/($CL$10-$CL$9)) -> 88.937594 | CM85: =EXP($CM$6+($CM$7-$CM$6)*((LN($CM$1-A85))-$CM$9)/($CM$10-$CM$9)) -> 80.788721 | CN85: =EXP($CN$6+($CN$7-$CN$6)*((LN($CN$1-A85))-$CN$9)/($CN$10-$CN$9)) -> 74.195991 | CO85: =EXP($CO$6+($CO$7-$CO$6)*((LN($CO$1-A85))-$CO$9)/($CO$10-$CO$9)) -> 39.214021 | CP85: =EXP($CP$6+($CP$7-$CP$6)*((LN($CP$1-A85))-$CP$9)/($CP$10-$CP$9)) -> 26.5 | CQ85: =EXP($CQ$6+($CQ$7-$CQ$6)*((LN($CQ$1-A85))-$CQ$9)/($CQ$10-$CQ$9)) -> 23.53594 | CR85: =EXP($CR$6+($CR$7-$CR$6)*((LN($CR$1-A85))-$CR$9)/($CR$10-$CR$9)) -> 21.300098 | CS85: =EXP($CS$6+($CS$7-$CS$6)*((LN($CS$1-A85))-$CS$9)/($CS$10-$CS$9)) -> 19.63671 | CT85: =EXP($CT$6+($CT$7-$CT$6)*((LN($CT$1-A85))-$CT$9)/($CT$10-$CT$9)) -> 18.334699 | CU85: =EXP($CU$6+($CU$7-$CU$6)*((LN($CU$1-A85))-$CU$9)/($CU$10-$CU$9)) -> 17.278384 | CV85: =EXP($CV$6+($CV$7-$CV$6)*((LN($CV$1-A85))-$CV$9)/($CV$10-$CV$9)) -> 16.398265 | CW85: =EXP($CW$6+($CW$7-$CW$6)*((LN($CW$1-A85))-$CW$9)/($CW$10-$CW$9)) -> 15.64969 | CX85: =EXP($CX$6+($CX$7-$CX$6)*((LN($CX$1-A85))-$CX$9)/($CX$10-$CX$9)) -> 8.5808369 | CY85: =EXP($CY$6+($CY$7-$CY$6)*((LN($CY$1-A85))-$CY$9)/($CY$10-$CY$9)) -> 6.0315505 | CZ85: =EXP($CZ$6+($CZ$7-$CZ$6)*((LN($CZ$1-A85))-$CZ$9)/($CZ$10-$CZ$9)) -> 4.0911495 | DA85: =EXP($DA$6+($DA$7-$DA$6)*((LN($DA$1-A85))-$DA$9)/($DA$10-$DA$9)) -> 3.0251873 | DB85: =EXP($DB$6+($DB$7-$DB$6)*((LN($DB$1-A85))-$DB$9)/($DB$10-$DB$9)) -> 2.3641404 | DC85: =EXP($DC$6+($DC$7-$DC$6)*((LN($DC$1-A85))-$DC$9)/($DC$10-$DC$9)) -> 1.9193659 | DD85: =EXP($DD$6+($DD$7-$DD$6)*((LN($DD$1-A85))-$DD$9)/($DD$10-$DD$9)) -> 1.6023648 | DE85: =EXP($DE$6+($DE$7-$DE$6)*((LN($DE$1-A85))-$DE$9)/($DE$10-$DE$9)) -> 1.3665288 | DF85: =EXP($DF$6+($DF$7-$DF$6)*((LN($DF$1-A85))-$DF$9)/($DF$10-$DF$9)) -> 1.1851523
A86: 73 | CC86: 73 | CD86: =R$2 -> 1280.1792 | CE86: =AB$2 -> 1065.6053 | CF86: =EXP($CF$6+($CF$7-$CF$6)*((LN($CF$1-A86))-$CF$9)/($CF$10-$CF$9)) -> 335.54353 | CG86: =EXP($CG$6+($CG$7-$CG$6)*((LN($CG$1-A86))-$CG$9)/($CG$10-$CG$9)) -> 213.96891 | CH86: =EXP($CH$6+($CH$7-$CH$6)*((LN($CH$1-A86))-$CH$9)/($CH$10-$CH$9)) -> 161.65693 | CI86: =EXP($CI$6+($CI$7-$CI$6)*((LN($CI$1-A86))-$CI$9)/($CI$10-$CI$9)) -> 132.4577 | CJ86: =EXP($CJ$6+($CJ$7-$CJ$6)*((LN($CJ$1-A86))-$CJ$9)/($CJ$10-$CJ$9)) -> 113.20095 | CK86: =EXP($CK$6+($CK$7-$CK$6)*((LN($CK$1-A86))-$CK$9)/($CK$10-$CK$9)) -> 99.429048 | CL86: =EXP($CL$6+($CL$7-$CL$6)*((LN($CL$1-A86))-$CL$9)/($CL$10-$CL$9)) -> 89.028915 | CM86: =EXP($CM$6+($CM$7-$CM$6)*((LN($CM$1-A86))-$CM$9)/($CM$10-$CM$9)) -> 80.861646 | CN86: =EXP($CN$6+($CN$7-$CN$6)*((LN($CN$1-A86))-$CN$9)/($CN$10-$CN$9)) -> 74.25574 | CO86: =EXP($CO$6+($CO$7-$CO$6)*((LN($CO$1-A86))-$CO$9)/($CO$10-$CO$9)) -> 39.232058 | CP86: =EXP($CP$6+($CP$7-$CP$6)*((LN($CP$1-A86))-$CP$9)/($CP$10-$CP$9)) -> 26.5 | CQ86: =EXP($CQ$6+($CQ$7-$CQ$6)*((LN($CQ$1-A86))-$CQ$9)/($CQ$10-$CQ$9)) -> 23.538577 | CR86: =EXP($CR$6+($CR$7-$CR$6)*((LN($CR$1-A86))-$CR$9)/($CR$10-$CR$9)) -> 21.302 | CS86: =EXP($CS$6+($CS$7-$CS$6)*((LN($CS$1-A86))-$CS$9)/($CS$10-$CS$9)) -> 19.638168 | CT86: =EXP($CT$6+($CT$7-$CT$6)*((LN($CT$1-A86))-$CT$9)/($CT$10-$CT$9)) -> 18.335864 | CU86: =EXP($CU$6+($CU$7-$CU$6)*((LN($CU$1-A86))-$CU$9)/($CU$10-$CU$9)) -> 17.279344 | CV86: =EXP($CV$6+($CV$7-$CV$6)*((LN($CV$1-A86))-$CV$9)/($CV$10-$CV$9)) -> 16.399074 | CW86: =EXP($CW$6+($CW$7-$CW$6)*((LN($CW$1-A86))-$CW$9)/($CW$10-$CW$9)) -> 15.650384 | CX86: =EXP($CX$6+($CX$7-$CX$6)*((LN($CX$1-A86))-$CX$9)/($CX$10-$CX$9)) -> 8.5812102 | CY86: =EXP($CY$6+($CY$7-$CY$6)*((LN($CY$1-A86))-$CY$9)/($CY$10-$CY$9)) -> 6.0317252 | CZ86: =EXP($CZ$6+($CZ$7-$CZ$6)*((LN($CZ$1-A86))-$CZ$9)/($CZ$10-$CZ$9)) -> 4.0912878 | DA86: =EXP($DA$6+($DA$7-$DA$6)*((LN($DA$1-A86))-$DA$9)/($DA$10-$DA$9)) -> 3.0252691 | DB86: =EXP($DB$6+($DB$7-$DB$6)*((LN($DB$1-A86))-$DB$9)/($DB$10-$DB$9)) -> 2.3641937 | DC86: =EXP($DC$6+($DC$7-$DC$6)*((LN($DC$1-A86))-$DC$9)/($DC$10-$DC$9)) -> 1.919403 | DD86: =EXP($DD$6+($DD$7-$DD$6)*((LN($DD$1-A86))-$DD$9)/($DD$10-$DD$9)) -> 1.6023919 | DE86: =EXP($DE$6+($DE$7-$DE$6)*((LN($DE$1-A86))-$DE$9)/($DE$10-$DE$9)) -> 1.3665493 | DF86: =EXP($DF$6+($DF$7-$DF$6)*((LN($DF$1-A86))-$DF$9)/($DF$10-$DF$9)) -> 1.1851683
A87: 74 | CC87: 74 | CD87: =Q$2 -> 1311.3291 | CE87: =AA$2 -> 1081.6734 | CF87: =EXP($CF$6+($CF$7-$CF$6)*((LN($CF$1-A87))-$CF$9)/($CF$10-$CF$9)) -> 337.60477 | CG87: =EXP($CG$6+($CG$7-$CG$6)*((LN($CG$1-A87))-$CG$9)/($CG$10-$CG$9)) -> 214.70201 | CH87: =EXP($CH$6+($CH$7-$CH$6)*((LN($CH$1-A87))-$CH$9)/($CH$10-$CH$9)) -> 162.02701 | CI87: =EXP($CI$6+($CI$7-$CI$6)*((LN($CI$1-A87))-$CI$9)/($CI$10-$CI$9)) -> 132.68978 | CJ87: =EXP($CJ$6+($CJ$7-$CJ$6)*((LN($CJ$1-A87))-$CJ$9)/($CJ$10-$CJ$9)) -> 113.36159 | CK87: =EXP($CK$6+($CK$7-$CK$6)*((LN($CK$1-A87))-$CK$9)/($CK$10-$CK$9)) -> 99.547609 | CL87: =EXP($CL$6+($CL$7-$CL$6)*((LN($CL$1-A87))-$CL$9)/($CL$10-$CL$9)) -> 89.120455 | CM87: =EXP($CM$6+($CM$7-$CM$6)*((LN($CM$1-A87))-$CM$9)/($CM$10-$CM$9)) -> 80.934724 | CN87: =EXP($CN$6+($CN$7-$CN$6)*((LN($CN$1-A87))-$CN$9)/($CN$10-$CN$9)) -> 74.315602 | CO87: =EXP($CO$6+($CO$7-$CO$6)*((LN($CO$1-A87))-$CO$9)/($CO$10-$CO$9)) -> 39.250112 | CP87: =EXP($CP$6+($CP$7-$CP$6)*((LN($CP$1-A87))-$CP$9)/($CP$10-$CP$9)) -> 26.5 | CQ87: =EXP($CQ$6+($CQ$7-$CQ$6)*((LN($CQ$1-A87))-$CQ$9)/($CQ$10-$CQ$9)) -> 23.541216 | CR87: =EXP($CR$6+($CR$7-$CR$6)*((LN($CR$1-A87))-$CR$9)/($CR$10-$CR$9)) -> 21.303903 | CS87: =EXP($CS$6+($CS$7-$CS$6)*((LN($CS$1-A87))-$CS$9)/($CS$10-$CS$9)) -> 19.639626 | CT87: =EXP($CT$6+($CT$7-$CT$6)*((LN($CT$1-A87))-$CT$9)/($CT$10-$CT$9)) -> 18.337029 | CU87: =EXP($CU$6+($CU$7-$CU$6)*((LN($CU$1-A87))-$CU$9)/($CU$10-$CU$9)) -> 17.280303 | CV87: =EXP($CV$6+($CV$7-$CV$6)*((LN($CV$1-A87))-$CV$9)/($CV$10-$CV$9)) -> 16.399882 | CW87: =EXP($CW$6+($CW$7-$CW$6)*((LN($CW$1-A87))-$CW$9)/($CW$10-$CW$9)) -> 15.651078 | CX87: =EXP($CX$6+($CX$7-$CX$6)*((LN($CX$1-A87))-$CX$9)/($CX$10-$CX$9)) -> 8.5815835 | CY87: =EXP($CY$6+($CY$7-$CY$6)*((LN($CY$1-A87))-$CY$9)/($CY$10-$CY$9)) -> 6.0318999 | CZ87: =EXP($CZ$6+($CZ$7-$CZ$6)*((LN($CZ$1-A87))-$CZ$9)/($CZ$10-$CZ$9)) -> 4.0914262 | DA87: =EXP($DA$6+($DA$7-$DA$6)*((LN($DA$1-A87))-$DA$9)/($DA$10-$DA$9)) -> 3.0253509 | DB87: =EXP($DB$6+($DB$7-$DB$6)*((LN($DB$1-A87))-$DB$9)/($DB$10-$DB$9)) -> 2.364247 | DC87: =EXP($DC$6+($DC$7-$DC$6)*((LN($DC$1-A87))-$DC$9)/($DC$10-$DC$9)) -> 1.9194401 | DD87: =EXP($DD$6+($DD$7-$DD$6)*((LN($DD$1-A87))-$DD$9)/($DD$10-$DD$9)) -> 1.602419 | DE87: =EXP($DE$6+($DE$7-$DE$6)*((LN($DE$1-A87))-$DE$9)/($DE$10-$DE$9)) -> 1.3665698 | DF87: =EXP($DF$6+($DF$7-$DF$6)*((LN($DF$1-A87))-$DF$9)/($DF$10-$DF$9)) -> 1.1851843
A88: 75 | CC88: 75 | CD88: =P$2 -> 1345.3234 | CE88: =Z$2 -> 1098.6285 | CF88: =EXP($CF$6+($CF$7-$CF$6)*((LN($CF$1-A88))-$CF$9)/($CF$10-$CF$9)) -> 339.69525 | CG88: =EXP($CG$6+($CG$7-$CG$6)*((LN($CG$1-A88))-$CG$9)/($CG$10-$CG$9)) -> 215.44089 | CH88: =EXP($CH$6+($CH$7-$CH$6)*((LN($CH$1-A88))-$CH$9)/($CH$10-$CH$9)) -> 162.39908 | CI88: =EXP($CI$6+($CI$7-$CI$6)*((LN($CI$1-A88))-$CI$9)/($CI$10-$CI$9)) -> 132.92281 | CJ88: =EXP($CJ$6+($CJ$7-$CJ$6)*((LN($CJ$1-A88))-$CJ$9)/($CJ$10-$CJ$9)) -> 113.52276 | CK88: =EXP($CK$6+($CK$7-$CK$6)*((LN($CK$1-A88))-$CK$9)/($CK$10-$CK$9)) -> 99.666502 | CL88: =EXP($CL$6+($CL$7-$CL$6)*((LN($CL$1-A88))-$CL$9)/($CL$10-$CL$9)) -> 89.212216 | CM88: =EXP($CM$6+($CM$7-$CM$6)*((LN($CM$1-A88))-$CM$9)/($CM$10-$CM$9)) -> 81.007957 | CN88: =EXP($CN$6+($CN$7-$CN$6)*((LN($CN$1-A88))-$CN$9)/($CN$10-$CN$9)) -> 74.375578 | CO88: =EXP($CO$6+($CO$7-$CO$6)*((LN($CO$1-A88))-$CO$9)/($CO$10-$CO$9)) -> 39.268185 | CP88: =EXP($CP$6+($CP$7-$CP$6)*((LN($CP$1-A88))-$CP$9)/($CP$10-$CP$9)) -> 26.5 | CQ88: =EXP($CQ$6+($CQ$7-$CQ$6)*((LN($CQ$1-A88))-$CQ$9)/($CQ$10-$CQ$9)) -> 23.543855 | CR88: =EXP($CR$6+($CR$7-$CR$6)*((LN($CR$1-A88))-$CR$9)/($CR$10-$CR$9)) -> 21.305807 | CS88: =EXP($CS$6+($CS$7-$CS$6)*((LN($CS$1-A88))-$CS$9)/($CS$10-$CS$9)) -> 19.641085 | CT88: =EXP($CT$6+($CT$7-$CT$6)*((LN($CT$1-A88))-$CT$9)/($CT$10-$CT$9)) -> 18.338194 | CU88: =EXP($CU$6+($CU$7-$CU$6)*((LN($CU$1-A88))-$CU$9)/($CU$10-$CU$9)) -> 17.281263 | CV88: =EXP($CV$6+($CV$7-$CV$6)*((LN($CV$1-A88))-$CV$9)/($CV$10-$CV$9)) -> 16.400691 | CW88: =EXP($CW$6+($CW$7-$CW$6)*((LN($CW$1-A88))-$CW$9)/($CW$10-$CW$9)) -> 15.651772 | CX88: =EXP($CX$6+($CX$7-$CX$6)*((LN($CX$1-A88))-$CX$9)/($CX$10-$CX$9)) -> 8.5819569 | CY88: =EXP($CY$6+($CY$7-$CY$6)*((LN($CY$1-A88))-$CY$9)/($CY$10-$CY$9)) -> 6.0320747 | CZ88: =EXP($CZ$6+($CZ$7-$CZ$6)*((LN($CZ$1-A88))-$CZ$9)/($CZ$10-$CZ$9)) -> 4.0915646 | DA88: =EXP($DA$6+($DA$7-$DA$6)*((LN($DA$1-A88))-$DA$9)/($DA$10-$DA$9)) -> 3.0254328 | DB88: =EXP($DB$6+($DB$7-$DB$6)*((LN($DB$1-A88))-$DB$9)/($DB$10-$DB$9)) -> 2.3643003 | DC88: =EXP($DC$6+($DC$7-$DC$6)*((LN($DC$1-A88))-$DC$9)/($DC$10-$DC$9)) -> 1.9194771 | DD88: =EXP($DD$6+($DD$7-$DD$6)*((LN($DD$1-A88))-$DD$9)/($DD$10-$DD$9)) -> 1.6024461 | DE88: =EXP($DE$6+($DE$7-$DE$6)*((LN($DE$1-A88))-$DE$9)/($DE$10-$DE$9)) -> 1.3665904 | DF88: =EXP($DF$6+($DF$7-$DF$6)*((LN($DF$1-A88))-$DF$9)/($DF$10-$DF$9)) -> 1.1852003
A89: 76 | CC89: 76 | CD89: =O$2 -> 1382.6392 | CE89: =Y$2 -> 1116.5581 | CF89: =EXP($CF$6+($CF$7-$CF$6)*((LN($CF$1-A89))-$CF$9)/($CF$10-$CF$9)) -> 341.81562 | CG89: =EXP($CG$6+($CG$7-$CG$6)*((LN($CG$1-A89))-$CG$9)/($CG$10-$CG$9)) -> 216.18563 | CH89: =EXP($CH$6+($CH$7-$CH$6)*((LN($CH$1-A89))-$CH$9)/($CH$10-$CH$9)) -> 162.77316 | CI89: =EXP($CI$6+($CI$7-$CI$6)*((LN($CI$1-A89))-$CI$9)/($CI$10-$CI$9)) -> 133.1568 | CJ89: =EXP($CJ$6+($CJ$7-$CJ$6)*((LN($CJ$1-A89))-$CJ$9)/($CJ$10-$CJ$9)) -> 113.68447 | CK89: =EXP($CK$6+($CK$7-$CK$6)*((LN($CK$1-A89))-$CK$9)/($CK$10-$CK$9)) -> 99.785728 | CL89: =EXP($CL$6+($CL$7-$CL$6)*((LN($CL$1-A89))-$CL$9)/($CL$10-$CL$9)) -> 89.304198 | CM89: =EXP($CM$6+($CM$7-$CM$6)*((LN($CM$1-A89))-$CM$9)/($CM$10-$CM$9)) -> 81.081345 | CN89: =EXP($CN$6+($CN$7-$CN$6)*((LN($CN$1-A89))-$CN$9)/($CN$10-$CN$9)) -> 74.435666 | CO89: =EXP($CO$6+($CO$7-$CO$6)*((LN($CO$1-A89))-$CO$9)/($CO$10-$CO$9)) -> 39.286275 | CP89: =EXP($CP$6+($CP$7-$CP$6)*((LN($CP$1-A89))-$CP$9)/($CP$10-$CP$9)) -> 26.5 | CQ89: =EXP($CQ$6+($CQ$7-$CQ$6)*((LN($CQ$1-A89))-$CQ$9)/($CQ$10-$CQ$9)) -> 23.546496 | CR89: =EXP($CR$6+($CR$7-$CR$6)*((LN($CR$1-A89))-$CR$9)/($CR$10-$CR$9)) -> 21.307711 | CS89: =EXP($CS$6+($CS$7-$CS$6)*((LN($CS$1-A89))-$CS$9)/($CS$10-$CS$9)) -> 19.642544 | CT89: =EXP($CT$6+($CT$7-$CT$6)*((LN($CT$1-A89))-$CT$9)/($CT$10-$CT$9)) -> 18.33936 | CU89: =EXP($CU$6+($CU$7-$CU$6)*((LN($CU$1-A89))-$CU$9)/($CU$10-$CU$9)) -> 17.282222 | CV89: =EXP($CV$6+($CV$7-$CV$6)*((LN($CV$1-A89))-$CV$9)/($CV$10-$CV$9)) -> 16.4015 | CW89: =EXP($CW$6+($CW$7-$CW$6)*((LN($CW$1-A89))-$CW$9)/($CW$10-$CW$9)) -> 15.652466 | CX89: =EXP($CX$6+($CX$7-$CX$6)*((LN($CX$1-A89))-$CX$9)/($CX$10-$CX$9)) -> 8.5823302 | CY89: =EXP($CY$6+($CY$7-$CY$6)*((LN($CY$1-A89))-$CY$9)/($CY$10-$CY$9)) -> 6.0322494 | CZ89: =EXP($CZ$6+($CZ$7-$CZ$6)*((LN($CZ$1-A89))-$CZ$9)/($CZ$10-$CZ$9)) -> 4.0917031 | DA89: =EXP($DA$6+($DA$7-$DA$6)*((LN($DA$1-A89))-$DA$9)/($DA$10-$DA$9)) -> 3.0255146 | DB89: =EXP($DB$6+($DB$7-$DB$6)*((LN($DB$1-A89))-$DB$9)/($DB$10-$DB$9)) -> 2.3643535 | DC89: =EXP($DC$6+($DC$7-$DC$6)*((LN($DC$1-A89))-$DC$9)/($DC$10-$DC$9)) -> 1.9195142 | DD89: =EXP($DD$6+($DD$7-$DD$6)*((LN($DD$1-A89))-$DD$9)/($DD$10-$DD$9)) -> 1.6024732 | DE89: =EXP($DE$6+($DE$7-$DE$6)*((LN($DE$1-A89))-$DE$9)/($DE$10-$DE$9)) -> 1.3666109 | DF89: =EXP($DF$6+($DF$7-$DF$6)*((LN($DF$1-A89))-$DF$9)/($DF$10-$DF$9)) -> 1.1852164
A90: 77 | CC90: 77 | CD90: =N$2 -> 1423.8753 | CE90: =X$2 -> 1135.5626 | CF90: =EXP($CF$6+($CF$7-$CF$6)*((LN($CF$1-A90))-$CF$9)/($CF$10-$CF$9)) -> 343.96656 | CG90: =EXP($CG$6+($CG$7-$CG$6)*((LN($CG$1-A90))-$CG$9)/($CG$10-$CG$9)) -> 216.93628 | CH90: =EXP($CH$6+($CH$7-$CH$6)*((LN($CH$1-A90))-$CH$9)/($CH$10-$CH$9)) -> 163.14926 | CI90: =EXP($CI$6+($CI$7-$CI$6)*((LN($CI$1-A90))-$CI$9)/($CI$10-$CI$9)) -> 133.39175 | CJ90: =EXP($CJ$6+($CJ$7-$CJ$6)*((LN($CJ$1-A90))-$CJ$9)/($CJ$10-$CJ$9)) -> 113.84673 | CK90: =EXP($CK$6+($CK$7-$CK$6)*((LN($CK$1-A90))-$CK$9)/($CK$10-$CK$9)) -> 99.905288 | CL90: =EXP($CL$6+($CL$7-$CL$6)*((LN($CL$1-A90))-$CL$9)/($CL$10-$CL$9)) -> 89.396402 | CM90: =EXP($CM$6+($CM$7-$CM$6)*((LN($CM$1-A90))-$CM$9)/($CM$10-$CM$9)) -> 81.154889 | CN90: =EXP($CN$6+($CN$7-$CN$6)*((LN($CN$1-A90))-$CN$9)/($CN$10-$CN$9)) -> 74.495868 | CO90: =EXP($CO$6+($CO$7-$CO$6)*((LN($CO$1-A90))-$CO$9)/($CO$10-$CO$9)) -> 39.304382 | CP90: =EXP($CP$6+($CP$7-$CP$6)*((LN($CP$1-A90))-$CP$9)/($CP$10-$CP$9)) -> 26.5 | CQ90: =EXP($CQ$6+($CQ$7-$CQ$6)*((LN($CQ$1-A90))-$CQ$9)/($CQ$10-$CQ$9)) -> 23.549137 | CR90: =EXP($CR$6+($CR$7-$CR$6)*((LN($CR$1-A90))-$CR$9)/($CR$10-$CR$9)) -> 21.309616 | CS90: =EXP($CS$6+($CS$7-$CS$6)*((LN($CS$1-A90))-$CS$9)/($CS$10-$CS$9)) -> 19.644003 | CT90: =EXP($CT$6+($CT$7-$CT$6)*((LN($CT$1-A90))-$CT$9)/($CT$10-$CT$9)) -> 18.340526 | CU90: =EXP($CU$6+($CU$7-$CU$6)*((LN($CU$1-A90))-$CU$9)/($CU$10-$CU$9)) -> 17.283182 | CV90: =EXP($CV$6+($CV$7-$CV$6)*((LN($CV$1-A90))-$CV$9)/($CV$10-$CV$9)) -> 16.402308 | CW90: =EXP($CW$6+($CW$7-$CW$6)*((LN($CW$1-A90))-$CW$9)/($CW$10-$CW$9)) -> 15.65316 | CX90: =EXP($CX$6+($CX$7-$CX$6)*((LN($CX$1-A90))-$CX$9)/($CX$10-$CX$9)) -> 8.5827037 | CY90: =EXP($CY$6+($CY$7-$CY$6)*((LN($CY$1-A90))-$CY$9)/($CY$10-$CY$9)) -> 6.0324242 | CZ90: =EXP($CZ$6+($CZ$7-$CZ$6)*((LN($CZ$1-A90))-$CZ$9)/($CZ$10-$CZ$9)) -> 4.0918415 | DA90: =EXP($DA$6+($DA$7-$DA$6)*((LN($DA$1-A90))-$DA$9)/($DA$10-$DA$9)) -> 3.0255965 | DB90: =EXP($DB$6+($DB$7-$DB$6)*((LN($DB$1-A90))-$DB$9)/($DB$10-$DB$9)) -> 2.3644068 | DC90: =EXP($DC$6+($DC$7-$DC$6)*((LN($DC$1-A90))-$DC$9)/($DC$10-$DC$9)) -> 1.9195513 | DD90: =EXP($DD$6+($DD$7-$DD$6)*((LN($DD$1-A90))-$DD$9)/($DD$10-$DD$9)) -> 1.6025002 | DE90: =EXP($DE$6+($DE$7-$DE$6)*((LN($DE$1-A90))-$DE$9)/($DE$10-$DE$9)) -> 1.3666314 | DF90: =EXP($DF$6+($DF$7-$DF$6)*((LN($DF$1-A90))-$DF$9)/($DF$10-$DF$9)) -> 1.1852324
A91: 78 | CC91: 78 | CD91: =M$2 -> 1469.7963 | CE91: =W$2 -> 1155.7574 | CF91: =EXP($CF$6+($CF$7-$CF$6)*((LN($CF$1-A91))-$CF$9)/($CF$10-$CF$9)) -> 346.14875 | CG91: =EXP($CG$6+($CG$7-$CG$6)*((LN($CG$1-A91))-$CG$9)/($CG$10-$CG$9)) -> 217.69293 | CH91: =EXP($CH$6+($CH$7-$CH$6)*((LN($CH$1-A91))-$CH$9)/($CH$10-$CH$9)) -> 163.5274 | CI91: =EXP($CI$6+($CI$7-$CI$6)*((LN($CI$1-A91))-$CI$9)/($CI$10-$CI$9)) -> 133.62768 | CJ91: =EXP($CJ$6+($CJ$7-$CJ$6)*((LN($CJ$1-A91))-$CJ$9)/($CJ$10-$CJ$9)) -> 114.00952 | CK91: =EXP($CK$6+($CK$7-$CK$6)*((LN($CK$1-A91))-$CK$9)/($CK$10-$CK$9)) -> 100.02518 | CL91: =EXP($CL$6+($CL$7-$CL$6)*((LN($CL$1-A91))-$CL$9)/($CL$10-$CL$9)) -> 89.488829 | CM91: =EXP($CM$6+($CM$7-$CM$6)*((LN($CM$1-A91))-$CM$9)/($CM$10-$CM$9)) -> 81.22859 | CN91: =EXP($CN$6+($CN$7-$CN$6)*((LN($CN$1-A91))-$CN$9)/($CN$10-$CN$9)) -> 74.556185 | CO91: =EXP($CO$6+($CO$7-$CO$6)*((LN($CO$1-A91))-$CO$9)/($CO$10-$CO$9)) -> 39.322508 | CP91: =EXP($CP$6+($CP$7-$CP$6)*((LN($CP$1-A91))-$CP$9)/($CP$10-$CP$9)) -> 26.5 | CQ91: =EXP($CQ$6+($CQ$7-$CQ$6)*((LN($CQ$1-A91))-$CQ$9)/($CQ$10-$CQ$9)) -> 23.55178 | CR91: =EXP($CR$6+($CR$7-$CR$6)*((LN($CR$1-A91))-$CR$9)/($CR$10-$CR$9)) -> 21.311521 | CS91: =EXP($CS$6+($CS$7-$CS$6)*((LN($CS$1-A91))-$CS$9)/($CS$10-$CS$9)) -> 19.645463 | CT91: =EXP($CT$6+($CT$7-$CT$6)*((LN($CT$1-A91))-$CT$9)/($CT$10-$CT$9)) -> 18.341692 | CU91: =EXP($CU$6+($CU$7-$CU$6)*((LN($CU$1-A91))-$CU$9)/($CU$10-$CU$9)) -> 17.284143 | CV91: =EXP($CV$6+($CV$7-$CV$6)*((LN($CV$1-A91))-$CV$9)/($CV$10-$CV$9)) -> 16.403118 | CW91: =EXP($CW$6+($CW$7-$CW$6)*((LN($CW$1-A91))-$CW$9)/($CW$10-$CW$9)) -> 15.653855 | CX91: =EXP($CX$6+($CX$7-$CX$6)*((LN($CX$1-A91))-$CX$9)/($CX$10-$CX$9)) -> 8.5830771 | CY91: =EXP($CY$6+($CY$7-$CY$6)*((LN($CY$1-A91))-$CY$9)/($CY$10-$CY$9)) -> 6.0325989 | CZ91: =EXP($CZ$6+($CZ$7-$CZ$6)*((LN($CZ$1-A91))-$CZ$9)/($CZ$10-$CZ$9)) -> 4.0919799 | DA91: =EXP($DA$6+($DA$7-$DA$6)*((LN($DA$1-A91))-$DA$9)/($DA$10-$DA$9)) -> 3.0256783 | DB91: =EXP($DB$6+($DB$7-$DB$6)*((LN($DB$1-A91))-$DB$9)/($DB$10-$DB$9)) -> 2.3644601 | DC91: =EXP($DC$6+($DC$7-$DC$6)*((LN($DC$1-A91))-$DC$9)/($DC$10-$DC$9)) -> 1.9195884 | DD91: =EXP($DD$6+($DD$7-$DD$6)*((LN($DD$1-A91))-$DD$9)/($DD$10-$DD$9)) -> 1.6025273 | DE91: =EXP($DE$6+($DE$7-$DE$6)*((LN($DE$1-A91))-$DE$9)/($DE$10-$DE$9)) -> 1.3666519 | DF91: =EXP($DF$6+($DF$7-$DF$6)*((LN($DF$1-A91))-$DF$9)/($DF$10-$DF$9)) -> 1.1852484
A92: 79 | CC92: 79 | CD92: =L$2 -> 1521.3968 | CE92: =V$2 -> 1177.2765 | CF92: =EXP($CF$6+($CF$7-$CF$6)*((LN($CF$1-A92))-$CF$9)/($CF$10-$CF$9)) -> 348.36293 | CG92: =EXP($CG$6+($CG$7-$CG$6)*((LN($CG$1-A92))-$CG$9)/($CG$10-$CG$9)) -> 218.45566 | CH92: =EXP($CH$6+($CH$7-$CH$6)*((LN($CH$1-A92))-$CH$9)/($CH$10-$CH$9)) -> 163.9076 | CI92: =EXP($CI$6+($CI$7-$CI$6)*((LN($CI$1-A92))-$CI$9)/($CI$10-$CI$9)) -> 133.86459 | CJ92: =EXP($CJ$6+($CJ$7-$CJ$6)*((LN($CJ$1-A92))-$CJ$9)/($CJ$10-$CJ$9)) -> 114.17286 | CK92: =EXP($CK$6+($CK$7-$CK$6)*((LN($CK$1-A92))-$CK$9)/($CK$10-$CK$9)) -> 100.14542 | CL92: =EXP($CL$6+($CL$7-$CL$6)*((LN($CL$1-A92))-$CL$9)/($CL$10-$CL$9)) -> 89.58148 | CM92: =EXP($CM$6+($CM$7-$CM$6)*((LN($CM$1-A92))-$CM$9)/($CM$10-$CM$9)) -> 81.302447 | CN92: =EXP($CN$6+($CN$7-$CN$6)*((LN($CN$1-A92))-$CN$9)/($CN$10-$CN$9)) -> 74.616615 | CO92: =EXP($CO$6+($CO$7-$CO$6)*((LN($CO$1-A92))-$CO$9)/($CO$10-$CO$9)) -> 39.340651 | CP92: =EXP($CP$6+($CP$7-$CP$6)*((LN($CP$1-A92))-$CP$9)/($CP$10-$CP$9)) -> 26.5 | CQ92: =EXP($CQ$6+($CQ$7-$CQ$6)*((LN($CQ$1-A92))-$CQ$9)/($CQ$10-$CQ$9)) -> 23.554423 | CR92: =EXP($CR$6+($CR$7-$CR$6)*((LN($CR$1-A92))-$CR$9)/($CR$10-$CR$9)) -> 21.313427 | CS92: =EXP($CS$6+($CS$7-$CS$6)*((LN($CS$1-A92))-$CS$9)/($CS$10-$CS$9)) -> 19.646923 | CT92: =EXP($CT$6+($CT$7-$CT$6)*((LN($CT$1-A92))-$CT$9)/($CT$10-$CT$9)) -> 18.342858 | CU92: =EXP($CU$6+($CU$7-$CU$6)*((LN($CU$1-A92))-$CU$9)/($CU$10-$CU$9)) -> 17.285103 | CV92: =EXP($CV$6+($CV$7-$CV$6)*((LN($CV$1-A92))-$CV$9)/($CV$10-$CV$9)) -> 16.403927 | CW92: =EXP($CW$6+($CW$7-$CW$6)*((LN($CW$1-A92))-$CW$9)/($CW$10-$CW$9)) -> 15.654549 | CX92: =EXP($CX$6+($CX$7-$CX$6)*((LN($CX$1-A92))-$CX$9)/($CX$10-$CX$9)) -> 8.5834506 | CY92: =EXP($CY$6+($CY$7-$CY$6)*((LN($CY$1-A92))-$CY$9)/($CY$10-$CY$9)) -> 6.0327737 | CZ92: =EXP($CZ$6+($CZ$7-$CZ$6)*((LN($CZ$1-A92))-$CZ$9)/($CZ$10-$CZ$9)) -> 4.0921183 | DA92: =EXP($DA$6+($DA$7-$DA$6)*((LN($DA$1-A92))-$DA$9)/($DA$10-$DA$9)) -> 3.0257602 | DB92: =EXP($DB$6+($DB$7-$DB$6)*((LN($DB$1-A92))-$DB$9)/($DB$10-$DB$9)) -> 2.3645134 | DC92: =EXP($DC$6+($DC$7-$DC$6)*((LN($DC$1-A92))-$DC$9)/($DC$10-$DC$9)) -> 1.9196254 | DD92: =EXP($DD$6+($DD$7-$DD$6)*((LN($DD$1-A92))-$DD$9)/($DD$10-$DD$9)) -> 1.6025544 | DE92: =EXP($DE$6+($DE$7-$DE$6)*((LN($DE$1-A92))-$DE$9)/($DE$10-$DE$9)) -> 1.3666725 | DF92: =EXP($DF$6+($DF$7-$DF$6)*((LN($DF$1-A92))-$DF$9)/($DF$10-$DF$9)) -> 1.1852644
A93: 80 | CC93: 80 | CD93: =K$2 -> 1580 | CE93: =U$2 -> 1200.2764 | CF93: =EXP($CF$6+($CF$7-$CF$6)*((LN($CF$1-A93))-$CF$9)/($CF$10-$CF$9)) -> 350.60981 | CG93: =EXP($CG$6+($CG$7-$CG$6)*((LN($CG$1-A93))-$CG$9)/($CG$10-$CG$9)) -> 219.22453 | CH93: =EXP($CH$6+($CH$7-$CH$6)*((LN($CH$1-A93))-$CH$9)/($CH$10-$CH$9)) -> 164.28987 | CI93: =EXP($CI$6+($CI$7-$CI$6)*((LN($CI$1-A93))-$CI$9)/($CI$10-$CI$9)) -> 134.10248 | CJ93: =EXP($CJ$6+($CJ$7-$CJ$6)*((LN($CJ$1-A93))-$CJ$9)/($CJ$10-$CJ$9)) -> 114.33675 | CK93: =EXP($CK$6+($CK$7-$CK$6)*((LN($CK$1-A93))-$CK$9)/($CK$10-$CK$9)) -> 100.26599 | CL93: =EXP($CL$6+($CL$7-$CL$6)*((LN($CL$1-A93))-$CL$9)/($CL$10-$CL$9)) -> 89.674356 | CM93: =EXP($CM$6+($CM$7-$CM$6)*((LN($CM$1-A93))-$CM$9)/($CM$10-$CM$9)) -> 81.376461 | CN93: =EXP($CN$6+($CN$7-$CN$6)*((LN($CN$1-A93))-$CN$9)/($CN$10-$CN$9)) -> 74.677161 | CO93: =EXP($CO$6+($CO$7-$CO$6)*((LN($CO$1-A93))-$CO$9)/($CO$10-$CO$9)) -> 39.358812 | CP93: =EXP($CP$6+($CP$7-$CP$6)*((LN($CP$1-A93))-$CP$9)/($CP$10-$CP$9)) -> 26.5 | CQ93: =EXP($CQ$6+($CQ$7-$CQ$6)*((LN($CQ$1-A93))-$CQ$9)/($CQ$10-$CQ$9)) -> 23.557067 | CR93: =EXP($CR$6+($CR$7-$CR$6)*((LN($CR$1-A93))-$CR$9)/($CR$10-$CR$9)) -> 21.315334 | CS93: =EXP($CS$6+($CS$7-$CS$6)*((LN($CS$1-A93))-$CS$9)/($CS$10-$CS$9)) -> 19.648384 | CT93: =EXP($CT$6+($CT$7-$CT$6)*((LN($CT$1-A93))-$CT$9)/($CT$10-$CT$9)) -> 18.344024 | CU93: =EXP($CU$6+($CU$7-$CU$6)*((LN($CU$1-A93))-$CU$9)/($CU$10-$CU$9)) -> 17.286063 | CV93: =EXP($CV$6+($CV$7-$CV$6)*((LN($CV$1-A93))-$CV$9)/($CV$10-$CV$9)) -> 16.404736 | CW93: =EXP($CW$6+($CW$7-$CW$6)*((LN($CW$1-A93))-$CW$9)/($CW$10-$CW$9)) -> 15.655244 | CX93: =EXP($CX$6+($CX$7-$CX$6)*((LN($CX$1-A93))-$CX$9)/($CX$10-$CX$9)) -> 8.5838241 | CY93: =EXP($CY$6+($CY$7-$CY$6)*((LN($CY$1-A93))-$CY$9)/($CY$10-$CY$9)) -> 6.0329485 | CZ93: =EXP($CZ$6+($CZ$7-$CZ$6)*((LN($CZ$1-A93))-$CZ$9)/($CZ$10-$CZ$9)) -> 4.0922568 | DA93: =EXP($DA$6+($DA$7-$DA$6)*((LN($DA$1-A93))-$DA$9)/($DA$10-$DA$9)) -> 3.025842 | DB93: =EXP($DB$6+($DB$7-$DB$6)*((LN($DB$1-A93))-$DB$9)/($DB$10-$DB$9)) -> 2.3645667 | DC93: =EXP($DC$6+($DC$7-$DC$6)*((LN($DC$1-A93))-$DC$9)/($DC$10-$DC$9)) -> 1.9196625 | DD93: =EXP($DD$6+($DD$7-$DD$6)*((LN($DD$1-A93))-$DD$9)/($DD$10-$DD$9)) -> 1.6025815 | DE93: =EXP($DE$6+($DE$7-$DE$6)*((LN($DE$1-A93))-$DE$9)/($DE$10-$DE$9)) -> 1.366693 | DF93: =EXP($DF$6+($DF$7-$DF$6)*((LN($DF$1-A93))-$DF$9)/($DF$10-$DF$9)) -> 1.1852804
A94: 81 | CC94: 81 | CD94: =J$2 -> 1722.664 | CE94: =T$2 -> 1224.9409 | CF94: =EXP($CF$6+($CF$7-$CF$6)*((LN($CF$1-A94))-$CF$9)/($CF$10-$CF$9)) -> 352.89018 | CG94: =EXP($CG$6+($CG$7-$CG$6)*((LN($CG$1-A94))-$CG$9)/($CG$10-$CG$9)) -> 219.99964 | CH94: =EXP($CH$6+($CH$7-$CH$6)*((LN($CH$1-A94))-$CH$9)/($CH$10-$CH$9)) -> 164.67423 | CI94: =EXP($CI$6+($CI$7-$CI$6)*((LN($CI$1-A94))-$CI$9)/($CI$10-$CI$9)) -> 134.34136 | CJ94: =EXP($CJ$6+($CJ$7-$CJ$6)*((LN($CJ$1-A94))-$CJ$9)/($CJ$10-$CJ$9)) -> 114.50119 | CK94: =EXP($CK$6+($CK$7-$CK$6)*((LN($CK$1-A94))-$CK$9)/($CK$10-$CK$9)) -> 100.3869 | CL94: =EXP($CL$6+($CL$7-$CL$6)*((LN($CL$1-A94))-$CL$9)/($CL$10-$CL$9)) -> 89.767457 | CM94: =EXP($CM$6+($CM$7-$CM$6)*((LN($CM$1-A94))-$CM$9)/($CM$10-$CM$9)) -> 81.450633 | CN94: =EXP($CN$6+($CN$7-$CN$6)*((LN($CN$1-A94))-$CN$9)/($CN$10-$CN$9)) -> 74.737821 | CO94: =EXP($CO$6+($CO$7-$CO$6)*((LN($CO$1-A94))-$CO$9)/($CO$10-$CO$9)) -> 39.376991 | CP94: =EXP($CP$6+($CP$7-$CP$6)*((LN($CP$1-A94))-$CP$9)/($CP$10-$CP$9)) -> 26.5 | CQ94: =EXP($CQ$6+($CQ$7-$CQ$6)*((LN($CQ$1-A94))-$CQ$9)/($CQ$10-$CQ$9)) -> 23.559712 | CR94: =EXP($CR$6+($CR$7-$CR$6)*((LN($CR$1-A94))-$CR$9)/($CR$10-$CR$9)) -> 21.317241 | CS94: =EXP($CS$6+($CS$7-$CS$6)*((LN($CS$1-A94))-$CS$9)/($CS$10-$CS$9)) -> 19.649845 | CT94: =EXP($CT$6+($CT$7-$CT$6)*((LN($CT$1-A94))-$CT$9)/($CT$10-$CT$9)) -> 18.345191 | CU94: =EXP($CU$6+($CU$7-$CU$6)*((LN($CU$1-A94))-$CU$9)/($CU$10-$CU$9)) -> 17.287024 | CV94: =EXP($CV$6+($CV$7-$CV$6)*((LN($CV$1-A94))-$CV$9)/($CV$10-$CV$9)) -> 16.405546 | CW94: =EXP($CW$6+($CW$7-$CW$6)*((LN($CW$1-A94))-$CW$9)/($CW$10-$CW$9)) -> 15.655938 | CX94: =EXP($CX$6+($CX$7-$CX$6)*((LN($CX$1-A94))-$CX$9)/($CX$10-$CX$9)) -> 8.5841977 | CY94: =EXP($CY$6+($CY$7-$CY$6)*((LN($CY$1-A94))-$CY$9)/($CY$10-$CY$9)) -> 6.0331233 | CZ94: =EXP($CZ$6+($CZ$7-$CZ$6)*((LN($CZ$1-A94))-$CZ$9)/($CZ$10-$CZ$9)) -> 4.0923952 | DA94: =EXP($DA$6+($DA$7-$DA$6)*((LN($DA$1-A94))-$DA$9)/($DA$10-$DA$9)) -> 3.0259239 | DB94: =EXP($DB$6+($DB$7-$DB$6)*((LN($DB$1-A94))-$DB$9)/($DB$10-$DB$9)) -> 2.36462 | DC94: =EXP($DC$6+($DC$7-$DC$6)*((LN($DC$1-A94))-$DC$9)/($DC$10-$DC$9)) -> 1.9196996 | DD94: =EXP($DD$6+($DD$7-$DD$6)*((LN($DD$1-A94))-$DD$9)/($DD$10-$DD$9)) -> 1.6026086 | DE94: =EXP($DE$6+($DE$7-$DE$6)*((LN($DE$1-A94))-$DE$9)/($DE$10-$DE$9)) -> 1.3667135 | DF94: =EXP($DF$6+($DF$7-$DF$6)*((LN($DF$1-A94))-$DF$9)/($DF$10-$DF$9)) -> 1.1852965
A95: 82 | CC95: 82 | CD95: =I$2 -> 1897.4513 | CE95: =S$2 -> 1251.4882 | CF95: =EXP($CF$6+($CF$7-$CF$6)*((LN($CF$1-A95))-$CF$9)/($CF$10-$CF$9)) -> 355.20481 | CG95: =EXP($CG$6+($CG$7-$CG$6)*((LN($CG$1-A95))-$CG$9)/($CG$10-$CG$9)) -> 220.78105 | CH95: =EXP($CH$6+($CH$7-$CH$6)*((LN($CH$1-A95))-$CH$9)/($CH$10-$CH$9)) -> 165.0607 | CI95: =EXP($CI$6+($CI$7-$CI$6)*((LN($CI$1-A95))-$CI$9)/($CI$10-$CI$9)) -> 134.58124 | CJ95: =EXP($CJ$6+($CJ$7-$CJ$6)*((LN($CJ$1-A95))-$CJ$9)/($CJ$10-$CJ$9)) -> 114.66618 | CK95: =EXP($CK$6+($CK$7-$CK$6)*((LN($CK$1-A95))-$CK$9)/($CK$10-$CK$9)) -> 100.50815 | CL95: =EXP($CL$6+($CL$7-$CL$6)*((LN($CL$1-A95))-$CL$9)/($CL$10-$CL$9)) -> 89.860785 | CM95: =EXP($CM$6+($CM$7-$CM$6)*((LN($CM$1-A95))-$CM$9)/($CM$10-$CM$9)) -> 81.524964 | CN95: =EXP($CN$6+($CN$7-$CN$6)*((LN($CN$1-A95))-$CN$9)/($CN$10-$CN$9)) -> 74.798597 | CO95: =EXP($CO$6+($CO$7-$CO$6)*((LN($CO$1-A95))-$CO$9)/($CO$10-$CO$9)) -> 39.395188 | CP95: =EXP($CP$6+($CP$7-$CP$6)*((LN($CP$1-A95))-$CP$9)/($CP$10-$CP$9)) -> 26.5 | CQ95: =EXP($CQ$6+($CQ$7-$CQ$6)*((LN($CQ$1-A95))-$CQ$9)/($CQ$10-$CQ$9)) -> 23.562359 | CR95: =EXP($CR$6+($CR$7-$CR$6)*((LN($CR$1-A95))-$CR$9)/($CR$10-$CR$9)) -> 21.319148 | CS95: =EXP($CS$6+($CS$7-$CS$6)*((LN($CS$1-A95))-$CS$9)/($CS$10-$CS$9)) -> 19.651306 | CT95: =EXP($CT$6+($CT$7-$CT$6)*((LN($CT$1-A95))-$CT$9)/($CT$10-$CT$9)) -> 18.346358 | CU95: =EXP($CU$6+($CU$7-$CU$6)*((LN($CU$1-A95))-$CU$9)/($CU$10-$CU$9)) -> 17.287985 | CV95: =EXP($CV$6+($CV$7-$CV$6)*((LN($CV$1-A95))-$CV$9)/($CV$10-$CV$9)) -> 16.406355 | CW95: =EXP($CW$6+($CW$7-$CW$6)*((LN($CW$1-A95))-$CW$9)/($CW$10-$CW$9)) -> 15.656633 | CX95: =EXP($CX$6+($CX$7-$CX$6)*((LN($CX$1-A95))-$CX$9)/($CX$10-$CX$9)) -> 8.5845713 | CY95: =EXP($CY$6+($CY$7-$CY$6)*((LN($CY$1-A95))-$CY$9)/($CY$10-$CY$9)) -> 6.0332981 | CZ95: =EXP($CZ$6+($CZ$7-$CZ$6)*((LN($CZ$1-A95))-$CZ$9)/($CZ$10-$CZ$9)) -> 4.0925337 | DA95: =EXP($DA$6+($DA$7-$DA$6)*((LN($DA$1-A95))-$DA$9)/($DA$10-$DA$9)) -> 3.0260058 | DB95: =EXP($DB$6+($DB$7-$DB$6)*((LN($DB$1-A95))-$DB$9)/($DB$10-$DB$9)) -> 2.3646733 | DC95: =EXP($DC$6+($DC$7-$DC$6)*((LN($DC$1-A95))-$DC$9)/($DC$10-$DC$9)) -> 1.9197367 | DD95: =EXP($DD$6+($DD$7-$DD$6)*((LN($DD$1-A95))-$DD$9)/($DD$10-$DD$9)) -> 1.6026356 | DE95: =EXP($DE$6+($DE$7-$DE$6)*((LN($DE$1-A95))-$DE$9)/($DE$10-$DE$9)) -> 1.3667341 | DF95: =EXP($DF$6+($DF$7-$DF$6)*((LN($DF$1-A95))-$DF$9)/($DF$10-$DF$9)) -> 1.1853125
A96: 83 | CC96: 83 | CD96: =H$2 -> 2117.1535 | CE96: =R$2 -> 1280.1792 | CF96: =EXP($CF$6+($CF$7-$CF$6)*((LN($CF$1-A96))-$CF$9)/($CF$10-$CF$9)) -> 357.55452 | CG96: =EXP($CG$6+($CG$7-$CG$6)*((LN($CG$1-A96))-$CG$9)/($CG$10-$CG$9)) -> 221.56884 | CH96: =EXP($CH$6+($CH$7-$CH$6)*((LN($CH$1-A96))-$CH$9)/($CH$10-$CH$9)) -> 165.4493 | CI96: =EXP($CI$6+($CI$7-$CI$6)*((LN($CI$1-A96))-$CI$9)/($CI$10-$CI$9)) -> 134.82213 | CJ96: =EXP($CJ$6+($CJ$7-$CJ$6)*((LN($CJ$1-A96))-$CJ$9)/($CJ$10-$CJ$9)) -> 114.83173 | CK96: =EXP($CK$6+($CK$7-$CK$6)*((LN($CK$1-A96))-$CK$9)/($CK$10-$CK$9)) -> 100.62975 | CL96: =EXP($CL$6+($CL$7-$CL$6)*((LN($CL$1-A96))-$CL$9)/($CL$10-$CL$9)) -> 89.95434 | CM96: =EXP($CM$6+($CM$7-$CM$6)*((LN($CM$1-A96))-$CM$9)/($CM$10-$CM$9)) -> 81.599453 | CN96: =EXP($CN$6+($CN$7-$CN$6)*((LN($CN$1-A96))-$CN$9)/($CN$10-$CN$9)) -> 74.859489 | CO96: =EXP($CO$6+($CO$7-$CO$6)*((LN($CO$1-A96))-$CO$9)/($CO$10-$CO$9)) -> 39.413403 | CP96: =EXP($CP$6+($CP$7-$CP$6)*((LN($CP$1-A96))-$CP$9)/($CP$10-$CP$9)) -> 26.5 | CQ96: =EXP($CQ$6+($CQ$7-$CQ$6)*((LN($CQ$1-A96))-$CQ$9)/($CQ$10-$CQ$9)) -> 23.565006 | CR96: =EXP($CR$6+($CR$7-$CR$6)*((LN($CR$1-A96))-$CR$9)/($CR$10-$CR$9)) -> 21.321056 | CS96: =EXP($CS$6+($CS$7-$CS$6)*((LN($CS$1-A96))-$CS$9)/($CS$10-$CS$9)) -> 19.652768 | CT96: =EXP($CT$6+($CT$7-$CT$6)*((LN($CT$1-A96))-$CT$9)/($CT$10-$CT$9)) -> 18.347526 | CU96: =EXP($CU$6+($CU$7-$CU$6)*((LN($CU$1-A96))-$CU$9)/($CU$10-$CU$9)) -> 17.288946 | CV96: =EXP($CV$6+($CV$7-$CV$6)*((LN($CV$1-A96))-$CV$9)/($CV$10-$CV$9)) -> 16.407165 | CW96: =EXP($CW$6+($CW$7-$CW$6)*((LN($CW$1-A96))-$CW$9)/($CW$10-$CW$9)) -> 15.657328 | CX96: =EXP($CX$6+($CX$7-$CX$6)*((LN($CX$1-A96))-$CX$9)/($CX$10-$CX$9)) -> 8.5849449 | CY96: =EXP($CY$6+($CY$7-$CY$6)*((LN($CY$1-A96))-$CY$9)/($CY$10-$CY$9)) -> 6.0334729 | CZ96: =EXP($CZ$6+($CZ$7-$CZ$6)*((LN($CZ$1-A96))-$CZ$9)/($CZ$10-$CZ$9)) -> 4.0926722 | DA96: =EXP($DA$6+($DA$7-$DA$6)*((LN($DA$1-A96))-$DA$9)/($DA$10-$DA$9)) -> 3.0260876 | DB96: =EXP($DB$6+($DB$7-$DB$6)*((LN($DB$1-A96))-$DB$9)/($DB$10-$DB$9)) -> 2.3647266 | DC96: =EXP($DC$6+($DC$7-$DC$6)*((LN($DC$1-A96))-$DC$9)/($DC$10-$DC$9)) -> 1.9197738 | DD96: =EXP($DD$6+($DD$7-$DD$6)*((LN($DD$1-A96))-$DD$9)/($DD$10-$DD$9)) -> 1.6026627 | DE96: =EXP($DE$6+($DE$7-$DE$6)*((LN($DE$1-A96))-$DE$9)/($DE$10-$DE$9)) -> 1.3667546 | DF96: =EXP($DF$6+($DF$7-$DF$6)*((LN($DF$1-A96))-$DF$9)/($DF$10-$DF$9)) -> 1.1853285
A97: 84 | CC97: 84 | CD97: =G$2 -> 2402.5997 | CE97: =Q$2 -> 1311.3291 | CF97: =EXP($CF$6+($CF$7-$CF$6)*((LN($CF$1-A97))-$CF$9)/($CF$10-$CF$9)) -> 359.94014 | CG97: =EXP($CG$6+($CG$7-$CG$6)*((LN($CG$1-A97))-$CG$9)/($CG$10-$CG$9)) -> 222.36311 | CH97: =EXP($CH$6+($CH$7-$CH$6)*((LN($CH$1-A97))-$CH$9)/($CH$10-$CH$9)) -> 165.84005 | CI97: =EXP($CI$6+($CI$7-$CI$6)*((LN($CI$1-A97))-$CI$9)/($CI$10-$CI$9)) -> 135.06402 | CJ97: =EXP($CJ$6+($CJ$7-$CJ$6)*((LN($CJ$1-A97))-$CJ$9)/($CJ$10-$CJ$9)) -> 114.99784 | CK97: =EXP($CK$6+($CK$7-$CK$6)*((LN($CK$1-A97))-$CK$9)/($CK$10-$CK$9)) -> 100.75169 | CL97: =EXP($CL$6+($CL$7-$CL$6)*((LN($CL$1-A97))-$CL$9)/($CL$10-$CL$9)) -> 90.048123 | CM97: =EXP($CM$6+($CM$7-$CM$6)*((LN($CM$1-A97))-$CM$9)/($CM$10-$CM$9)) -> 81.674102 | CN97: =EXP($CN$6+($CN$7-$CN$6)*((LN($CN$1-A97))-$CN$9)/($CN$10-$CN$9)) -> 74.920496 | CO97: =EXP($CO$6+($CO$7-$CO$6)*((LN($CO$1-A97))-$CO$9)/($CO$10-$CO$9)) -> 39.431635 | CP97: =EXP($CP$6+($CP$7-$CP$6)*((LN($CP$1-A97))-$CP$9)/($CP$10-$CP$9)) -> 26.5 | CQ97: =EXP($CQ$6+($CQ$7-$CQ$6)*((LN($CQ$1-A97))-$CQ$9)/($CQ$10-$CQ$9)) -> 23.567654 | CR97: =EXP($CR$6+($CR$7-$CR$6)*((LN($CR$1-A97))-$CR$9)/($CR$10-$CR$9)) -> 21.322965 | CS97: =EXP($CS$6+($CS$7-$CS$6)*((LN($CS$1-A97))-$CS$9)/($CS$10-$CS$9)) -> 19.654229 | CT97: =EXP($CT$6+($CT$7-$CT$6)*((LN($CT$1-A97))-$CT$9)/($CT$10-$CT$9)) -> 18.348693 | CU97: =EXP($CU$6+($CU$7-$CU$6)*((LN($CU$1-A97))-$CU$9)/($CU$10-$CU$9)) -> 17.289907 | CV97: =EXP($CV$6+($CV$7-$CV$6)*((LN($CV$1-A97))-$CV$9)/($CV$10-$CV$9)) -> 16.407975 | CW97: =EXP($CW$6+($CW$7-$CW$6)*((LN($CW$1-A97))-$CW$9)/($CW$10-$CW$9)) -> 15.658023 | CX97: =EXP($CX$6+($CX$7-$CX$6)*((LN($CX$1-A97))-$CX$9)/($CX$10-$CX$9)) -> 8.5853186 | CY97: =EXP($CY$6+($CY$7-$CY$6)*((LN($CY$1-A97))-$CY$9)/($CY$10-$CY$9)) -> 6.0336478 | CZ97: =EXP($CZ$6+($CZ$7-$CZ$6)*((LN($CZ$1-A97))-$CZ$9)/($CZ$10-$CZ$9)) -> 4.0928106 | DA97: =EXP($DA$6+($DA$7-$DA$6)*((LN($DA$1-A97))-$DA$9)/($DA$10-$DA$9)) -> 3.0261695 | DB97: =EXP($DB$6+($DB$7-$DB$6)*((LN($DB$1-A97))-$DB$9)/($DB$10-$DB$9)) -> 2.3647799 | DC97: =EXP($DC$6+($DC$7-$DC$6)*((LN($DC$1-A97))-$DC$9)/($DC$10-$DC$9)) -> 1.9198108 | DD97: =EXP($DD$6+($DD$7-$DD$6)*((LN($DD$1-A97))-$DD$9)/($DD$10-$DD$9)) -> 1.6026898 | DE97: =EXP($DE$6+($DE$7-$DE$6)*((LN($DE$1-A97))-$DE$9)/($DE$10-$DE$9)) -> 1.3667751 | DF97: =EXP($DF$6+($DF$7-$DF$6)*((LN($DF$1-A97))-$DF$9)/($DF$10-$DF$9)) -> 1.1853445
A98: 85 | CC98: 85 | CD98: =F$2 -> 2790.2859 | CE98: =P$2 -> 1345.3234 | CF98: =EXP($CF$6+($CF$7-$CF$6)*((LN($CF$1-A98))-$CF$9)/($CF$10-$CF$9)) -> 362.36253 | CG98: =EXP($CG$6+($CG$7-$CG$6)*((LN($CG$1-A98))-$CG$9)/($CG$10-$CG$9)) -> 223.16393 | CH98: =EXP($CH$6+($CH$7-$CH$6)*((LN($CH$1-A98))-$CH$9)/($CH$10-$CH$9)) -> 166.23296 | CI98: =EXP($CI$6+($CI$7-$CI$6)*((LN($CI$1-A98))-$CI$9)/($CI$10-$CI$9)) -> 135.30694 | CJ98: =EXP($CJ$6+($CJ$7-$CJ$6)*((LN($CJ$1-A98))-$CJ$9)/($CJ$10-$CJ$9)) -> 115.16452 | CK98: =EXP($CK$6+($CK$7-$CK$6)*((LN($CK$1-A98))-$CK$9)/($CK$10-$CK$9)) -> 100.87398 | CL98: =EXP($CL$6+($CL$7-$CL$6)*((LN($CL$1-A98))-$CL$9)/($CL$10-$CL$9)) -> 90.142136 | CM98: =EXP($CM$6+($CM$7-$CM$6)*((LN($CM$1-A98))-$CM$9)/($CM$10-$CM$9)) -> 81.74891 | CN98: =EXP($CN$6+($CN$7-$CN$6)*((LN($CN$1-A98))-$CN$9)/($CN$10-$CN$9)) -> 74.98162 | CO98: =EXP($CO$6+($CO$7-$CO$6)*((LN($CO$1-A98))-$CO$9)/($CO$10-$CO$9)) -> 39.449886 | CP98: =EXP($CP$6+($CP$7-$CP$6)*((LN($CP$1-A98))-$CP$9)/($CP$10-$CP$9)) -> 26.5 | CQ98: =EXP($CQ$6+($CQ$7-$CQ$6)*((LN($CQ$1-A98))-$CQ$9)/($CQ$10-$CQ$9)) -> 23.570303 | CR98: =EXP($CR$6+($CR$7-$CR$6)*((LN($CR$1-A98))-$CR$9)/($CR$10-$CR$9)) -> 21.324874 | CS98: =EXP($CS$6+($CS$7-$CS$6)*((LN($CS$1-A98))-$CS$9)/($CS$10-$CS$9)) -> 19.655692 | CT98: =EXP($CT$6+($CT$7-$CT$6)*((LN($CT$1-A98))-$CT$9)/($CT$10-$CT$9)) -> 18.349861 | CU98: =EXP($CU$6+($CU$7-$CU$6)*((LN($CU$1-A98))-$CU$9)/($CU$10-$CU$9)) -> 17.290868 | CV98: =EXP($CV$6+($CV$7-$CV$6)*((LN($CV$1-A98))-$CV$9)/($CV$10-$CV$9)) -> 16.408785 | CW98: =EXP($CW$6+($CW$7-$CW$6)*((LN($CW$1-A98))-$CW$9)/($CW$10-$CW$9)) -> 15.658718 | CX98: =EXP($CX$6+($CX$7-$CX$6)*((LN($CX$1-A98))-$CX$9)/($CX$10-$CX$9)) -> 8.5856923 | CY98: =EXP($CY$6+($CY$7-$CY$6)*((LN($CY$1-A98))-$CY$9)/($CY$10-$CY$9)) -> 6.0338226 | CZ98: =EXP($CZ$6+($CZ$7-$CZ$6)*((LN($CZ$1-A98))-$CZ$9)/($CZ$10-$CZ$9)) -> 4.0929491 | DA98: =EXP($DA$6+($DA$7-$DA$6)*((LN($DA$1-A98))-$DA$9)/($DA$10-$DA$9)) -> 3.0262514 | DB98: =EXP($DB$6+($DB$7-$DB$6)*((LN($DB$1-A98))-$DB$9)/($DB$10-$DB$9)) -> 2.3648332 | DC98: =EXP($DC$6+($DC$7-$DC$6)*((LN($DC$1-A98))-$DC$9)/($DC$10-$DC$9)) -> 1.9198479 | DD98: =EXP($DD$6+($DD$7-$DD$6)*((LN($DD$1-A98))-$DD$9)/($DD$10-$DD$9)) -> 1.6027169 | DE98: =EXP($DE$6+($DE$7-$DE$6)*((LN($DE$1-A98))-$DE$9)/($DE$10-$DE$9)) -> 1.3667956 | DF98: =EXP($DF$6+($DF$7-$DF$6)*((LN($DF$1-A98))-$DF$9)/($DF$10-$DF$9)) -> 1.1853606
A99: 86 | CC99: 86 | CD99: =E$2 -> 3350.906 | CE99: =O$2 -> 1382.6392 | CF99: =EXP($CF$6+($CF$7-$CF$6)*((LN($CF$1-A99))-$CF$9)/($CF$10-$CF$9)) -> 364.82261 | CG99: =EXP($CG$6+($CG$7-$CG$6)*((LN($CG$1-A99))-$CG$9)/($CG$10-$CG$9)) -> 223.97139 | CH99: =EXP($CH$6+($CH$7-$CH$6)*((LN($CH$1-A99))-$CH$9)/($CH$10-$CH$9)) -> 166.62806 | CI99: =EXP($CI$6+($CI$7-$CI$6)*((LN($CI$1-A99))-$CI$9)/($CI$10-$CI$9)) -> 135.55088 | CJ99: =EXP($CJ$6+($CJ$7-$CJ$6)*((LN($CJ$1-A99))-$CJ$9)/($CJ$10-$CJ$9)) -> 115.33176 | CK99: =EXP($CK$6+($CK$7-$CK$6)*((LN($CK$1-A99))-$CK$9)/($CK$10-$CK$9)) -> 100.99661 | CL99: =EXP($CL$6+($CL$7-$CL$6)*((LN($CL$1-A99))-$CL$9)/($CL$10-$CL$9)) -> 90.236378 | CM99: =EXP($CM$6+($CM$7-$CM$6)*((LN($CM$1-A99))-$CM$9)/($CM$10-$CM$9)) -> 81.82388 | CN99: =EXP($CN$6+($CN$7-$CN$6)*((LN($CN$1-A99))-$CN$9)/($CN$10-$CN$9)) -> 75.042861 | CO99: =EXP($CO$6+($CO$7-$CO$6)*((LN($CO$1-A99))-$CO$9)/($CO$10-$CO$9)) -> 39.468155 | CP99: =EXP($CP$6+($CP$7-$CP$6)*((LN($CP$1-A99))-$CP$9)/($CP$10-$CP$9)) -> 26.5 | CQ99: =EXP($CQ$6+($CQ$7-$CQ$6)*((LN($CQ$1-A99))-$CQ$9)/($CQ$10-$CQ$9)) -> 23.572953 | CR99: =EXP($CR$6+($CR$7-$CR$6)*((LN($CR$1-A99))-$CR$9)/($CR$10-$CR$9)) -> 21.326784 | CS99: =EXP($CS$6+($CS$7-$CS$6)*((LN($CS$1-A99))-$CS$9)/($CS$10-$CS$9)) -> 19.657154 | CT99: =EXP($CT$6+($CT$7-$CT$6)*((LN($CT$1-A99))-$CT$9)/($CT$10-$CT$9)) -> 18.351029 | CU99: =EXP($CU$6+($CU$7-$CU$6)*((LN($CU$1-A99))-$CU$9)/($CU$10-$CU$9)) -> 17.29183 | CV99: =EXP($CV$6+($CV$7-$CV$6)*((LN($CV$1-A99))-$CV$9)/($CV$10-$CV$9)) -> 16.409595 | CW99: =EXP($CW$6+($CW$7-$CW$6)*((LN($CW$1-A99))-$CW$9)/($CW$10-$CW$9)) -> 15.659413 | CX99: =EXP($CX$6+($CX$7-$CX$6)*((LN($CX$1-A99))-$CX$9)/($CX$10-$CX$9)) -> 8.5860661 | CY99: =EXP($CY$6+($CY$7-$CY$6)*((LN($CY$1-A99))-$CY$9)/($CY$10-$CY$9)) -> 6.0339974 | CZ99: =EXP($CZ$6+($CZ$7-$CZ$6)*((LN($CZ$1-A99))-$CZ$9)/($CZ$10-$CZ$9)) -> 4.0930876 | DA99: =EXP($DA$6+($DA$7-$DA$6)*((LN($DA$1-A99))-$DA$9)/($DA$10-$DA$9)) -> 3.0263333 | DB99: =EXP($DB$6+($DB$7-$DB$6)*((LN($DB$1-A99))-$DB$9)/($DB$10-$DB$9)) -> 2.3648865 | DC99: =EXP($DC$6+($DC$7-$DC$6)*((LN($DC$1-A99))-$DC$9)/($DC$10-$DC$9)) -> 1.919885 | DD99: =EXP($DD$6+($DD$7-$DD$6)*((LN($DD$1-A99))-$DD$9)/($DD$10-$DD$9)) -> 1.602744 | DE99: =EXP($DE$6+($DE$7-$DE$6)*((LN($DE$1-A99))-$DE$9)/($DE$10-$DE$9)) -> 1.3668162 | DF99: =EXP($DF$6+($DF$7-$DF$6)*((LN($DF$1-A99))-$DF$9)/($DF$10-$DF$9)) -> 1.1853766
A100: 87 | CC100: 87 | CD100: =D$2 -> 4243 | CE100: =N$2 -> 1423.8753 | CF100: =EXP($CF$6+($CF$7-$CF$6)*((LN($CF$1-A100))-$CF$9)/($CF$10-$CF$9)) -> 367.32128 | CG100: =EXP($CG$6+($CG$7-$CG$6)*((LN($CG$1-A100))-$CG$9)/($CG$10-$CG$9)) -> 224.78557 | CH100: =EXP($CH$6+($CH$7-$CH$6)*((LN($CH$1-A100))-$CH$9)/($CH$10-$CH$9)) -> 167.02536 | CI100: =EXP($CI$6+($CI$7-$CI$6)*((LN($CI$1-A100))-$CI$9)/($CI$10-$CI$9)) -> 135.79585 | CJ100: =EXP($CJ$6+($CJ$7-$CJ$6)*((LN($CJ$1-A100))-$CJ$9)/($CJ$10-$CJ$9)) -> 115.49957 | CK100: =EXP($CK$6+($CK$7-$CK$6)*((LN($CK$1-A100))-$CK$9)/($CK$10-$CK$9)) -> 101.11959 | CL100: =EXP($CL$6+($CL$7-$CL$6)*((LN($CL$1-A100))-$CL$9)/($CL$10-$CL$9)) -> 90.330851 | CM100: =EXP($CM$6+($CM$7-$CM$6)*((LN($CM$1-A100))-$CM$9)/($CM$10-$CM$9)) -> 81.89901 | CN100: =EXP($CN$6+($CN$7-$CN$6)*((LN($CN$1-A100))-$CN$9)/($CN$10-$CN$9)) -> 75.104219 | CO100: =EXP($CO$6+($CO$7-$CO$6)*((LN($CO$1-A100))-$CO$9)/($CO$10-$CO$9)) -> 39.486441 | CP100: =EXP($CP$6+($CP$7-$CP$6)*((LN($CP$1-A100))-$CP$9)/($CP$10-$CP$9)) -> 26.5 | CQ100: =EXP($CQ$6+($CQ$7-$CQ$6)*((LN($CQ$1-A100))-$CQ$9)/($CQ$10-$CQ$9)) -> 23.575605 | CR100: =EXP($CR$6+($CR$7-$CR$6)*((LN($CR$1-A100))-$CR$9)/($CR$10-$CR$9)) -> 21.328694 | CS100: =EXP($CS$6+($CS$7-$CS$6)*((LN($CS$1-A100))-$CS$9)/($CS$10-$CS$9)) -> 19.658617 | CT100: =EXP($CT$6+($CT$7-$CT$6)*((LN($CT$1-A100))-$CT$9)/($CT$10-$CT$9)) -> 18.352197 | CU100: =EXP($CU$6+($CU$7-$CU$6)*((LN($CU$1-A100))-$CU$9)/($CU$10-$CU$9)) -> 17.292792 | CV100: =EXP($CV$6+($CV$7-$CV$6)*((LN($CV$1-A100))-$CV$9)/($CV$10-$CV$9)) -> 16.410405 | CW100: =EXP($CW$6+($CW$7-$CW$6)*((LN($CW$1-A100))-$CW$9)/($CW$10-$CW$9)) -> 15.660108 | CX100: =EXP($CX$6+($CX$7-$CX$6)*((LN($CX$1-A100))-$CX$9)/($CX$10-$CX$9)) -> 8.5864398 | CY100: =EXP($CY$6+($CY$7-$CY$6)*((LN($CY$1-A100))-$CY$9)/($CY$10-$CY$9)) -> 6.0341723 | CZ100: =EXP($CZ$6+($CZ$7-$CZ$6)*((LN($CZ$1-A100))-$CZ$9)/($CZ$10-$CZ$9)) -> 4.0932261 | DA100: =EXP($DA$6+($DA$7-$DA$6)*((LN($DA$1-A100))-$DA$9)/($DA$10-$DA$9)) -> 3.0264152 | DB100: =EXP($DB$6+($DB$7-$DB$6)*((LN($DB$1-A100))-$DB$9)/($DB$10-$DB$9)) -> 2.3649398 | DC100: =EXP($DC$6+($DC$7-$DC$6)*((LN($DC$1-A100))-$DC$9)/($DC$10-$DC$9)) -> 1.9199221 | DD100: =EXP($DD$6+($DD$7-$DD$6)*((LN($DD$1-A100))-$DD$9)/($DD$10-$DD$9)) -> 1.6027711 | DE100: =EXP($DE$6+($DE$7-$DE$6)*((LN($DE$1-A100))-$DE$9)/($DE$10-$DE$9)) -> 1.3668367 | DF100: =EXP($DF$6+($DF$7-$DF$6)*((LN($DF$1-A100))-$DF$9)/($DF$10-$DF$9)) -> 1.1853926
A101: 88 | CC101: 88 | CD101: =C$2 -> 6112.6603 | CE101: =M$2 -> 1469.7963 | CF101: =EXP($CF$6+($CF$7-$CF$6)*((LN($CF$1-A101))-$CF$9)/($CF$10-$CF$9)) -> 369.8595 | CG101: =EXP($CG$6+($CG$7-$CG$6)*((LN($CG$1-A101))-$CG$9)/($CG$10-$CG$9)) -> 225.60656 | CH101: =EXP($CH$6+($CH$7-$CH$6)*((LN($CH$1-A101))-$CH$9)/($CH$10-$CH$9)) -> 167.42489 | CI101: =EXP($CI$6+($CI$7-$CI$6)*((LN($CI$1-A101))-$CI$9)/($CI$10-$CI$9)) -> 136.04185 | CJ101: =EXP($CJ$6+($CJ$7-$CJ$6)*((LN($CJ$1-A101))-$CJ$9)/($CJ$10-$CJ$9)) -> 115.66795 | CK101: =EXP($CK$6+($CK$7-$CK$6)*((LN($CK$1-A101))-$CK$9)/($CK$10-$CK$9)) -> 101.24293 | CL101: =EXP($CL$6+($CL$7-$CL$6)*((LN($CL$1-A101))-$CL$9)/($CL$10-$CL$9)) -> 90.425556 | CM101: =EXP($CM$6+($CM$7-$CM$6)*((LN($CM$1-A101))-$CM$9)/($CM$10-$CM$9)) -> 81.974302 | CN101: =EXP($CN$6+($CN$7-$CN$6)*((LN($CN$1-A101))-$CN$9)/($CN$10-$CN$9)) -> 75.165695 | CO101: =EXP($CO$6+($CO$7-$CO$6)*((LN($CO$1-A101))-$CO$9)/($CO$10-$CO$9)) -> 39.504746 | CP101: =EXP($CP$6+($CP$7-$CP$6)*((LN($CP$1-A101))-$CP$9)/($CP$10-$CP$9)) -> 26.5 | CQ101: =EXP($CQ$6+($CQ$7-$CQ$6)*((LN($CQ$1-A101))-$CQ$9)/($CQ$10-$CQ$9)) -> 23.578257 | CR101: =EXP($CR$6+($CR$7-$CR$6)*((LN($CR$1-A101))-$CR$9)/($CR$10-$CR$9)) -> 21.330605 | CS101: =EXP($CS$6+($CS$7-$CS$6)*((LN($CS$1-A101))-$CS$9)/($CS$10-$CS$9)) -> 19.660081 | CT101: =EXP($CT$6+($CT$7-$CT$6)*((LN($CT$1-A101))-$CT$9)/($CT$10-$CT$9)) -> 18.353366 | CU101: =EXP($CU$6+($CU$7-$CU$6)*((LN($CU$1-A101))-$CU$9)/($CU$10-$CU$9)) -> 17.293753 | CV101: =EXP($CV$6+($CV$7-$CV$6)*((LN($CV$1-A101))-$CV$9)/($CV$10-$CV$9)) -> 16.411215 | CW101: =EXP($CW$6+($CW$7-$CW$6)*((LN($CW$1-A101))-$CW$9)/($CW$10-$CW$9)) -> 15.660803 | CX101: =EXP($CX$6+($CX$7-$CX$6)*((LN($CX$1-A101))-$CX$9)/($CX$10-$CX$9)) -> 8.5868136 | CY101: =EXP($CY$6+($CY$7-$CY$6)*((LN($CY$1-A101))-$CY$9)/($CY$10-$CY$9)) -> 6.0343472 | CZ101: =EXP($CZ$6+($CZ$7-$CZ$6)*((LN($CZ$1-A101))-$CZ$9)/($CZ$10-$CZ$9)) -> 4.0933646 | DA101: =EXP($DA$6+($DA$7-$DA$6)*((LN($DA$1-A101))-$DA$9)/($DA$10-$DA$9)) -> 3.0264971 | DB101: =EXP($DB$6+($DB$7-$DB$6)*((LN($DB$1-A101))-$DB$9)/($DB$10-$DB$9)) -> 2.3649931 | DC101: =EXP($DC$6+($DC$7-$DC$6)*((LN($DC$1-A101))-$DC$9)/($DC$10-$DC$9)) -> 1.9199592 | DD101: =EXP($DD$6+($DD$7-$DD$6)*((LN($DD$1-A101))-$DD$9)/($DD$10-$DD$9)) -> 1.6027982 | DE101: =EXP($DE$6+($DE$7-$DE$6)*((LN($DE$1-A101))-$DE$9)/($DE$10-$DE$9)) -> 1.3668572 | DF101: =EXP($DF$6+($DF$7-$DF$6)*((LN($DF$1-A101))-$DF$9)/($DF$10-$DF$9)) -> 1.1854086
A102: 89 | CC102: 89 | CD102: =B$2 -> 11410 | CE102: =L$2 -> 1521.3968 | CF102: =EXP($CF$6+($CF$7-$CF$6)*((LN($CF$1-A102))-$CF$9)/($CF$10-$CF$9)) -> 372.43827 | CG102: =EXP($CG$6+($CG$7-$CG$6)*((LN($CG$1-A102))-$CG$9)/($CG$10-$CG$9)) -> 226.43445 | CH102: =EXP($CH$6+($CH$7-$CH$6)*((LN($CH$1-A102))-$CH$9)/($CH$10-$CH$9)) -> 167.82666 | CI102: =EXP($CI$6+($CI$7-$CI$6)*((LN($CI$1-A102))-$CI$9)/($CI$10-$CI$9)) -> 136.28891 | CJ102: =EXP($CJ$6+($CJ$7-$CJ$6)*((LN($CJ$1-A102))-$CJ$9)/($CJ$10-$CJ$9)) -> 115.83691 | CK102: =EXP($CK$6+($CK$7-$CK$6)*((LN($CK$1-A102))-$CK$9)/($CK$10-$CK$9)) -> 101.36662 | CL102: =EXP($CL$6+($CL$7-$CL$6)*((LN($CL$1-A102))-$CL$9)/($CL$10-$CL$9)) -> 90.520493 | CM102: =EXP($CM$6+($CM$7-$CM$6)*((LN($CM$1-A102))-$CM$9)/($CM$10-$CM$9)) -> 82.049756 | CN102: =EXP($CN$6+($CN$7-$CN$6)*((LN($CN$1-A102))-$CN$9)/($CN$10-$CN$9)) -> 75.227288 | CO102: =EXP($CO$6+($CO$7-$CO$6)*((LN($CO$1-A102))-$CO$9)/($CO$10-$CO$9)) -> 39.523069 | CP102: =EXP($CP$6+($CP$7-$CP$6)*((LN($CP$1-A102))-$CP$9)/($CP$10-$CP$9)) -> 26.5 | CQ102: =EXP($CQ$6+($CQ$7-$CQ$6)*((LN($CQ$1-A102))-$CQ$9)/($CQ$10-$CQ$9)) -> 23.58091 | CR102: =EXP($CR$6+($CR$7-$CR$6)*((LN($CR$1-A102))-$CR$9)/($CR$10-$CR$9)) -> 21.332517 | CS102: =EXP($CS$6+($CS$7-$CS$6)*((LN($CS$1-A102))-$CS$9)/($CS$10-$CS$9)) -> 19.661545 | CT102: =EXP($CT$6+($CT$7-$CT$6)*((LN($CT$1-A102))-$CT$9)/($CT$10-$CT$9)) -> 18.354534 | CU102: =EXP($CU$6+($CU$7-$CU$6)*((LN($CU$1-A102))-$CU$9)/($CU$10-$CU$9)) -> 17.294715 | CV102: =EXP($CV$6+($CV$7-$CV$6)*((LN($CV$1-A102))-$CV$9)/($CV$10-$CV$9)) -> 16.412026 | CW102: =EXP($CW$6+($CW$7-$CW$6)*((LN($CW$1-A102))-$CW$9)/($CW$10-$CW$9)) -> 15.661499 | CX102: =EXP($CX$6+($CX$7-$CX$6)*((LN($CX$1-A102))-$CX$9)/($CX$10-$CX$9)) -> 8.5871875 | CY102: =EXP($CY$6+($CY$7-$CY$6)*((LN($CY$1-A102))-$CY$9)/($CY$10-$CY$9)) -> 6.0345221 | CZ102: =EXP($CZ$6+($CZ$7-$CZ$6)*((LN($CZ$1-A102))-$CZ$9)/($CZ$10-$CZ$9)) -> 4.0935031 | DA102: =EXP($DA$6+($DA$7-$DA$6)*((LN($DA$1-A102))-$DA$9)/($DA$10-$DA$9)) -> 3.026579 | DB102: =EXP($DB$6+($DB$7-$DB$6)*((LN($DB$1-A102))-$DB$9)/($DB$10-$DB$9)) -> 2.3650465 | DC102: =EXP($DC$6+($DC$7-$DC$6)*((LN($DC$1-A102))-$DC$9)/($DC$10-$DC$9)) -> 1.9199963 | DD102: =EXP($DD$6+($DD$7-$DD$6)*((LN($DD$1-A102))-$DD$9)/($DD$10-$DD$9)) -> 1.6028252 | DE102: =EXP($DE$6+($DE$7-$DE$6)*((LN($DE$1-A102))-$DE$9)/($DE$10-$DE$9)) -> 1.3668778 | DF102: =EXP($DF$6+($DF$7-$DF$6)*((LN($DF$1-A102))-$DF$9)/($DF$10-$DF$9)) -> 1.1854246
A103: 90 | CC103: 90 | CE103: =K$2 -> 1580 | CF103: =EXP($CF$6+($CF$7-$CF$6)*((LN($CF$1-A103))-$CF$9)/($CF$10-$CF$9)) -> 375.05859 | CG103: =EXP($CG$6+($CG$7-$CG$6)*((LN($CG$1-A103))-$CG$9)/($CG$10-$CG$9)) -> 227.26934 | CH103: =EXP($CH$6+($CH$7-$CH$6)*((LN($CH$1-A103))-$CH$9)/($CH$10-$CH$9)) -> 168.23069 | CI103: =EXP($CI$6+($CI$7-$CI$6)*((LN($CI$1-A103))-$CI$9)/($CI$10-$CI$9)) -> 136.53701 | CJ103: =EXP($CJ$6+($CJ$7-$CJ$6)*((LN($CJ$1-A103))-$CJ$9)/($CJ$10-$CJ$9)) -> 116.00644 | CK103: =EXP($CK$6+($CK$7-$CK$6)*((LN($CK$1-A103))-$CK$9)/($CK$10-$CK$9)) -> 101.49066 | CL103: =EXP($CL$6+($CL$7-$CL$6)*((LN($CL$1-A103))-$CL$9)/($CL$10-$CL$9)) -> 90.615664 | CM103: =EXP($CM$6+($CM$7-$CM$6)*((LN($CM$1-A103))-$CM$9)/($CM$10-$CM$9)) -> 82.125372 | CN103: =EXP($CN$6+($CN$7-$CN$6)*((LN($CN$1-A103))-$CN$9)/($CN$10-$CN$9)) -> 75.289 | CO103: =EXP($CO$6+($CO$7-$CO$6)*((LN($CO$1-A103))-$CO$9)/($CO$10-$CO$9)) -> 39.541409 | CP103: =EXP($CP$6+($CP$7-$CP$6)*((LN($CP$1-A103))-$CP$9)/($CP$10-$CP$9)) -> 26.5 | CQ103: =EXP($CQ$6+($CQ$7-$CQ$6)*((LN($CQ$1-A103))-$CQ$9)/($CQ$10-$CQ$9)) -> 23.583564 | CR103: =EXP($CR$6+($CR$7-$CR$6)*((LN($CR$1-A103))-$CR$9)/($CR$10-$CR$9)) -> 21.334429 | CS103: =EXP($CS$6+($CS$7-$CS$6)*((LN($CS$1-A103))-$CS$9)/($CS$10-$CS$9)) -> 19.663009 | CT103: =EXP($CT$6+($CT$7-$CT$6)*((LN($CT$1-A103))-$CT$9)/($CT$10-$CT$9)) -> 18.355703 | CU103: =EXP($CU$6+($CU$7-$CU$6)*((LN($CU$1-A103))-$CU$9)/($CU$10-$CU$9)) -> 17.295678 | CV103: =EXP($CV$6+($CV$7-$CV$6)*((LN($CV$1-A103))-$CV$9)/($CV$10-$CV$9)) -> 16.412837 | CW103: =EXP($CW$6+($CW$7-$CW$6)*((LN($CW$1-A103))-$CW$9)/($CW$10-$CW$9)) -> 15.662194 | CX103: =EXP($CX$6+($CX$7-$CX$6)*((LN($CX$1-A103))-$CX$9)/($CX$10-$CX$9)) -> 8.5875614 | CY103: =EXP($CY$6+($CY$7-$CY$6)*((LN($CY$1-A103))-$CY$9)/($CY$10-$CY$9)) -> 6.034697 | CZ103: =EXP($CZ$6+($CZ$7-$CZ$6)*((LN($CZ$1-A103))-$CZ$9)/($CZ$10-$CZ$9)) -> 4.0936416 | DA103: =EXP($DA$6+($DA$7-$DA$6)*((LN($DA$1-A103))-$DA$9)/($DA$10-$DA$9)) -> 3.0266609 | DB103: =EXP($DB$6+($DB$7-$DB$6)*((LN($DB$1-A103))-$DB$9)/($DB$10-$DB$9)) -> 2.3650998 | DC103: =EXP($DC$6+($DC$7-$DC$6)*((LN($DC$1-A103))-$DC$9)/($DC$10-$DC$9)) -> 1.9200334 | DD103: =EXP($DD$6+($DD$7-$DD$6)*((LN($DD$1-A103))-$DD$9)/($DD$10-$DD$9)) -> 1.6028523 | DE103: =EXP($DE$6+($DE$7-$DE$6)*((LN($DE$1-A103))-$DE$9)/($DE$10-$DE$9)) -> 1.3668983 | DF103: =EXP($DF$6+($DF$7-$DF$6)*((LN($DF$1-A103))-$DF$9)/($DF$10-$DF$9)) -> 1.1854407
A104: 91 | CC104: 91 | CE104: =J$2 -> 1722.664 | CF104: =EXP($CF$6+($CF$7-$CF$6)*((LN($CF$1-A104))-$CF$9)/($CF$10-$CF$9)) -> 377.72154 | CG104: =EXP($CG$6+($CG$7-$CG$6)*((LN($CG$1-A104))-$CG$9)/($CG$10-$CG$9)) -> 228.11131 | CH104: =EXP($CH$6+($CH$7-$CH$6)*((LN($CH$1-A104))-$CH$9)/($CH$10-$CH$9)) -> 168.637 | CI104: =EXP($CI$6+($CI$7-$CI$6)*((LN($CI$1-A104))-$CI$9)/($CI$10-$CI$9)) -> 136.78618 | CJ104: =EXP($CJ$6+($CJ$7-$CJ$6)*((LN($CJ$1-A104))-$CJ$9)/($CJ$10-$CJ$9)) -> 116.17656 | CK104: =EXP($CK$6+($CK$7-$CK$6)*((LN($CK$1-A104))-$CK$9)/($CK$10-$CK$9)) -> 101.61506 | CL104: =EXP($CL$6+($CL$7-$CL$6)*((LN($CL$1-A104))-$CL$9)/($CL$10-$CL$9)) -> 90.711069 | CM104: =EXP($CM$6+($CM$7-$CM$6)*((LN($CM$1-A104))-$CM$9)/($CM$10-$CM$9)) -> 82.201152 | CN104: =EXP($CN$6+($CN$7-$CN$6)*((LN($CN$1-A104))-$CN$9)/($CN$10-$CN$9)) -> 75.35083 | CO104: =EXP($CO$6+($CO$7-$CO$6)*((LN($CO$1-A104))-$CO$9)/($CO$10-$CO$9)) -> 39.559768 | CP104: =EXP($CP$6+($CP$7-$CP$6)*((LN($CP$1-A104))-$CP$9)/($CP$10-$CP$9)) -> 26.5 | CQ104: =EXP($CQ$6+($CQ$7-$CQ$6)*((LN($CQ$1-A104))-$CQ$9)/($CQ$10-$CQ$9)) -> 23.586219 | CR104: =EXP($CR$6+($CR$7-$CR$6)*((LN($CR$1-A104))-$CR$9)/($CR$10-$CR$9)) -> 21.336341 | CS104: =EXP($CS$6+($CS$7-$CS$6)*((LN($CS$1-A104))-$CS$9)/($CS$10-$CS$9)) -> 19.664473 | CT104: =EXP($CT$6+($CT$7-$CT$6)*((LN($CT$1-A104))-$CT$9)/($CT$10-$CT$9)) -> 18.356872 | CU104: =EXP($CU$6+($CU$7-$CU$6)*((LN($CU$1-A104))-$CU$9)/($CU$10-$CU$9)) -> 17.29664 | CV104: =EXP($CV$6+($CV$7-$CV$6)*((LN($CV$1-A104))-$CV$9)/($CV$10-$CV$9)) -> 16.413647 | CW104: =EXP($CW$6+($CW$7-$CW$6)*((LN($CW$1-A104))-$CW$9)/($CW$10-$CW$9)) -> 15.66289 | CX104: =EXP($CX$6+($CX$7-$CX$6)*((LN($CX$1-A104))-$CX$9)/($CX$10-$CX$9)) -> 8.5879353 | CY104: =EXP($CY$6+($CY$7-$CY$6)*((LN($CY$1-A104))-$CY$9)/($CY$10-$CY$9)) -> 6.0348719 | CZ104: =EXP($CZ$6+($CZ$7-$CZ$6)*((LN($CZ$1-A104))-$CZ$9)/($CZ$10-$CZ$9)) -> 4.0937802 | DA104: =EXP($DA$6+($DA$7-$DA$6)*((LN($DA$1-A104))-$DA$9)/($DA$10-$DA$9)) -> 3.0267428 | DB104: =EXP($DB$6+($DB$7-$DB$6)*((LN($DB$1-A104))-$DB$9)/($DB$10-$DB$9)) -> 2.3651531 | DC104: =EXP($DC$6+($DC$7-$DC$6)*((LN($DC$1-A104))-$DC$9)/($DC$10-$DC$9)) -> 1.9200705 | DD104: =EXP($DD$6+($DD$7-$DD$6)*((LN($DD$1-A104))-$DD$9)/($DD$10-$DD$9)) -> 1.6028794 | DE104: =EXP($DE$6+($DE$7-$DE$6)*((LN($DE$1-A104))-$DE$9)/($DE$10-$DE$9)) -> 1.3669188 | DF104: =EXP($DF$6+($DF$7-$DF$6)*((LN($DF$1-A104))-$DF$9)/($DF$10-$DF$9)) -> 1.1854567
A105: 92 | CC105: 92 | CE105: =I$2 -> 1897.4513 | CF105: =EXP($CF$6+($CF$7-$CF$6)*((LN($CF$1-A105))-$CF$9)/($CF$10-$CF$9)) -> 380.4282 | CG105: =EXP($CG$6+($CG$7-$CG$6)*((LN($CG$1-A105))-$CG$9)/($CG$10-$CG$9)) -> 228.96047 | CH105: =EXP($CH$6+($CH$7-$CH$6)*((LN($CH$1-A105))-$CH$9)/($CH$10-$CH$9)) -> 169.04562 | CI105: =EXP($CI$6+($CI$7-$CI$6)*((LN($CI$1-A105))-$CI$9)/($CI$10-$CI$9)) -> 137.03641 | CJ105: =EXP($CJ$6+($CJ$7-$CJ$6)*((LN($CJ$1-A105))-$CJ$9)/($CJ$10-$CJ$9)) -> 116.34726 | CK105: =EXP($CK$6+($CK$7-$CK$6)*((LN($CK$1-A105))-$CK$9)/($CK$10-$CK$9)) -> 101.73981 | CL105: =EXP($CL$6+($CL$7-$CL$6)*((LN($CL$1-A105))-$CL$9)/($CL$10-$CL$9)) -> 90.80671 | CM105: =EXP($CM$6+($CM$7-$CM$6)*((LN($CM$1-A105))-$CM$9)/($CM$10-$CM$9)) -> 82.277096 | CN105: =EXP($CN$6+($CN$7-$CN$6)*((LN($CN$1-A105))-$CN$9)/($CN$10-$CN$9)) -> 75.412779 | CO105: =EXP($CO$6+($CO$7-$CO$6)*((LN($CO$1-A105))-$CO$9)/($CO$10-$CO$9)) -> 39.578145 | CP105: =EXP($CP$6+($CP$7-$CP$6)*((LN($CP$1-A105))-$CP$9)/($CP$10-$CP$9)) -> 26.5 | CQ105: =EXP($CQ$6+($CQ$7-$CQ$6)*((LN($CQ$1-A105))-$CQ$9)/($CQ$10-$CQ$9)) -> 23.588875 | CR105: =EXP($CR$6+($CR$7-$CR$6)*((LN($CR$1-A105))-$CR$9)/($CR$10-$CR$9)) -> 21.338254 | CS105: =EXP($CS$6+($CS$7-$CS$6)*((LN($CS$1-A105))-$CS$9)/($CS$10-$CS$9)) -> 19.665938 | CT105: =EXP($CT$6+($CT$7-$CT$6)*((LN($CT$1-A105))-$CT$9)/($CT$10-$CT$9)) -> 18.358042 | CU105: =EXP($CU$6+($CU$7-$CU$6)*((LN($CU$1-A105))-$CU$9)/($CU$10-$CU$9)) -> 17.297603 | CV105: =EXP($CV$6+($CV$7-$CV$6)*((LN($CV$1-A105))-$CV$9)/($CV$10-$CV$9)) -> 16.414458 | CW105: =EXP($CW$6+($CW$7-$CW$6)*((LN($CW$1-A105))-$CW$9)/($CW$10-$CW$9)) -> 15.663585 | CX105: =EXP($CX$6+($CX$7-$CX$6)*((LN($CX$1-A105))-$CX$9)/($CX$10-$CX$9)) -> 8.5883092 | CY105: =EXP($CY$6+($CY$7-$CY$6)*((LN($CY$1-A105))-$CY$9)/($CY$10-$CY$9)) -> 6.0350468 | CZ105: =EXP($CZ$6+($CZ$7-$CZ$6)*((LN($CZ$1-A105))-$CZ$9)/($CZ$10-$CZ$9)) -> 4.0939187 | DA105: =EXP($DA$6+($DA$7-$DA$6)*((LN($DA$1-A105))-$DA$9)/($DA$10-$DA$9)) -> 3.0268247 | DB105: =EXP($DB$6+($DB$7-$DB$6)*((LN($DB$1-A105))-$DB$9)/($DB$10-$DB$9)) -> 2.3652064 | DC105: =EXP($DC$6+($DC$7-$DC$6)*((LN($DC$1-A105))-$DC$9)/($DC$10-$DC$9)) -> 1.9201076 | DD105: =EXP($DD$6+($DD$7-$DD$6)*((LN($DD$1-A105))-$DD$9)/($DD$10-$DD$9)) -> 1.6029065 | DE105: =EXP($DE$6+($DE$7-$DE$6)*((LN($DE$1-A105))-$DE$9)/($DE$10-$DE$9)) -> 1.3669394 | DF105: =EXP($DF$6+($DF$7-$DF$6)*((LN($DF$1-A105))-$DF$9)/($DF$10-$DF$9)) -> 1.1854727
A106: 93 | CC106: 93 | CE106: =H$2 -> 2117.1535 | CF106: =EXP($CF$6+($CF$7-$CF$6)*((LN($CF$1-A106))-$CF$9)/($CF$10-$CF$9)) -> 383.17971 | CG106: =EXP($CG$6+($CG$7-$CG$6)*((LN($CG$1-A106))-$CG$9)/($CG$10-$CG$9)) -> 229.8169 | CH106: =EXP($CH$6+($CH$7-$CH$6)*((LN($CH$1-A106))-$CH$9)/($CH$10-$CH$9)) -> 169.45656 | CI106: =EXP($CI$6+($CI$7-$CI$6)*((LN($CI$1-A106))-$CI$9)/($CI$10-$CI$9)) -> 137.28771 | CJ106: =EXP($CJ$6+($CJ$7-$CJ$6)*((LN($CJ$1-A106))-$CJ$9)/($CJ$10-$CJ$9)) -> 116.51855 | CK106: =EXP($CK$6+($CK$7-$CK$6)*((LN($CK$1-A106))-$CK$9)/($CK$10-$CK$9)) -> 101.86493 | CL106: =EXP($CL$6+($CL$7-$CL$6)*((LN($CL$1-A106))-$CL$9)/($CL$10-$CL$9)) -> 90.902587 | CM106: =EXP($CM$6+($CM$7-$CM$6)*((LN($CM$1-A106))-$CM$9)/($CM$10-$CM$9)) -> 82.353204 | CN106: =EXP($CN$6+($CN$7-$CN$6)*((LN($CN$1-A106))-$CN$9)/($CN$10-$CN$9)) -> 75.474847 | CO106: =EXP($CO$6+($CO$7-$CO$6)*((LN($CO$1-A106))-$CO$9)/($CO$10-$CO$9)) -> 39.596541 | CP106: =EXP($CP$6+($CP$7-$CP$6)*((LN($CP$1-A106))-$CP$9)/($CP$10-$CP$9)) -> 26.5 | CQ106: =EXP($CQ$6+($CQ$7-$CQ$6)*((LN($CQ$1-A106))-$CQ$9)/($CQ$10-$CQ$9)) -> 23.591532 | CR106: =EXP($CR$6+($CR$7-$CR$6)*((LN($CR$1-A106))-$CR$9)/($CR$10-$CR$9)) -> 21.340168 | CS106: =EXP($CS$6+($CS$7-$CS$6)*((LN($CS$1-A106))-$CS$9)/($CS$10-$CS$9)) -> 19.667403 | CT106: =EXP($CT$6+($CT$7-$CT$6)*((LN($CT$1-A106))-$CT$9)/($CT$10-$CT$9)) -> 18.359212 | CU106: =EXP($CU$6+($CU$7-$CU$6)*((LN($CU$1-A106))-$CU$9)/($CU$10-$CU$9)) -> 17.298565 | CV106: =EXP($CV$6+($CV$7-$CV$6)*((LN($CV$1-A106))-$CV$9)/($CV$10-$CV$9)) -> 16.415269 | CW106: =EXP($CW$6+($CW$7-$CW$6)*((LN($CW$1-A106))-$CW$9)/($CW$10-$CW$9)) -> 15.664281 | CX106: =EXP($CX$6+($CX$7-$CX$6)*((LN($CX$1-A106))-$CX$9)/($CX$10-$CX$9)) -> 8.5886832 | CY106: =EXP($CY$6+($CY$7-$CY$6)*((LN($CY$1-A106))-$CY$9)/($CY$10-$CY$9)) -> 6.0352217 | CZ106: =EXP($CZ$6+($CZ$7-$CZ$6)*((LN($CZ$1-A106))-$CZ$9)/($CZ$10-$CZ$9)) -> 4.0940573 | DA106: =EXP($DA$6+($DA$7-$DA$6)*((LN($DA$1-A106))-$DA$9)/($DA$10-$DA$9)) -> 3.0269066 | DB106: =EXP($DB$6+($DB$7-$DB$6)*((LN($DB$1-A106))-$DB$9)/($DB$10-$DB$9)) -> 2.3652597 | DC106: =EXP($DC$6+($DC$7-$DC$6)*((LN($DC$1-A106))-$DC$9)/($DC$10-$DC$9)) -> 1.9201447 | DD106: =EXP($DD$6+($DD$7-$DD$6)*((LN($DD$1-A106))-$DD$9)/($DD$10-$DD$9)) -> 1.6029336 | DE106: =EXP($DE$6+($DE$7-$DE$6)*((LN($DE$1-A106))-$DE$9)/($DE$10-$DE$9)) -> 1.3669599 | DF106: =EXP($DF$6+($DF$7-$DF$6)*((LN($DF$1-A106))-$DF$9)/($DF$10-$DF$9)) -> 1.1854887
A107: 94 | CC107: 94 | CE107: =G$2 -> 2402.5997 | CF107: =EXP($CF$6+($CF$7-$CF$6)*((LN($CF$1-A107))-$CF$9)/($CF$10-$CF$9)) -> 385.97723 | CG107: =EXP($CG$6+($CG$7-$CG$6)*((LN($CG$1-A107))-$CG$9)/($CG$10-$CG$9)) -> 230.6807 | CH107: =EXP($CH$6+($CH$7-$CH$6)*((LN($CH$1-A107))-$CH$9)/($CH$10-$CH$9)) -> 169.86985 | CI107: =EXP($CI$6+($CI$7-$CI$6)*((LN($CI$1-A107))-$CI$9)/($CI$10-$CI$9)) -> 137.54009 | CJ107: =EXP($CJ$6+($CJ$7-$CJ$6)*((LN($CJ$1-A107))-$CJ$9)/($CJ$10-$CJ$9)) -> 116.69043 | CK107: =EXP($CK$6+($CK$7-$CK$6)*((LN($CK$1-A107))-$CK$9)/($CK$10-$CK$9)) -> 101.9904 | CL107: =EXP($CL$6+($CL$7-$CL$6)*((LN($CL$1-A107))-$CL$9)/($CL$10-$CL$9)) -> 90.998701 | CM107: =EXP($CM$6+($CM$7-$CM$6)*((LN($CM$1-A107))-$CM$9)/($CM$10-$CM$9)) -> 82.429477 | CN107: =EXP($CN$6+($CN$7-$CN$6)*((LN($CN$1-A107))-$CN$9)/($CN$10-$CN$9)) -> 75.537035 | CO107: =EXP($CO$6+($CO$7-$CO$6)*((LN($CO$1-A107))-$CO$9)/($CO$10-$CO$9)) -> 39.614954 | CP107: =EXP($CP$6+($CP$7-$CP$6)*((LN($CP$1-A107))-$CP$9)/($CP$10-$CP$9)) -> 26.5 | CQ107: =EXP($CQ$6+($CQ$7-$CQ$6)*((LN($CQ$1-A107))-$CQ$9)/($CQ$10-$CQ$9)) -> 23.59419 | CR107: =EXP($CR$6+($CR$7-$CR$6)*((LN($CR$1-A107))-$CR$9)/($CR$10-$CR$9)) -> 21.342082 | CS107: =EXP($CS$6+($CS$7-$CS$6)*((LN($CS$1-A107))-$CS$9)/($CS$10-$CS$9)) -> 19.668869 | CT107: =EXP($CT$6+($CT$7-$CT$6)*((LN($CT$1-A107))-$CT$9)/($CT$10-$CT$9)) -> 18.360382 | CU107: =EXP($CU$6+($CU$7-$CU$6)*((LN($CU$1-A107))-$CU$9)/($CU$10-$CU$9)) -> 17.299528 | CV107: =EXP($CV$6+($CV$7-$CV$6)*((LN($CV$1-A107))-$CV$9)/($CV$10-$CV$9)) -> 16.41608 | CW107: =EXP($CW$6+($CW$7-$CW$6)*((LN($CW$1-A107))-$CW$9)/($CW$10-$CW$9)) -> 15.664977 | CX107: =EXP($CX$6+($CX$7-$CX$6)*((LN($CX$1-A107))-$CX$9)/($CX$10-$CX$9)) -> 8.5890572 | CY107: =EXP($CY$6+($CY$7-$CY$6)*((LN($CY$1-A107))-$CY$9)/($CY$10-$CY$9)) -> 6.0353967 | CZ107: =EXP($CZ$6+($CZ$7-$CZ$6)*((LN($CZ$1-A107))-$CZ$9)/($CZ$10-$CZ$9)) -> 4.0941958 | DA107: =EXP($DA$6+($DA$7-$DA$6)*((LN($DA$1-A107))-$DA$9)/($DA$10-$DA$9)) -> 3.0269885 | DB107: =EXP($DB$6+($DB$7-$DB$6)*((LN($DB$1-A107))-$DB$9)/($DB$10-$DB$9)) -> 2.365313 | DC107: =EXP($DC$6+($DC$7-$DC$6)*((LN($DC$1-A107))-$DC$9)/($DC$10-$DC$9)) -> 1.9201817 | DD107: =EXP($DD$6+($DD$7-$DD$6)*((LN($DD$1-A107))-$DD$9)/($DD$10-$DD$9)) -> 1.6029607 | DE107: =EXP($DE$6+($DE$7-$DE$6)*((LN($DE$1-A107))-$DE$9)/($DE$10-$DE$9)) -> 1.3669804 | DF107: =EXP($DF$6+($DF$7-$DF$6)*((LN($DF$1-A107))-$DF$9)/($DF$10-$DF$9)) -> 1.1855048
A108: 95 | CC108: 95 | CE108: =F$2 -> 2790.2859 | CF108: =EXP($CF$6+($CF$7-$CF$6)*((LN($CF$1-A108))-$CF$9)/($CF$10-$CF$9)) -> 388.82199 | CG108: =EXP($CG$6+($CG$7-$CG$6)*((LN($CG$1-A108))-$CG$9)/($CG$10-$CG$9)) -> 231.55198 | CH108: =EXP($CH$6+($CH$7-$CH$6)*((LN($CH$1-A108))-$CH$9)/($CH$10-$CH$9)) -> 170.2855 | CI108: =EXP($CI$6+($CI$7-$CI$6)*((LN($CI$1-A108))-$CI$9)/($CI$10-$CI$9)) -> 137.79357 | CJ108: =EXP($CJ$6+($CJ$7-$CJ$6)*((LN($CJ$1-A108))-$CJ$9)/($CJ$10-$CJ$9)) -> 116.86291 | CK108: =EXP($CK$6+($CK$7-$CK$6)*((LN($CK$1-A108))-$CK$9)/($CK$10-$CK$9)) -> 102.11624 | CL108: =EXP($CL$6+($CL$7-$CL$6)*((LN($CL$1-A108))-$CL$9)/($CL$10-$CL$9)) -> 91.095053 | CM108: =EXP($CM$6+($CM$7-$CM$6)*((LN($CM$1-A108))-$CM$9)/($CM$10-$CM$9)) -> 82.505915 | CN108: =EXP($CN$6+($CN$7-$CN$6)*((LN($CN$1-A108))-$CN$9)/($CN$10-$CN$9)) -> 75.599343 | CO108: =EXP($CO$6+($CO$7-$CO$6)*((LN($CO$1-A108))-$CO$9)/($CO$10-$CO$9)) -> 39.633386 | CP108: =EXP($CP$6+($CP$7-$CP$6)*((LN($CP$1-A108))-$CP$9)/($CP$10-$CP$9)) -> 26.5 | CQ108: =EXP($CQ$6+($CQ$7-$CQ$6)*((LN($CQ$1-A108))-$CQ$9)/($CQ$10-$CQ$9)) -> 23.596849 | CR108: =EXP($CR$6+($CR$7-$CR$6)*((LN($CR$1-A108))-$CR$9)/($CR$10-$CR$9)) -> 21.343997 | CS108: =EXP($CS$6+($CS$7-$CS$6)*((LN($CS$1-A108))-$CS$9)/($CS$10-$CS$9)) -> 19.670334 | CT108: =EXP($CT$6+($CT$7-$CT$6)*((LN($CT$1-A108))-$CT$9)/($CT$10-$CT$9)) -> 18.361552 | CU108: =EXP($CU$6+($CU$7-$CU$6)*((LN($CU$1-A108))-$CU$9)/($CU$10-$CU$9)) -> 17.300491 | CV108: =EXP($CV$6+($CV$7-$CV$6)*((LN($CV$1-A108))-$CV$9)/($CV$10-$CV$9)) -> 16.416892 | CW108: =EXP($CW$6+($CW$7-$CW$6)*((LN($CW$1-A108))-$CW$9)/($CW$10-$CW$9)) -> 15.665673 | CX108: =EXP($CX$6+($CX$7-$CX$6)*((LN($CX$1-A108))-$CX$9)/($CX$10-$CX$9)) -> 8.5894313 | CY108: =EXP($CY$6+($CY$7-$CY$6)*((LN($CY$1-A108))-$CY$9)/($CY$10-$CY$9)) -> 6.0355716 | CZ108: =EXP($CZ$6+($CZ$7-$CZ$6)*((LN($CZ$1-A108))-$CZ$9)/($CZ$10-$CZ$9)) -> 4.0943344 | DA108: =EXP($DA$6+($DA$7-$DA$6)*((LN($DA$1-A108))-$DA$9)/($DA$10-$DA$9)) -> 3.0270704 | DB108: =EXP($DB$6+($DB$7-$DB$6)*((LN($DB$1-A108))-$DB$9)/($DB$10-$DB$9)) -> 2.3653664 | DC108: =EXP($DC$6+($DC$7-$DC$6)*((LN($DC$1-A108))-$DC$9)/($DC$10-$DC$9)) -> 1.9202188 | DD108: =EXP($DD$6+($DD$7-$DD$6)*((LN($DD$1-A108))-$DD$9)/($DD$10-$DD$9)) -> 1.6029878 | DE108: =EXP($DE$6+($DE$7-$DE$6)*((LN($DE$1-A108))-$DE$9)/($DE$10-$DE$9)) -> 1.367001 | DF108: =EXP($DF$6+($DF$7-$DF$6)*((LN($DF$1-A108))-$DF$9)/($DF$10-$DF$9)) -> 1.1855208
A109: 96 | CC109: 96 | CE109: =E$2 -> 3350.906 | CF109: =EXP($CF$6+($CF$7-$CF$6)*((LN($CF$1-A109))-$CF$9)/($CF$10-$CF$9)) -> 391.71524 | CG109: =EXP($CG$6+($CG$7-$CG$6)*((LN($CG$1-A109))-$CG$9)/($CG$10-$CG$9)) -> 232.43083 | CH109: =EXP($CH$6+($CH$7-$CH$6)*((LN($CH$1-A109))-$CH$9)/($CH$10-$CH$9)) -> 170.70354 | CI109: =EXP($CI$6+($CI$7-$CI$6)*((LN($CI$1-A109))-$CI$9)/($CI$10-$CI$9)) -> 138.04814 | CJ109: =EXP($CJ$6+($CJ$7-$CJ$6)*((LN($CJ$1-A109))-$CJ$9)/($CJ$10-$CJ$9)) -> 117.03598 | CK109: =EXP($CK$6+($CK$7-$CK$6)*((LN($CK$1-A109))-$CK$9)/($CK$10-$CK$9)) -> 102.24244 | CL109: =EXP($CL$6+($CL$7-$CL$6)*((LN($CL$1-A109))-$CL$9)/($CL$10-$CL$9)) -> 91.191644 | CM109: =EXP($CM$6+($CM$7-$CM$6)*((LN($CM$1-A109))-$CM$9)/($CM$10-$CM$9)) -> 82.582519 | CN109: =EXP($CN$6+($CN$7-$CN$6)*((LN($CN$1-A109))-$CN$9)/($CN$10-$CN$9)) -> 75.661771 | CO109: =EXP($CO$6+($CO$7-$CO$6)*((LN($CO$1-A109))-$CO$9)/($CO$10-$CO$9)) -> 39.651836 | CP109: =EXP($CP$6+($CP$7-$CP$6)*((LN($CP$1-A109))-$CP$9)/($CP$10-$CP$9)) -> 26.5 | CQ109: =EXP($CQ$6+($CQ$7-$CQ$6)*((LN($CQ$1-A109))-$CQ$9)/($CQ$10-$CQ$9)) -> 23.599509 | CR109: =EXP($CR$6+($CR$7-$CR$6)*((LN($CR$1-A109))-$CR$9)/($CR$10-$CR$9)) -> 21.345913 | CS109: =EXP($CS$6+($CS$7-$CS$6)*((LN($CS$1-A109))-$CS$9)/($CS$10-$CS$9)) -> 19.671801 | CT109: =EXP($CT$6+($CT$7-$CT$6)*((LN($CT$1-A109))-$CT$9)/($CT$10-$CT$9)) -> 18.362722 | CU109: =EXP($CU$6+($CU$7-$CU$6)*((LN($CU$1-A109))-$CU$9)/($CU$10-$CU$9)) -> 17.301455 | CV109: =EXP($CV$6+($CV$7-$CV$6)*((LN($CV$1-A109))-$CV$9)/($CV$10-$CV$9)) -> 16.417703 | CW109: =EXP($CW$6+($CW$7-$CW$6)*((LN($CW$1-A109))-$CW$9)/($CW$10-$CW$9)) -> 15.666369 | CX109: =EXP($CX$6+($CX$7-$CX$6)*((LN($CX$1-A109))-$CX$9)/($CX$10-$CX$9)) -> 8.5898054 | CY109: =EXP($CY$6+($CY$7-$CY$6)*((LN($CY$1-A109))-$CY$9)/($CY$10-$CY$9)) -> 6.0357466 | CZ109: =EXP($CZ$6+($CZ$7-$CZ$6)*((LN($CZ$1-A109))-$CZ$9)/($CZ$10-$CZ$9)) -> 4.094473 | DA109: =EXP($DA$6+($DA$7-$DA$6)*((LN($DA$1-A109))-$DA$9)/($DA$10-$DA$9)) -> 3.0271523 | DB109: =EXP($DB$6+($DB$7-$DB$6)*((LN($DB$1-A109))-$DB$9)/($DB$10-$DB$9)) -> 2.3654197 | DC109: =EXP($DC$6+($DC$7-$DC$6)*((LN($DC$1-A109))-$DC$9)/($DC$10-$DC$9)) -> 1.9202559 | DD109: =EXP($DD$6+($DD$7-$DD$6)*((LN($DD$1-A109))-$DD$9)/($DD$10-$DD$9)) -> 1.6030149 | DE109: =EXP($DE$6+($DE$7-$DE$6)*((LN($DE$1-A109))-$DE$9)/($DE$10-$DE$9)) -> 1.3670215 | DF109: =EXP($DF$6+($DF$7-$DF$6)*((LN($DF$1-A109))-$DF$9)/($DF$10-$DF$9)) -> 1.1855368
A110: 97 | CC110: 97 | CE110: =D$2 -> 4243 | CF110: =EXP($CF$6+($CF$7-$CF$6)*((LN($CF$1-A110))-$CF$9)/($CF$10-$CF$9)) -> 394.65829 | CG110: =EXP($CG$6+($CG$7-$CG$6)*((LN($CG$1-A110))-$CG$9)/($CG$10-$CG$9)) -> 233.31736 | CH110: =EXP($CH$6+($CH$7-$CH$6)*((LN($CH$1-A110))-$CH$9)/($CH$10-$CH$9)) -> 171.12399 | CI110: =EXP($CI$6+($CI$7-$CI$6)*((LN($CI$1-A110))-$CI$9)/($CI$10-$CI$9)) -> 138.30381 | CJ110: =EXP($CJ$6+($CJ$7-$CJ$6)*((LN($CJ$1-A110))-$CJ$9)/($CJ$10-$CJ$9)) -> 117.20966 | CK110: =EXP($CK$6+($CK$7-$CK$6)*((LN($CK$1-A110))-$CK$9)/($CK$10-$CK$9)) -> 102.369 | CL110: =EXP($CL$6+($CL$7-$CL$6)*((LN($CL$1-A110))-$CL$9)/($CL$10-$CL$9)) -> 91.288475 | CM110: =EXP($CM$6+($CM$7-$CM$6)*((LN($CM$1-A110))-$CM$9)/($CM$10-$CM$9)) -> 82.65929 | CN110: =EXP($CN$6+($CN$7-$CN$6)*((LN($CN$1-A110))-$CN$9)/($CN$10-$CN$9)) -> 75.72432 | CO110: =EXP($CO$6+($CO$7-$CO$6)*((LN($CO$1-A110))-$CO$9)/($CO$10-$CO$9)) -> 39.670304 | CP110: =EXP($CP$6+($CP$7-$CP$6)*((LN($CP$1-A110))-$CP$9)/($CP$10-$CP$9)) -> 26.5 | CQ110: =EXP($CQ$6+($CQ$7-$CQ$6)*((LN($CQ$1-A110))-$CQ$9)/($CQ$10-$CQ$9)) -> 23.602169 | CR110: =EXP($CR$6+($CR$7-$CR$6)*((LN($CR$1-A110))-$CR$9)/($CR$10-$CR$9)) -> 21.347828 | CS110: =EXP($CS$6+($CS$7-$CS$6)*((LN($CS$1-A110))-$CS$9)/($CS$10-$CS$9)) -> 19.673267 | CT110: =EXP($CT$6+($CT$7-$CT$6)*((LN($CT$1-A110))-$CT$9)/($CT$10-$CT$9)) -> 18.363893 | CU110: =EXP($CU$6+($CU$7-$CU$6)*((LN($CU$1-A110))-$CU$9)/($CU$10-$CU$9)) -> 17.302418 | CV110: =EXP($CV$6+($CV$7-$CV$6)*((LN($CV$1-A110))-$CV$9)/($CV$10-$CV$9)) -> 16.418515 | CW110: =EXP($CW$6+($CW$7-$CW$6)*((LN($CW$1-A110))-$CW$9)/($CW$10-$CW$9)) -> 15.667065 | CX110: =EXP($CX$6+($CX$7-$CX$6)*((LN($CX$1-A110))-$CX$9)/($CX$10-$CX$9)) -> 8.5901795 | CY110: =EXP($CY$6+($CY$7-$CY$6)*((LN($CY$1-A110))-$CY$9)/($CY$10-$CY$9)) -> 6.0359215 | CZ110: =EXP($CZ$6+($CZ$7-$CZ$6)*((LN($CZ$1-A110))-$CZ$9)/($CZ$10-$CZ$9)) -> 4.0946115 | DA110: =EXP($DA$6+($DA$7-$DA$6)*((LN($DA$1-A110))-$DA$9)/($DA$10-$DA$9)) -> 3.0272342 | DB110: =EXP($DB$6+($DB$7-$DB$6)*((LN($DB$1-A110))-$DB$9)/($DB$10-$DB$9)) -> 2.365473 | DC110: =EXP($DC$6+($DC$7-$DC$6)*((LN($DC$1-A110))-$DC$9)/($DC$10-$DC$9)) -> 1.920293 | DD110: =EXP($DD$6+($DD$7-$DD$6)*((LN($DD$1-A110))-$DD$9)/($DD$10-$DD$9)) -> 1.603042 | DE110: =EXP($DE$6+($DE$7-$DE$6)*((LN($DE$1-A110))-$DE$9)/($DE$10-$DE$9)) -> 1.367042 | DF110: =EXP($DF$6+($DF$7-$DF$6)*((LN($DF$1-A110))-$DF$9)/($DF$10-$DF$9)) -> 1.1855528
A111: 98 | CC111: 98 | CE111: =C$2 -> 6112.6603 | CF111: =EXP($CF$6+($CF$7-$CF$6)*((LN($CF$1-A111))-$CF$9)/($CF$10-$CF$9)) -> 397.65249 | CG111: =EXP($CG$6+($CG$7-$CG$6)*((LN($CG$1-A111))-$CG$9)/($CG$10-$CG$9)) -> 234.21168 | CH111: =EXP($CH$6+($CH$7-$CH$6)*((LN($CH$1-A111))-$CH$9)/($CH$10-$CH$9)) -> 171.54686 | CI111: =EXP($CI$6+($CI$7-$CI$6)*((LN($CI$1-A111))-$CI$9)/($CI$10-$CI$9)) -> 138.56059 | CJ111: =EXP($CJ$6+($CJ$7-$CJ$6)*((LN($CJ$1-A111))-$CJ$9)/($CJ$10-$CJ$9)) -> 117.38394 | CK111: =EXP($CK$6+($CK$7-$CK$6)*((LN($CK$1-A111))-$CK$9)/($CK$10-$CK$9)) -> 102.49593 | CL111: =EXP($CL$6+($CL$7-$CL$6)*((LN($CL$1-A111))-$CL$9)/($CL$10-$CL$9)) -> 91.385547 | CM111: =EXP($CM$6+($CM$7-$CM$6)*((LN($CM$1-A111))-$CM$9)/($CM$10-$CM$9)) -> 82.736229 | CN111: =EXP($CN$6+($CN$7-$CN$6)*((LN($CN$1-A111))-$CN$9)/($CN$10-$CN$9)) -> 75.786991 | CO111: =EXP($CO$6+($CO$7-$CO$6)*((LN($CO$1-A111))-$CO$9)/($CO$10-$CO$9)) -> 39.688791 | CP111: =EXP($CP$6+($CP$7-$CP$6)*((LN($CP$1-A111))-$CP$9)/($CP$10-$CP$9)) -> 26.5 | CQ111: =EXP($CQ$6+($CQ$7-$CQ$6)*((LN($CQ$1-A111))-$CQ$9)/($CQ$10-$CQ$9)) -> 23.604831 | CR111: =EXP($CR$6+($CR$7-$CR$6)*((LN($CR$1-A111))-$CR$9)/($CR$10-$CR$9)) -> 21.349745 | CS111: =EXP($CS$6+($CS$7-$CS$6)*((LN($CS$1-A111))-$CS$9)/($CS$10-$CS$9)) -> 19.674734 | CT111: =EXP($CT$6+($CT$7-$CT$6)*((LN($CT$1-A111))-$CT$9)/($CT$10-$CT$9)) -> 18.365064 | CU111: =EXP($CU$6+($CU$7-$CU$6)*((LN($CU$1-A111))-$CU$9)/($CU$10-$CU$9)) -> 17.303382 | CV111: =EXP($CV$6+($CV$7-$CV$6)*((LN($CV$1-A111))-$CV$9)/($CV$10-$CV$9)) -> 16.419326 | CW111: =EXP($CW$6+($CW$7-$CW$6)*((LN($CW$1-A111))-$CW$9)/($CW$10-$CW$9)) -> 15.667762 | CX111: =EXP($CX$6+($CX$7-$CX$6)*((LN($CX$1-A111))-$CX$9)/($CX$10-$CX$9)) -> 8.5905536 | CY111: =EXP($CY$6+($CY$7-$CY$6)*((LN($CY$1-A111))-$CY$9)/($CY$10-$CY$9)) -> 6.0360965 | CZ111: =EXP($CZ$6+($CZ$7-$CZ$6)*((LN($CZ$1-A111))-$CZ$9)/($CZ$10-$CZ$9)) -> 4.0947501 | DA111: =EXP($DA$6+($DA$7-$DA$6)*((LN($DA$1-A111))-$DA$9)/($DA$10-$DA$9)) -> 3.0273162 | DB111: =EXP($DB$6+($DB$7-$DB$6)*((LN($DB$1-A111))-$DB$9)/($DB$10-$DB$9)) -> 2.3655264 | DC111: =EXP($DC$6+($DC$7-$DC$6)*((LN($DC$1-A111))-$DC$9)/($DC$10-$DC$9)) -> 1.9203301 | DD111: =EXP($DD$6+($DD$7-$DD$6)*((LN($DD$1-A111))-$DD$9)/($DD$10-$DD$9)) -> 1.6030691 | DE111: =EXP($DE$6+($DE$7-$DE$6)*((LN($DE$1-A111))-$DE$9)/($DE$10-$DE$9)) -> 1.3670626 | DF111: =EXP($DF$6+($DF$7-$DF$6)*((LN($DF$1-A111))-$DF$9)/($DF$10-$DF$9)) -> 1.1855689
A112: 99 | CC112: 99 | CE112: =B$2 -> 11410 | CF112: =EXP($CF$6+($CF$7-$CF$6)*((LN($CF$1-A112))-$CF$9)/($CF$10-$CF$9)) -> 400.69924 | CG112: =EXP($CG$6+($CG$7-$CG$6)*((LN($CG$1-A112))-$CG$9)/($CG$10-$CG$9)) -> 235.11389 | CH112: =EXP($CH$6+($CH$7-$CH$6)*((LN($CH$1-A112))-$CH$9)/($CH$10-$CH$9)) -> 171.97219 | CI112: =EXP($CI$6+($CI$7-$CI$6)*((LN($CI$1-A112))-$CI$9)/($CI$10-$CI$9)) -> 138.81849 | CJ112: =EXP($CJ$6+($CJ$7-$CJ$6)*((LN($CJ$1-A112))-$CJ$9)/($CJ$10-$CJ$9)) -> 117.55882 | CK112: =EXP($CK$6+($CK$7-$CK$6)*((LN($CK$1-A112))-$CK$9)/($CK$10-$CK$9)) -> 102.62324 | CL112: =EXP($CL$6+($CL$7-$CL$6)*((LN($CL$1-A112))-$CL$9)/($CL$10-$CL$9)) -> 91.482861 | CM112: =EXP($CM$6+($CM$7-$CM$6)*((LN($CM$1-A112))-$CM$9)/($CM$10-$CM$9)) -> 82.813334 | CN112: =EXP($CN$6+($CN$7-$CN$6)*((LN($CN$1-A112))-$CN$9)/($CN$10-$CN$9)) -> 75.849782 | CO112: =EXP($CO$6+($CO$7-$CO$6)*((LN($CO$1-A112))-$CO$9)/($CO$10-$CO$9)) -> 39.707296 | CP112: =EXP($CP$6+($CP$7-$CP$6)*((LN($CP$1-A112))-$CP$9)/($CP$10-$CP$9)) -> 26.5 | CQ112: =EXP($CQ$6+($CQ$7-$CQ$6)*((LN($CQ$1-A112))-$CQ$9)/($CQ$10-$CQ$9)) -> 23.607494 | CR112: =EXP($CR$6+($CR$7-$CR$6)*((LN($CR$1-A112))-$CR$9)/($CR$10-$CR$9)) -> 21.351662 | CS112: =EXP($CS$6+($CS$7-$CS$6)*((LN($CS$1-A112))-$CS$9)/($CS$10-$CS$9)) -> 19.676201 | CT112: =EXP($CT$6+($CT$7-$CT$6)*((LN($CT$1-A112))-$CT$9)/($CT$10-$CT$9)) -> 18.366235 | CU112: =EXP($CU$6+($CU$7-$CU$6)*((LN($CU$1-A112))-$CU$9)/($CU$10-$CU$9)) -> 17.304346 | CV112: =EXP($CV$6+($CV$7-$CV$6)*((LN($CV$1-A112))-$CV$9)/($CV$10-$CV$9)) -> 16.420138 | CW112: =EXP($CW$6+($CW$7-$CW$6)*((LN($CW$1-A112))-$CW$9)/($CW$10-$CW$9)) -> 15.668458 | CX112: =EXP($CX$6+($CX$7-$CX$6)*((LN($CX$1-A112))-$CX$9)/($CX$10-$CX$9)) -> 8.5909278 | CY112: =EXP($CY$6+($CY$7-$CY$6)*((LN($CY$1-A112))-$CY$9)/($CY$10-$CY$9)) -> 6.0362715 | CZ112: =EXP($CZ$6+($CZ$7-$CZ$6)*((LN($CZ$1-A112))-$CZ$9)/($CZ$10-$CZ$9)) -> 4.0948887 | DA112: =EXP($DA$6+($DA$7-$DA$6)*((LN($DA$1-A112))-$DA$9)/($DA$10-$DA$9)) -> 3.0273981 | DB112: =EXP($DB$6+($DB$7-$DB$6)*((LN($DB$1-A112))-$DB$9)/($DB$10-$DB$9)) -> 2.3655797 | DC112: =EXP($DC$6+($DC$7-$DC$6)*((LN($DC$1-A112))-$DC$9)/($DC$10-$DC$9)) -> 1.9203672 | DD112: =EXP($DD$6+($DD$7-$DD$6)*((LN($DD$1-A112))-$DD$9)/($DD$10-$DD$9)) -> 1.6030962 | DE112: =EXP($DE$6+($DE$7-$DE$6)*((LN($DE$1-A112))-$DE$9)/($DE$10-$DE$9)) -> 1.3670831 | DF112: =EXP($DF$6+($DF$7-$DF$6)*((LN($DF$1-A112))-$DF$9)/($DF$10-$DF$9)) -> 1.1855849
A113: 100 | CC113: 100 | CF113: =EXP($CF$6+($CF$7-$CF$6)*((LN($CF$1-A113))-$CF$9)/($CF$10-$CF$9)) -> 403.8 | CG113: =EXP($CG$6+($CG$7-$CG$6)*((LN($CG$1-A113))-$CG$9)/($CG$10-$CG$9)) -> 236.0241 | CH113: =EXP($CH$6+($CH$7-$CH$6)*((LN($CH$1-A113))-$CH$9)/($CH$10-$CH$9)) -> 172.4 | CI113: =EXP($CI$6+($CI$7-$CI$6)*((LN($CI$1-A113))-$CI$9)/($CI$10-$CI$9)) -> 139.07751 | CJ113: =EXP($CJ$6+($CJ$7-$CJ$6)*((LN($CJ$1-A113))-$CJ$9)/($CJ$10-$CJ$9)) -> 117.73432 | CK113: =EXP($CK$6+($CK$7-$CK$6)*((LN($CK$1-A113))-$CK$9)/($CK$10-$CK$9)) -> 102.75091 | CL113: =EXP($CL$6+($CL$7-$CL$6)*((LN($CL$1-A113))-$CL$9)/($CL$10-$CL$9)) -> 91.580417 | CM113: =EXP($CM$6+($CM$7-$CM$6)*((LN($CM$1-A113))-$CM$9)/($CM$10-$CM$9)) -> 82.890609 | CN113: =EXP($CN$6+($CN$7-$CN$6)*((LN($CN$1-A113))-$CN$9)/($CN$10-$CN$9)) -> 75.912696 | CO113: =EXP($CO$6+($CO$7-$CO$6)*((LN($CO$1-A113))-$CO$9)/($CO$10-$CO$9)) -> 39.725819 | CP113: =EXP($CP$6+($CP$7-$CP$6)*((LN($CP$1-A113))-$CP$9)/($CP$10-$CP$9)) -> 26.5 | CQ113: =EXP($CQ$6+($CQ$7-$CQ$6)*((LN($CQ$1-A113))-$CQ$9)/($CQ$10-$CQ$9)) -> 23.610158 | CR113: =EXP($CR$6+($CR$7-$CR$6)*((LN($CR$1-A113))-$CR$9)/($CR$10-$CR$9)) -> 21.35358 | CS113: =EXP($CS$6+($CS$7-$CS$6)*((LN($CS$1-A113))-$CS$9)/($CS$10-$CS$9)) -> 19.677669 | CT113: =EXP($CT$6+($CT$7-$CT$6)*((LN($CT$1-A113))-$CT$9)/($CT$10-$CT$9)) -> 18.367406 | CU113: =EXP($CU$6+($CU$7-$CU$6)*((LN($CU$1-A113))-$CU$9)/($CU$10-$CU$9)) -> 17.30531 | CV113: =EXP($CV$6+($CV$7-$CV$6)*((LN($CV$1-A113))-$CV$9)/($CV$10-$CV$9)) -> 16.42095 | CW113: =EXP($CW$6+($CW$7-$CW$6)*((LN($CW$1-A113))-$CW$9)/($CW$10-$CW$9)) -> 15.669155 | CX113: =EXP($CX$6+($CX$7-$CX$6)*((LN($CX$1-A113))-$CX$9)/($CX$10-$CX$9)) -> 8.5913021 | CY113: =EXP($CY$6+($CY$7-$CY$6)*((LN($CY$1-A113))-$CY$9)/($CY$10-$CY$9)) -> 6.0364465 | CZ113: =EXP($CZ$6+($CZ$7-$CZ$6)*((LN($CZ$1-A113))-$CZ$9)/($CZ$10-$CZ$9)) -> 4.0950273 | DA113: =EXP($DA$6+($DA$7-$DA$6)*((LN($DA$1-A113))-$DA$9)/($DA$10-$DA$9)) -> 3.02748 | DB113: =EXP($DB$6+($DB$7-$DB$6)*((LN($DB$1-A113))-$DB$9)/($DB$10-$DB$9)) -> 2.365633 | DC113: =EXP($DC$6+($DC$7-$DC$6)*((LN($DC$1-A113))-$DC$9)/($DC$10-$DC$9)) -> 1.9204044 | DD113: =EXP($DD$6+($DD$7-$DD$6)*((LN($DD$1-A113))-$DD$9)/($DD$10-$DD$9)) -> 1.6031233 | DE113: =EXP($DE$6+($DE$7-$DE$6)*((LN($DE$1-A113))-$DE$9)/($DE$10-$DE$9)) -> 1.3671036 | DF113: =EXP($DF$6+($DF$7-$DF$6)*((LN($DF$1-A113))-$DF$9)/($DF$10-$DF$9)) -> 1.1856009
A114: 101 | CC114: 101 | CF114: =CE14 -> 406.94226 | CG114: =EXP($CG$6+($CG$7-$CG$6)*((LN($CG$1-A114))-$CG$9)/($CG$10-$CG$9)) -> 236.94242 | CH114: =CG14 -> 172.84652 | CI114: =EXP($CI$6+($CI$7-$CI$6)*((LN($CI$1-A114))-$CI$9)/($CI$10-$CI$9)) -> 139.33767 | CJ114: =EXP($CJ$6+($CJ$7-$CJ$6)*((LN($CJ$1-A114))-$CJ$9)/($CJ$10-$CJ$9)) -> 117.91043 | CK114: =EXP($CK$6+($CK$7-$CK$6)*((LN($CK$1-A114))-$CK$9)/($CK$10-$CK$9)) -> 102.87895 | CL114: =EXP($CL$6+($CL$7-$CL$6)*((LN($CL$1-A114))-$CL$9)/($CL$10-$CL$9)) -> 91.678217 | CM114: =EXP($CM$6+($CM$7-$CM$6)*((LN($CM$1-A114))-$CM$9)/($CM$10-$CM$9)) -> 82.968052 | CN114: =EXP($CN$6+($CN$7-$CN$6)*((LN($CN$1-A114))-$CN$9)/($CN$10-$CN$9)) -> 75.975731 | CO114: =EXP($CO$6+($CO$7-$CO$6)*((LN($CO$1-A114))-$CO$9)/($CO$10-$CO$9)) -> 39.744361 | CP114: =EXP($CP$6+($CP$7-$CP$6)*((LN($CP$1-A114))-$CP$9)/($CP$10-$CP$9)) -> 26.5 | CQ114: =EXP($CQ$6+($CQ$7-$CQ$6)*((LN($CQ$1-A114))-$CQ$9)/($CQ$10-$CQ$9)) -> 23.612823 | CR114: =EXP($CR$6+($CR$7-$CR$6)*((LN($CR$1-A114))-$CR$9)/($CR$10-$CR$9)) -> 21.355498 | CS114: =EXP($CS$6+($CS$7-$CS$6)*((LN($CS$1-A114))-$CS$9)/($CS$10-$CS$9)) -> 19.679137 | CT114: =EXP($CT$6+($CT$7-$CT$6)*((LN($CT$1-A114))-$CT$9)/($CT$10-$CT$9)) -> 18.368578 | CU114: =EXP($CU$6+($CU$7-$CU$6)*((LN($CU$1-A114))-$CU$9)/($CU$10-$CU$9)) -> 17.306274 | CV114: =EXP($CV$6+($CV$7-$CV$6)*((LN($CV$1-A114))-$CV$9)/($CV$10-$CV$9)) -> 16.421762 | CW114: =EXP($CW$6+($CW$7-$CW$6)*((LN($CW$1-A114))-$CW$9)/($CW$10-$CW$9)) -> 15.669851 | CX114: =EXP($CX$6+($CX$7-$CX$6)*((LN($CX$1-A114))-$CX$9)/($CX$10-$CX$9)) -> 8.5916763 | CY114: =EXP($CY$6+($CY$7-$CY$6)*((LN($CY$1-A114))-$CY$9)/($CY$10-$CY$9)) -> 6.0366215 | CZ114: =EXP($CZ$6+($CZ$7-$CZ$6)*((LN($CZ$1-A114))-$CZ$9)/($CZ$10-$CZ$9)) -> 4.095166 | DA114: =EXP($DA$6+($DA$7-$DA$6)*((LN($DA$1-A114))-$DA$9)/($DA$10-$DA$9)) -> 3.027562 | DB114: =EXP($DB$6+($DB$7-$DB$6)*((LN($DB$1-A114))-$DB$9)/($DB$10-$DB$9)) -> 2.3656864 | DC114: =EXP($DC$6+($DC$7-$DC$6)*((LN($DC$1-A114))-$DC$9)/($DC$10-$DC$9)) -> 1.9204415 | DD114: =EXP($DD$6+($DD$7-$DD$6)*((LN($DD$1-A114))-$DD$9)/($DD$10-$DD$9)) -> 1.6031504 | DE114: =EXP($DE$6+($DE$7-$DE$6)*((LN($DE$1-A114))-$DE$9)/($DE$10-$DE$9)) -> 1.3671242 | DF114: =EXP($DF$6+($DF$7-$DF$6)*((LN($DF$1-A114))-$DF$9)/($DF$10-$DF$9)) -> 1.185617
A115: 102 | CC115: 102 | CF115: =CE15 -> 410.14124 | CG115: =EXP($CG$6+($CG$7-$CG$6)*((LN($CG$1-A115))-$CG$9)/($CG$10-$CG$9)) -> 237.86897 | CH115: =CG15 -> 173.2957 | CI115: =EXP($CI$6+($CI$7-$CI$6)*((LN($CI$1-A115))-$CI$9)/($CI$10-$CI$9)) -> 139.59897 | CJ115: =EXP($CJ$6+($CJ$7-$CJ$6)*((LN($CJ$1-A115))-$CJ$9)/($CJ$10-$CJ$9)) -> 118.08716 | CK115: =EXP($CK$6+($CK$7-$CK$6)*((LN($CK$1-A115))-$CK$9)/($CK$10-$CK$9)) -> 103.00737 | CL115: =EXP($CL$6+($CL$7-$CL$6)*((LN($CL$1-A115))-$CL$9)/($CL$10-$CL$9)) -> 91.776262 | CM115: =EXP($CM$6+($CM$7-$CM$6)*((LN($CM$1-A115))-$CM$9)/($CM$10-$CM$9)) -> 83.045664 | CN115: =EXP($CN$6+($CN$7-$CN$6)*((LN($CN$1-A115))-$CN$9)/($CN$10-$CN$9)) -> 76.03889 | CO115: =EXP($CO$6+($CO$7-$CO$6)*((LN($CO$1-A115))-$CO$9)/($CO$10-$CO$9)) -> 39.762921 | CP115: =EXP($CP$6+($CP$7-$CP$6)*((LN($CP$1-A115))-$CP$9)/($CP$10-$CP$9)) -> 26.5 | CQ115: =EXP($CQ$6+($CQ$7-$CQ$6)*((LN($CQ$1-A115))-$CQ$9)/($CQ$10-$CQ$9)) -> 23.615489 | CR115: =EXP($CR$6+($CR$7-$CR$6)*((LN($CR$1-A115))-$CR$9)/($CR$10-$CR$9)) -> 21.357417 | CS115: =EXP($CS$6+($CS$7-$CS$6)*((LN($CS$1-A115))-$CS$9)/($CS$10-$CS$9)) -> 19.680605 | CT115: =EXP($CT$6+($CT$7-$CT$6)*((LN($CT$1-A115))-$CT$9)/($CT$10-$CT$9)) -> 18.36975 | CU115: =EXP($CU$6+($CU$7-$CU$6)*((LN($CU$1-A115))-$CU$9)/($CU$10-$CU$9)) -> 17.307238 | CV115: =EXP($CV$6+($CV$7-$CV$6)*((LN($CV$1-A115))-$CV$9)/($CV$10-$CV$9)) -> 16.422574 | CW115: =EXP($CW$6+($CW$7-$CW$6)*((LN($CW$1-A115))-$CW$9)/($CW$10-$CW$9)) -> 15.670548 | CX115: =EXP($CX$6+($CX$7-$CX$6)*((LN($CX$1-A115))-$CX$9)/($CX$10-$CX$9)) -> 8.5920506 | CY115: =EXP($CY$6+($CY$7-$CY$6)*((LN($CY$1-A115))-$CY$9)/($CY$10-$CY$9)) -> 6.0367966 | CZ115: =EXP($CZ$6+($CZ$7-$CZ$6)*((LN($CZ$1-A115))-$CZ$9)/($CZ$10-$CZ$9)) -> 4.0953046 | DA115: =EXP($DA$6+($DA$7-$DA$6)*((LN($DA$1-A115))-$DA$9)/($DA$10-$DA$9)) -> 3.0276439 | DB115: =EXP($DB$6+($DB$7-$DB$6)*((LN($DB$1-A115))-$DB$9)/($DB$10-$DB$9)) -> 2.3657397 | DC115: =EXP($DC$6+($DC$7-$DC$6)*((LN($DC$1-A115))-$DC$9)/($DC$10-$DC$9)) -> 1.9204786 | DD115: =EXP($DD$6+($DD$7-$DD$6)*((LN($DD$1-A115))-$DD$9)/($DD$10-$DD$9)) -> 1.6031775 | DE115: =EXP($DE$6+($DE$7-$DE$6)*((LN($DE$1-A115))-$DE$9)/($DE$10-$DE$9)) -> 1.3671447 | DF115: =EXP($DF$6+($DF$7-$DF$6)*((LN($DF$1-A115))-$DF$9)/($DF$10-$DF$9)) -> 1.185633
A116: 103 | CC116: 103 | CF116: =CE16 -> 413.39858 | CG116: =EXP($CG$6+($CG$7-$CG$6)*((LN($CG$1-A116))-$CG$9)/($CG$10-$CG$9)) -> 238.80386 | CH116: =CG16 -> 173.74756 | CI116: =EXP($CI$6+($CI$7-$CI$6)*((LN($CI$1-A116))-$CI$9)/($CI$10-$CI$9)) -> 139.86142 | CJ116: =EXP($CJ$6+($CJ$7-$CJ$6)*((LN($CJ$1-A116))-$CJ$9)/($CJ$10-$CJ$9)) -> 118.2645 | CK116: =EXP($CK$6+($CK$7-$CK$6)*((LN($CK$1-A116))-$CK$9)/($CK$10-$CK$9)) -> 103.13616 | CL116: =EXP($CL$6+($CL$7-$CL$6)*((LN($CL$1-A116))-$CL$9)/($CL$10-$CL$9)) -> 91.874553 | CM116: =EXP($CM$6+($CM$7-$CM$6)*((LN($CM$1-A116))-$CM$9)/($CM$10-$CM$9)) -> 83.123447 | CN116: =EXP($CN$6+($CN$7-$CN$6)*((LN($CN$1-A116))-$CN$9)/($CN$10-$CN$9)) -> 76.102171 | CO116: =EXP($CO$6+($CO$7-$CO$6)*((LN($CO$1-A116))-$CO$9)/($CO$10-$CO$9)) -> 39.781499 | CP116: =EXP($CP$6+($CP$7-$CP$6)*((LN($CP$1-A116))-$CP$9)/($CP$10-$CP$9)) -> 26.5 | CQ116: =EXP($CQ$6+($CQ$7-$CQ$6)*((LN($CQ$1-A116))-$CQ$9)/($CQ$10-$CQ$9)) -> 23.618156 | CR116: =EXP($CR$6+($CR$7-$CR$6)*((LN($CR$1-A116))-$CR$9)/($CR$10-$CR$9)) -> 21.359336 | CS116: =EXP($CS$6+($CS$7-$CS$6)*((LN($CS$1-A116))-$CS$9)/($CS$10-$CS$9)) -> 19.682074 | CT116: =EXP($CT$6+($CT$7-$CT$6)*((LN($CT$1-A116))-$CT$9)/($CT$10-$CT$9)) -> 18.370922 | CU116: =EXP($CU$6+($CU$7-$CU$6)*((LN($CU$1-A116))-$CU$9)/($CU$10-$CU$9)) -> 17.308203 | CV116: =EXP($CV$6+($CV$7-$CV$6)*((LN($CV$1-A116))-$CV$9)/($CV$10-$CV$9)) -> 16.423387 | CW116: =EXP($CW$6+($CW$7-$CW$6)*((LN($CW$1-A116))-$CW$9)/($CW$10-$CW$9)) -> 15.671245 | CX116: =EXP($CX$6+($CX$7-$CX$6)*((LN($CX$1-A116))-$CX$9)/($CX$10-$CX$9)) -> 8.592425 | CY116: =EXP($CY$6+($CY$7-$CY$6)*((LN($CY$1-A116))-$CY$9)/($CY$10-$CY$9)) -> 6.0369716 | CZ116: =EXP($CZ$6+($CZ$7-$CZ$6)*((LN($CZ$1-A116))-$CZ$9)/($CZ$10-$CZ$9)) -> 4.0954432 | DA116: =EXP($DA$6+($DA$7-$DA$6)*((LN($DA$1-A116))-$DA$9)/($DA$10-$DA$9)) -> 3.0277259 | DB116: =EXP($DB$6+($DB$7-$DB$6)*((LN($DB$1-A116))-$DB$9)/($DB$10-$DB$9)) -> 2.3657931 | DC116: =EXP($DC$6+($DC$7-$DC$6)*((LN($DC$1-A116))-$DC$9)/($DC$10-$DC$9)) -> 1.9205157 | DD116: =EXP($DD$6+($DD$7-$DD$6)*((LN($DD$1-A116))-$DD$9)/($DD$10-$DD$9)) -> 1.6032046 | DE116: =EXP($DE$6+($DE$7-$DE$6)*((LN($DE$1-A116))-$DE$9)/($DE$10-$DE$9)) -> 1.3671653 | DF116: =EXP($DF$6+($DF$7-$DF$6)*((LN($DF$1-A116))-$DF$9)/($DF$10-$DF$9)) -> 1.185649
A117: 104 | CC117: 104 | CF117: =CE17 -> 416.71594 | CG117: =EXP($CG$6+($CG$7-$CG$6)*((LN($CG$1-A117))-$CG$9)/($CG$10-$CG$9)) -> 239.74721 | CH117: =CG17 -> 174.20212 | CI117: =EXP($CI$6+($CI$7-$CI$6)*((LN($CI$1-A117))-$CI$9)/($CI$10-$CI$9)) -> 140.12503 | CJ117: =EXP($CJ$6+($CJ$7-$CJ$6)*((LN($CJ$1-A117))-$CJ$9)/($CJ$10-$CJ$9)) -> 118.44248 | CK117: =EXP($CK$6+($CK$7-$CK$6)*((LN($CK$1-A117))-$CK$9)/($CK$10-$CK$9)) -> 103.26534 | CL117: =EXP($CL$6+($CL$7-$CL$6)*((LN($CL$1-A117))-$CL$9)/($CL$10-$CL$9)) -> 91.97309 | CM117: =EXP($CM$6+($CM$7-$CM$6)*((LN($CM$1-A117))-$CM$9)/($CM$10-$CM$9)) -> 83.2014 | CN117: =EXP($CN$6+($CN$7-$CN$6)*((LN($CN$1-A117))-$CN$9)/($CN$10-$CN$9)) -> 76.165576 | CO117: =EXP($CO$6+($CO$7-$CO$6)*((LN($CO$1-A117))-$CO$9)/($CO$10-$CO$9)) -> 39.800097 | CP117: =EXP($CP$6+($CP$7-$CP$6)*((LN($CP$1-A117))-$CP$9)/($CP$10-$CP$9)) -> 26.5 | CQ117: =EXP($CQ$6+($CQ$7-$CQ$6)*((LN($CQ$1-A117))-$CQ$9)/($CQ$10-$CQ$9)) -> 23.620823 | CR117: =EXP($CR$6+($CR$7-$CR$6)*((LN($CR$1-A117))-$CR$9)/($CR$10-$CR$9)) -> 21.361256 | CS117: =EXP($CS$6+($CS$7-$CS$6)*((LN($CS$1-A117))-$CS$9)/($CS$10-$CS$9)) -> 19.683543 | CT117: =EXP($CT$6+($CT$7-$CT$6)*((LN($CT$1-A117))-$CT$9)/($CT$10-$CT$9)) -> 18.372094 | CU117: =EXP($CU$6+($CU$7-$CU$6)*((LN($CU$1-A117))-$CU$9)/($CU$10-$CU$9)) -> 17.309167 | CV117: =EXP($CV$6+($CV$7-$CV$6)*((LN($CV$1-A117))-$CV$9)/($CV$10-$CV$9)) -> 16.424199 | CW117: =EXP($CW$6+($CW$7-$CW$6)*((LN($CW$1-A117))-$CW$9)/($CW$10-$CW$9)) -> 15.671942 | CX117: =EXP($CX$6+($CX$7-$CX$6)*((LN($CX$1-A117))-$CX$9)/($CX$10-$CX$9)) -> 8.5927993 | CY117: =EXP($CY$6+($CY$7-$CY$6)*((LN($CY$1-A117))-$CY$9)/($CY$10-$CY$9)) -> 6.0371466 | CZ117: =EXP($CZ$6+($CZ$7-$CZ$6)*((LN($CZ$1-A117))-$CZ$9)/($CZ$10-$CZ$9)) -> 4.0955818 | DA117: =EXP($DA$6+($DA$7-$DA$6)*((LN($DA$1-A117))-$DA$9)/($DA$10-$DA$9)) -> 3.0278078 | DB117: =EXP($DB$6+($DB$7-$DB$6)*((LN($DB$1-A117))-$DB$9)/($DB$10-$DB$9)) -> 2.3658464 | DC117: =EXP($DC$6+($DC$7-$DC$6)*((LN($DC$1-A117))-$DC$9)/($DC$10-$DC$9)) -> 1.9205528 | DD117: =EXP($DD$6+($DD$7-$DD$6)*((LN($DD$1-A117))-$DD$9)/($DD$10-$DD$9)) -> 1.6032317 | DE117: =EXP($DE$6+($DE$7-$DE$6)*((LN($DE$1-A117))-$DE$9)/($DE$10-$DE$9)) -> 1.3671858 | DF117: =EXP($DF$6+($DF$7-$DF$6)*((LN($DF$1-A117))-$DF$9)/($DF$10-$DF$9)) -> 1.185665
A118: 105 | CC118: 105 | CF118: =CE18 -> 420.09508 | CG118: =EXP($CG$6+($CG$7-$CG$6)*((LN($CG$1-A118))-$CG$9)/($CG$10-$CG$9)) -> 240.69914 | CH118: =CG18 -> 174.65943 | CI118: =EXP($CI$6+($CI$7-$CI$6)*((LN($CI$1-A118))-$CI$9)/($CI$10-$CI$9)) -> 140.3898 | CJ118: =EXP($CJ$6+($CJ$7-$CJ$6)*((LN($CJ$1-A118))-$CJ$9)/($CJ$10-$CJ$9)) -> 118.62108 | CK118: =EXP($CK$6+($CK$7-$CK$6)*((LN($CK$1-A118))-$CK$9)/($CK$10-$CK$9)) -> 103.39489 | CL118: =EXP($CL$6+($CL$7-$CL$6)*((LN($CL$1-A118))-$CL$9)/($CL$10-$CL$9)) -> 92.071875 | CM118: =EXP($CM$6+($CM$7-$CM$6)*((LN($CM$1-A118))-$CM$9)/($CM$10-$CM$9)) -> 83.279525 | CN118: =EXP($CN$6+($CN$7-$CN$6)*((LN($CN$1-A118))-$CN$9)/($CN$10-$CN$9)) -> 76.229104 | CO118: =EXP($CO$6+($CO$7-$CO$6)*((LN($CO$1-A118))-$CO$9)/($CO$10-$CO$9)) -> 39.818712 | CP118: =EXP($CP$6+($CP$7-$CP$6)*((LN($CP$1-A118))-$CP$9)/($CP$10-$CP$9)) -> 26.5 | CQ118: =EXP($CQ$6+($CQ$7-$CQ$6)*((LN($CQ$1-A118))-$CQ$9)/($CQ$10-$CQ$9)) -> 23.623492 | CR118: =EXP($CR$6+($CR$7-$CR$6)*((LN($CR$1-A118))-$CR$9)/($CR$10-$CR$9)) -> 21.363176 | CS118: =EXP($CS$6+($CS$7-$CS$6)*((LN($CS$1-A118))-$CS$9)/($CS$10-$CS$9)) -> 19.685013 | CT118: =EXP($CT$6+($CT$7-$CT$6)*((LN($CT$1-A118))-$CT$9)/($CT$10-$CT$9)) -> 18.373267 | CU118: =EXP($CU$6+($CU$7-$CU$6)*((LN($CU$1-A118))-$CU$9)/($CU$10-$CU$9)) -> 17.310132 | CV118: =EXP($CV$6+($CV$7-$CV$6)*((LN($CV$1-A118))-$CV$9)/($CV$10-$CV$9)) -> 16.425012 | CW118: =EXP($CW$6+($CW$7-$CW$6)*((LN($CW$1-A118))-$CW$9)/($CW$10-$CW$9)) -> 15.672639 | CX118: =EXP($CX$6+($CX$7-$CX$6)*((LN($CX$1-A118))-$CX$9)/($CX$10-$CX$9)) -> 8.5931737 | CY118: =EXP($CY$6+($CY$7-$CY$6)*((LN($CY$1-A118))-$CY$9)/($CY$10-$CY$9)) -> 6.0373217 | CZ118: =EXP($CZ$6+($CZ$7-$CZ$6)*((LN($CZ$1-A118))-$CZ$9)/($CZ$10-$CZ$9)) -> 4.0957205 | DA118: =EXP($DA$6+($DA$7-$DA$6)*((LN($DA$1-A118))-$DA$9)/($DA$10-$DA$9)) -> 3.0278898 | DB118: =EXP($DB$6+($DB$7-$DB$6)*((LN($DB$1-A118))-$DB$9)/($DB$10-$DB$9)) -> 2.3658997 | DC118: =EXP($DC$6+($DC$7-$DC$6)*((LN($DC$1-A118))-$DC$9)/($DC$10-$DC$9)) -> 1.9205899 | DD118: =EXP($DD$6+($DD$7-$DD$6)*((LN($DD$1-A118))-$DD$9)/($DD$10-$DD$9)) -> 1.6032588 | DE118: =EXP($DE$6+($DE$7-$DE$6)*((LN($DE$1-A118))-$DE$9)/($DE$10-$DE$9)) -> 1.3672063 | DF118: =EXP($DF$6+($DF$7-$DF$6)*((LN($DF$1-A118))-$DF$9)/($DF$10-$DF$9)) -> 1.1856811
A119: 106 | CC119: 106 | CF119: =CE19 -> 423.53782 | CG119: =EXP($CG$6+($CG$7-$CG$6)*((LN($CG$1-A119))-$CG$9)/($CG$10-$CG$9)) -> 241.65978 | CH119: =CG19 -> 175.11949 | CI119: =EXP($CI$6+($CI$7-$CI$6)*((LN($CI$1-A119))-$CI$9)/($CI$10-$CI$9)) -> 140.65575 | CJ119: =EXP($CJ$6+($CJ$7-$CJ$6)*((LN($CJ$1-A119))-$CJ$9)/($CJ$10-$CJ$9)) -> 118.80031 | CK119: =EXP($CK$6+($CK$7-$CK$6)*((LN($CK$1-A119))-$CK$9)/($CK$10-$CK$9)) -> 103.52482 | CL119: =EXP($CL$6+($CL$7-$CL$6)*((LN($CL$1-A119))-$CL$9)/($CL$10-$CL$9)) -> 92.170908 | CM119: =EXP($CM$6+($CM$7-$CM$6)*((LN($CM$1-A119))-$CM$9)/($CM$10-$CM$9)) -> 83.357821 | CN119: =EXP($CN$6+($CN$7-$CN$6)*((LN($CN$1-A119))-$CN$9)/($CN$10-$CN$9)) -> 76.292756 | CO119: =EXP($CO$6+($CO$7-$CO$6)*((LN($CO$1-A119))-$CO$9)/($CO$10-$CO$9)) -> 39.837346 | CP119: =EXP($CP$6+($CP$7-$CP$6)*((LN($CP$1-A119))-$CP$9)/($CP$10-$CP$9)) -> 26.5 | CQ119: =EXP($CQ$6+($CQ$7-$CQ$6)*((LN($CQ$1-A119))-$CQ$9)/($CQ$10-$CQ$9)) -> 23.626162 | CR119: =EXP($CR$6+($CR$7-$CR$6)*((LN($CR$1-A119))-$CR$9)/($CR$10-$CR$9)) -> 21.365097 | CS119: =EXP($CS$6+($CS$7-$CS$6)*((LN($CS$1-A119))-$CS$9)/($CS$10-$CS$9)) -> 19.686483 | CT119: =EXP($CT$6+($CT$7-$CT$6)*((LN($CT$1-A119))-$CT$9)/($CT$10-$CT$9)) -> 18.37444 | CU119: =EXP($CU$6+($CU$7-$CU$6)*((LN($CU$1-A119))-$CU$9)/($CU$10-$CU$9)) -> 17.311097 | CV119: =EXP($CV$6+($CV$7-$CV$6)*((LN($CV$1-A119))-$CV$9)/($CV$10-$CV$9)) -> 16.425825 | CW119: =EXP($CW$6+($CW$7-$CW$6)*((LN($CW$1-A119))-$CW$9)/($CW$10-$CW$9)) -> 15.673336 | CX119: =EXP($CX$6+($CX$7-$CX$6)*((LN($CX$1-A119))-$CX$9)/($CX$10-$CX$9)) -> 8.5935482 | CY119: =EXP($CY$6+($CY$7-$CY$6)*((LN($CY$1-A119))-$CY$9)/($CY$10-$CY$9)) -> 6.0374968 | CZ119: =EXP($CZ$6+($CZ$7-$CZ$6)*((LN($CZ$1-A119))-$CZ$9)/($CZ$10-$CZ$9)) -> 4.0958591 | DA119: =EXP($DA$6+($DA$7-$DA$6)*((LN($DA$1-A119))-$DA$9)/($DA$10-$DA$9)) -> 3.0279718 | DB119: =EXP($DB$6+($DB$7-$DB$6)*((LN($DB$1-A119))-$DB$9)/($DB$10-$DB$9)) -> 2.3659531 | DC119: =EXP($DC$6+($DC$7-$DC$6)*((LN($DC$1-A119))-$DC$9)/($DC$10-$DC$9)) -> 1.920627 | DD119: =EXP($DD$6+($DD$7-$DD$6)*((LN($DD$1-A119))-$DD$9)/($DD$10-$DD$9)) -> 1.6032859 | DE119: =EXP($DE$6+($DE$7-$DE$6)*((LN($DE$1-A119))-$DE$9)/($DE$10-$DE$9)) -> 1.3672269 | DF119: =EXP($DF$6+($DF$7-$DF$6)*((LN($DF$1-A119))-$DF$9)/($DF$10-$DF$9)) -> 1.1856971
A120: 107 | CC120: 107 | CF120: =CE20 -> 427.04605 | CG120: =EXP($CG$6+($CG$7-$CG$6)*((LN($CG$1-A120))-$CG$9)/($CG$10-$CG$9)) -> 242.62924 | CH120: =CG20 -> 175.58234 | CI120: =EXP($CI$6+($CI$7-$CI$6)*((LN($CI$1-A120))-$CI$9)/($CI$10-$CI$9)) -> 140.92288 | CJ120: =EXP($CJ$6+($CJ$7-$CJ$6)*((LN($CJ$1-A120))-$CJ$9)/($CJ$10-$CJ$9)) -> 118.98018 | CK120: =EXP($CK$6+($CK$7-$CK$6)*((LN($CK$1-A120))-$CK$9)/($CK$10-$CK$9)) -> 103.65513 | CL120: =EXP($CL$6+($CL$7-$CL$6)*((LN($CL$1-A120))-$CL$9)/($CL$10-$CL$9)) -> 92.270191 | CM120: =EXP($CM$6+($CM$7-$CM$6)*((LN($CM$1-A120))-$CM$9)/($CM$10-$CM$9)) -> 83.43629 | CN120: =EXP($CN$6+($CN$7-$CN$6)*((LN($CN$1-A120))-$CN$9)/($CN$10-$CN$9)) -> 76.356533 | CO120: =EXP($CO$6+($CO$7-$CO$6)*((LN($CO$1-A120))-$CO$9)/($CO$10-$CO$9)) -> 39.855999 | CP120: =EXP($CP$6+($CP$7-$CP$6)*((LN($CP$1-A120))-$CP$9)/($CP$10-$CP$9)) -> 26.5 | CQ120: =EXP($CQ$6+($CQ$7-$CQ$6)*((LN($CQ$1-A120))-$CQ$9)/($CQ$10-$CQ$9)) -> 23.628833 | CR120: =EXP($CR$6+($CR$7-$CR$6)*((LN($CR$1-A120))-$CR$9)/($CR$10-$CR$9)) -> 21.367019 | CS120: =EXP($CS$6+($CS$7-$CS$6)*((LN($CS$1-A120))-$CS$9)/($CS$10-$CS$9)) -> 19.687953 | CT120: =EXP($CT$6+($CT$7-$CT$6)*((LN($CT$1-A120))-$CT$9)/($CT$10-$CT$9)) -> 18.375613 | CU120: =EXP($CU$6+($CU$7-$CU$6)*((LN($CU$1-A120))-$CU$9)/($CU$10-$CU$9)) -> 17.312062 | CV120: =EXP($CV$6+($CV$7-$CV$6)*((LN($CV$1-A120))-$CV$9)/($CV$10-$CV$9)) -> 16.426637 | CW120: =EXP($CW$6+($CW$7-$CW$6)*((LN($CW$1-A120))-$CW$9)/($CW$10-$CW$9)) -> 15.674033 | CX120: =EXP($CX$6+($CX$7-$CX$6)*((LN($CX$1-A120))-$CX$9)/($CX$10-$CX$9)) -> 8.5939227 | CY120: =EXP($CY$6+($CY$7-$CY$6)*((LN($CY$1-A120))-$CY$9)/($CY$10-$CY$9)) -> 6.0376718 | CZ120: =EXP($CZ$6+($CZ$7-$CZ$6)*((LN($CZ$1-A120))-$CZ$9)/($CZ$10-$CZ$9)) -> 4.0959978 | DA120: =EXP($DA$6+($DA$7-$DA$6)*((LN($DA$1-A120))-$DA$9)/($DA$10-$DA$9)) -> 3.0280537 | DB120: =EXP($DB$6+($DB$7-$DB$6)*((LN($DB$1-A120))-$DB$9)/($DB$10-$DB$9)) -> 2.3660064 | DC120: =EXP($DC$6+($DC$7-$DC$6)*((LN($DC$1-A120))-$DC$9)/($DC$10-$DC$9)) -> 1.9206641 | DD120: =EXP($DD$6+($DD$7-$DD$6)*((LN($DD$1-A120))-$DD$9)/($DD$10-$DD$9)) -> 1.603313 | DE120: =EXP($DE$6+($DE$7-$DE$6)*((LN($DE$1-A120))-$DE$9)/($DE$10-$DE$9)) -> 1.3672474 | DF120: =EXP($DF$6+($DF$7-$DF$6)*((LN($DF$1-A120))-$DF$9)/($DF$10-$DF$9)) -> 1.1857131
A121: 108 | CC121: 108 | CF121: =CE21 -> 430.62174 | CG121: =EXP($CG$6+($CG$7-$CG$6)*((LN($CG$1-A121))-$CG$9)/($CG$10-$CG$9)) -> 243.60766 | CH121: =CG21 -> 176.04799 | CI121: =EXP($CI$6+($CI$7-$CI$6)*((LN($CI$1-A121))-$CI$9)/($CI$10-$CI$9)) -> 141.19119 | CJ121: =EXP($CJ$6+($CJ$7-$CJ$6)*((LN($CJ$1-A121))-$CJ$9)/($CJ$10-$CJ$9)) -> 119.16068 | CK121: =EXP($CK$6+($CK$7-$CK$6)*((LN($CK$1-A121))-$CK$9)/($CK$10-$CK$9)) -> 103.78583 | CL121: =EXP($CL$6+($CL$7-$CL$6)*((LN($CL$1-A121))-$CL$9)/($CL$10-$CL$9)) -> 92.369724 | CM121: =EXP($CM$6+($CM$7-$CM$6)*((LN($CM$1-A121))-$CM$9)/($CM$10-$CM$9)) -> 83.514932 | CN121: =EXP($CN$6+($CN$7-$CN$6)*((LN($CN$1-A121))-$CN$9)/($CN$10-$CN$9)) -> 76.420435 | CO121: =EXP($CO$6+($CO$7-$CO$6)*((LN($CO$1-A121))-$CO$9)/($CO$10-$CO$9)) -> 39.87467 | CP121: =EXP($CP$6+($CP$7-$CP$6)*((LN($CP$1-A121))-$CP$9)/($CP$10-$CP$9)) -> 26.5 | CQ121: =EXP($CQ$6+($CQ$7-$CQ$6)*((LN($CQ$1-A121))-$CQ$9)/($CQ$10-$CQ$9)) -> 23.631504 | CR121: =EXP($CR$6+($CR$7-$CR$6)*((LN($CR$1-A121))-$CR$9)/($CR$10-$CR$9)) -> 21.368941 | CS121: =EXP($CS$6+($CS$7-$CS$6)*((LN($CS$1-A121))-$CS$9)/($CS$10-$CS$9)) -> 19.689423 | CT121: =EXP($CT$6+($CT$7-$CT$6)*((LN($CT$1-A121))-$CT$9)/($CT$10-$CT$9)) -> 18.376786 | CU121: =EXP($CU$6+($CU$7-$CU$6)*((LN($CU$1-A121))-$CU$9)/($CU$10-$CU$9)) -> 17.313028 | CV121: =EXP($CV$6+($CV$7-$CV$6)*((LN($CV$1-A121))-$CV$9)/($CV$10-$CV$9)) -> 16.42745 | CW121: =EXP($CW$6+($CW$7-$CW$6)*((LN($CW$1-A121))-$CW$9)/($CW$10-$CW$9)) -> 15.674731 | CX121: =EXP($CX$6+($CX$7-$CX$6)*((LN($CX$1-A121))-$CX$9)/($CX$10-$CX$9)) -> 8.5942972 | CY121: =EXP($CY$6+($CY$7-$CY$6)*((LN($CY$1-A121))-$CY$9)/($CY$10-$CY$9)) -> 6.0378469 | CZ121: =EXP($CZ$6+($CZ$7-$CZ$6)*((LN($CZ$1-A121))-$CZ$9)/($CZ$10-$CZ$9)) -> 4.0961365 | DA121: =EXP($DA$6+($DA$7-$DA$6)*((LN($DA$1-A121))-$DA$9)/($DA$10-$DA$9)) -> 3.0281357 | DB121: =EXP($DB$6+($DB$7-$DB$6)*((LN($DB$1-A121))-$DB$9)/($DB$10-$DB$9)) -> 2.3660598 | DC121: =EXP($DC$6+($DC$7-$DC$6)*((LN($DC$1-A121))-$DC$9)/($DC$10-$DC$9)) -> 1.9207012 | DD121: =EXP($DD$6+($DD$7-$DD$6)*((LN($DD$1-A121))-$DD$9)/($DD$10-$DD$9)) -> 1.6033401 | DE121: =EXP($DE$6+($DE$7-$DE$6)*((LN($DE$1-A121))-$DE$9)/($DE$10-$DE$9)) -> 1.367268 | DF121: =EXP($DF$6+($DF$7-$DF$6)*((LN($DF$1-A121))-$DF$9)/($DF$10-$DF$9)) -> 1.1857292
A122: 109 | CC122: 109 | CF122: =CE22 -> 434.26694 | CG122: =EXP($CG$6+($CG$7-$CG$6)*((LN($CG$1-A122))-$CG$9)/($CG$10-$CG$9)) -> 244.59517 | CH122: =CG22 -> 176.51649 | CI122: =EXP($CI$6+($CI$7-$CI$6)*((LN($CI$1-A122))-$CI$9)/($CI$10-$CI$9)) -> 141.46071 | CJ122: =EXP($CJ$6+($CJ$7-$CJ$6)*((LN($CJ$1-A122))-$CJ$9)/($CJ$10-$CJ$9)) -> 119.34183 | CK122: =EXP($CK$6+($CK$7-$CK$6)*((LN($CK$1-A122))-$CK$9)/($CK$10-$CK$9)) -> 103.91691 | CL122: =EXP($CL$6+($CL$7-$CL$6)*((LN($CL$1-A122))-$CL$9)/($CL$10-$CL$9)) -> 92.469509 | CM122: =EXP($CM$6+($CM$7-$CM$6)*((LN($CM$1-A122))-$CM$9)/($CM$10-$CM$9)) -> 83.593747 | CN122: =EXP($CN$6+($CN$7-$CN$6)*((LN($CN$1-A122))-$CN$9)/($CN$10-$CN$9)) -> 76.484462 | CO122: =EXP($CO$6+($CO$7-$CO$6)*((LN($CO$1-A122))-$CO$9)/($CO$10-$CO$9)) -> 39.89336 | CP122: =EXP($CP$6+($CP$7-$CP$6)*((LN($CP$1-A122))-$CP$9)/($CP$10-$CP$9)) -> 26.5 | CQ122: =EXP($CQ$6+($CQ$7-$CQ$6)*((LN($CQ$1-A122))-$CQ$9)/($CQ$10-$CQ$9)) -> 23.634177 | CR122: =EXP($CR$6+($CR$7-$CR$6)*((LN($CR$1-A122))-$CR$9)/($CR$10-$CR$9)) -> 21.370864 | CS122: =EXP($CS$6+($CS$7-$CS$6)*((LN($CS$1-A122))-$CS$9)/($CS$10-$CS$9)) -> 19.690894 | CT122: =EXP($CT$6+($CT$7-$CT$6)*((LN($CT$1-A122))-$CT$9)/($CT$10-$CT$9)) -> 18.37796 | CU122: =EXP($CU$6+($CU$7-$CU$6)*((LN($CU$1-A122))-$CU$9)/($CU$10-$CU$9)) -> 17.313993 | CV122: =EXP($CV$6+($CV$7-$CV$6)*((LN($CV$1-A122))-$CV$9)/($CV$10-$CV$9)) -> 16.428264 | CW122: =EXP($CW$6+($CW$7-$CW$6)*((LN($CW$1-A122))-$CW$9)/($CW$10-$CW$9)) -> 15.675428 | CX122: =EXP($CX$6+($CX$7-$CX$6)*((LN($CX$1-A122))-$CX$9)/($CX$10-$CX$9)) -> 8.5946717 | CY122: =EXP($CY$6+($CY$7-$CY$6)*((LN($CY$1-A122))-$CY$9)/($CY$10-$CY$9)) -> 6.038022 | CZ122: =EXP($CZ$6+($CZ$7-$CZ$6)*((LN($CZ$1-A122))-$CZ$9)/($CZ$10-$CZ$9)) -> 4.0962752 | DA122: =EXP($DA$6+($DA$7-$DA$6)*((LN($DA$1-A122))-$DA$9)/($DA$10-$DA$9)) -> 3.0282177 | DB122: =EXP($DB$6+($DB$7-$DB$6)*((LN($DB$1-A122))-$DB$9)/($DB$10-$DB$9)) -> 2.3661132 | DC122: =EXP($DC$6+($DC$7-$DC$6)*((LN($DC$1-A122))-$DC$9)/($DC$10-$DC$9)) -> 1.9207383 | DD122: =EXP($DD$6+($DD$7-$DD$6)*((LN($DD$1-A122))-$DD$9)/($DD$10-$DD$9)) -> 1.6033672 | DE122: =EXP($DE$6+($DE$7-$DE$6)*((LN($DE$1-A122))-$DE$9)/($DE$10-$DE$9)) -> 1.3672885 | DF122: =EXP($DF$6+($DF$7-$DF$6)*((LN($DF$1-A122))-$DF$9)/($DF$10-$DF$9)) -> 1.1857452
A123: 110 | CC123: 110 | CF123: =CE23 -> 437.98379 | CG123: =EXP($CG$6+($CG$7-$CG$6)*((LN($CG$1-A123))-$CG$9)/($CG$10-$CG$9)) -> 245.59189 | CH123: =CG23 -> 176.98786 | CI123: =EXP($CI$6+($CI$7-$CI$6)*((LN($CI$1-A123))-$CI$9)/($CI$10-$CI$9)) -> 141.73143 | CJ123: =EXP($CJ$6+($CJ$7-$CJ$6)*((LN($CJ$1-A123))-$CJ$9)/($CJ$10-$CJ$9)) -> 119.52363 | CK123: =EXP($CK$6+($CK$7-$CK$6)*((LN($CK$1-A123))-$CK$9)/($CK$10-$CK$9)) -> 104.04838 | CL123: =EXP($CL$6+($CL$7-$CL$6)*((LN($CL$1-A123))-$CL$9)/($CL$10-$CL$9)) -> 92.569547 | CM123: =EXP($CM$6+($CM$7-$CM$6)*((LN($CM$1-A123))-$CM$9)/($CM$10-$CM$9)) -> 83.672737 | CN123: =EXP($CN$6+($CN$7-$CN$6)*((LN($CN$1-A123))-$CN$9)/($CN$10-$CN$9)) -> 76.548614 | CO123: =EXP($CO$6+($CO$7-$CO$6)*((LN($CO$1-A123))-$CO$9)/($CO$10-$CO$9)) -> 39.912069 | CP123: =EXP($CP$6+($CP$7-$CP$6)*((LN($CP$1-A123))-$CP$9)/($CP$10-$CP$9)) -> 26.5 | CQ123: =EXP($CQ$6+($CQ$7-$CQ$6)*((LN($CQ$1-A123))-$CQ$9)/($CQ$10-$CQ$9)) -> 23.636851 | CR123: =EXP($CR$6+($CR$7-$CR$6)*((LN($CR$1-A123))-$CR$9)/($CR$10-$CR$9)) -> 21.372787 | CS123: =EXP($CS$6+($CS$7-$CS$6)*((LN($CS$1-A123))-$CS$9)/($CS$10-$CS$9)) -> 19.692365 | CT123: =EXP($CT$6+($CT$7-$CT$6)*((LN($CT$1-A123))-$CT$9)/($CT$10-$CT$9)) -> 18.379134 | CU123: =EXP($CU$6+($CU$7-$CU$6)*((LN($CU$1-A123))-$CU$9)/($CU$10-$CU$9)) -> 17.314959 | CV123: =EXP($CV$6+($CV$7-$CV$6)*((LN($CV$1-A123))-$CV$9)/($CV$10-$CV$9)) -> 16.429077 | CW123: =EXP($CW$6+($CW$7-$CW$6)*((LN($CW$1-A123))-$CW$9)/($CW$10-$CW$9)) -> 15.676126 | CX123: =EXP($CX$6+($CX$7-$CX$6)*((LN($CX$1-A123))-$CX$9)/($CX$10-$CX$9)) -> 8.5950463 | CY123: =EXP($CY$6+($CY$7-$CY$6)*((LN($CY$1-A123))-$CY$9)/($CY$10-$CY$9)) -> 6.0381972 | CZ123: =EXP($CZ$6+($CZ$7-$CZ$6)*((LN($CZ$1-A123))-$CZ$9)/($CZ$10-$CZ$9)) -> 4.0964138 | DA123: =EXP($DA$6+($DA$7-$DA$6)*((LN($DA$1-A123))-$DA$9)/($DA$10-$DA$9)) -> 3.0282996 | DB123: =EXP($DB$6+($DB$7-$DB$6)*((LN($DB$1-A123))-$DB$9)/($DB$10-$DB$9)) -> 2.3661665 | DC123: =EXP($DC$6+($DC$7-$DC$6)*((LN($DC$1-A123))-$DC$9)/($DC$10-$DC$9)) -> 1.9207755 | DD123: =EXP($DD$6+($DD$7-$DD$6)*((LN($DD$1-A123))-$DD$9)/($DD$10-$DD$9)) -> 1.6033943 | DE123: =EXP($DE$6+($DE$7-$DE$6)*((LN($DE$1-A123))-$DE$9)/($DE$10-$DE$9)) -> 1.367309 | DF123: =EXP($DF$6+($DF$7-$DF$6)*((LN($DF$1-A123))-$DF$9)/($DF$10-$DF$9)) -> 1.1857612
A124: 111 | CC124: 111 | CF124: =CE24 -> 441.77452 | CG124: =EXP($CG$6+($CG$7-$CG$6)*((LN($CG$1-A124))-$CG$9)/($CG$10-$CG$9)) -> 246.59797 | CH124: =CG24 -> 177.46211 | CI124: =EXP($CI$6+($CI$7-$CI$6)*((LN($CI$1-A124))-$CI$9)/($CI$10-$CI$9)) -> 142.00337 | CJ124: =EXP($CJ$6+($CJ$7-$CJ$6)*((LN($CJ$1-A124))-$CJ$9)/($CJ$10-$CJ$9)) -> 119.70607 | CK124: =EXP($CK$6+($CK$7-$CK$6)*((LN($CK$1-A124))-$CK$9)/($CK$10-$CK$9)) -> 104.18025 | CL124: =EXP($CL$6+($CL$7-$CL$6)*((LN($CL$1-A124))-$CL$9)/($CL$10-$CL$9)) -> 92.669838 | CM124: =EXP($CM$6+($CM$7-$CM$6)*((LN($CM$1-A124))-$CM$9)/($CM$10-$CM$9)) -> 83.751901 | CN124: =EXP($CN$6+($CN$7-$CN$6)*((LN($CN$1-A124))-$CN$9)/($CN$10-$CN$9)) -> 76.612893 | CO124: =EXP($CO$6+($CO$7-$CO$6)*((LN($CO$1-A124))-$CO$9)/($CO$10-$CO$9)) -> 39.930796 | CP124: =EXP($CP$6+($CP$7-$CP$6)*((LN($CP$1-A124))-$CP$9)/($CP$10-$CP$9)) -> 26.5 | CQ124: =EXP($CQ$6+($CQ$7-$CQ$6)*((LN($CQ$1-A124))-$CQ$9)/($CQ$10-$CQ$9)) -> 23.639525 | CR124: =EXP($CR$6+($CR$7-$CR$6)*((LN($CR$1-A124))-$CR$9)/($CR$10-$CR$9)) -> 21.374711 | CS124: =EXP($CS$6+($CS$7-$CS$6)*((LN($CS$1-A124))-$CS$9)/($CS$10-$CS$9)) -> 19.693837 | CT124: =EXP($CT$6+($CT$7-$CT$6)*((LN($CT$1-A124))-$CT$9)/($CT$10-$CT$9)) -> 18.380308 | CU124: =EXP($CU$6+($CU$7-$CU$6)*((LN($CU$1-A124))-$CU$9)/($CU$10-$CU$9)) -> 17.315925 | CV124: =EXP($CV$6+($CV$7-$CV$6)*((LN($CV$1-A124))-$CV$9)/($CV$10-$CV$9)) -> 16.42989 | CW124: =EXP($CW$6+($CW$7-$CW$6)*((LN($CW$1-A124))-$CW$9)/($CW$10-$CW$9)) -> 15.676823 | CX124: =EXP($CX$6+($CX$7-$CX$6)*((LN($CX$1-A124))-$CX$9)/($CX$10-$CX$9)) -> 8.5954209 | CY124: =EXP($CY$6+($CY$7-$CY$6)*((LN($CY$1-A124))-$CY$9)/($CY$10-$CY$9)) -> 6.0383723 | CZ124: =EXP($CZ$6+($CZ$7-$CZ$6)*((LN($CZ$1-A124))-$CZ$9)/($CZ$10-$CZ$9)) -> 4.0965525 | DA124: =EXP($DA$6+($DA$7-$DA$6)*((LN($DA$1-A124))-$DA$9)/($DA$10-$DA$9)) -> 3.0283816 | DB124: =EXP($DB$6+($DB$7-$DB$6)*((LN($DB$1-A124))-$DB$9)/($DB$10-$DB$9)) -> 2.3662199 | DC124: =EXP($DC$6+($DC$7-$DC$6)*((LN($DC$1-A124))-$DC$9)/($DC$10-$DC$9)) -> 1.9208126 | DD124: =EXP($DD$6+($DD$7-$DD$6)*((LN($DD$1-A124))-$DD$9)/($DD$10-$DD$9)) -> 1.6034214 | DE124: =EXP($DE$6+($DE$7-$DE$6)*((LN($DE$1-A124))-$DE$9)/($DE$10-$DE$9)) -> 1.3673296 | DF124: =EXP($DF$6+($DF$7-$DF$6)*((LN($DF$1-A124))-$DF$9)/($DF$10-$DF$9)) -> 1.1857773
A125: 112 | CC125: 112 | CF125: =CE25 -> 445.64145 | CG125: =EXP($CG$6+($CG$7-$CG$6)*((LN($CG$1-A125))-$CG$9)/($CG$10-$CG$9)) -> 247.61353 | CH125: =CG25 -> 177.93929 | CI125: =EXP($CI$6+($CI$7-$CI$6)*((LN($CI$1-A125))-$CI$9)/($CI$10-$CI$9)) -> 142.27653 | CJ125: =EXP($CJ$6+($CJ$7-$CJ$6)*((LN($CJ$1-A125))-$CJ$9)/($CJ$10-$CJ$9)) -> 119.88916 | CK125: =EXP($CK$6+($CK$7-$CK$6)*((LN($CK$1-A125))-$CK$9)/($CK$10-$CK$9)) -> 104.3125 | CL125: =EXP($CL$6+($CL$7-$CL$6)*((LN($CL$1-A125))-$CL$9)/($CL$10-$CL$9)) -> 92.770383 | CM125: =EXP($CM$6+($CM$7-$CM$6)*((LN($CM$1-A125))-$CM$9)/($CM$10-$CM$9)) -> 83.831241 | CN125: =EXP($CN$6+($CN$7-$CN$6)*((LN($CN$1-A125))-$CN$9)/($CN$10-$CN$9)) -> 76.677298 | CO125: =EXP($CO$6+($CO$7-$CO$6)*((LN($CO$1-A125))-$CO$9)/($CO$10-$CO$9)) -> 39.949542 | CP125: =EXP($CP$6+($CP$7-$CP$6)*((LN($CP$1-A125))-$CP$9)/($CP$10-$CP$9)) -> 26.5 | CQ125: =EXP($CQ$6+($CQ$7-$CQ$6)*((LN($CQ$1-A125))-$CQ$9)/($CQ$10-$CQ$9)) -> 23.642201 | CR125: =EXP($CR$6+($CR$7-$CR$6)*((LN($CR$1-A125))-$CR$9)/($CR$10-$CR$9)) -> 21.376635 | CS125: =EXP($CS$6+($CS$7-$CS$6)*((LN($CS$1-A125))-$CS$9)/($CS$10-$CS$9)) -> 19.695309 | CT125: =EXP($CT$6+($CT$7-$CT$6)*((LN($CT$1-A125))-$CT$9)/($CT$10-$CT$9)) -> 18.381482 | CU125: =EXP($CU$6+($CU$7-$CU$6)*((LN($CU$1-A125))-$CU$9)/($CU$10-$CU$9)) -> 17.316891 | CV125: =EXP($CV$6+($CV$7-$CV$6)*((LN($CV$1-A125))-$CV$9)/($CV$10-$CV$9)) -> 16.430704 | CW125: =EXP($CW$6+($CW$7-$CW$6)*((LN($CW$1-A125))-$CW$9)/($CW$10-$CW$9)) -> 15.677521 | CX125: =EXP($CX$6+($CX$7-$CX$6)*((LN($CX$1-A125))-$CX$9)/($CX$10-$CX$9)) -> 8.5957956 | CY125: =EXP($CY$6+($CY$7-$CY$6)*((LN($CY$1-A125))-$CY$9)/($CY$10-$CY$9)) -> 6.0385474 | CZ125: =EXP($CZ$6+($CZ$7-$CZ$6)*((LN($CZ$1-A125))-$CZ$9)/($CZ$10-$CZ$9)) -> 4.0966912 | DA125: =EXP($DA$6+($DA$7-$DA$6)*((LN($DA$1-A125))-$DA$9)/($DA$10-$DA$9)) -> 3.0284636 | DB125: =EXP($DB$6+($DB$7-$DB$6)*((LN($DB$1-A125))-$DB$9)/($DB$10-$DB$9)) -> 2.3662732 | DC125: =EXP($DC$6+($DC$7-$DC$6)*((LN($DC$1-A125))-$DC$9)/($DC$10-$DC$9)) -> 1.9208497 | DD125: =EXP($DD$6+($DD$7-$DD$6)*((LN($DD$1-A125))-$DD$9)/($DD$10-$DD$9)) -> 1.6034485 | DE125: =EXP($DE$6+($DE$7-$DE$6)*((LN($DE$1-A125))-$DE$9)/($DE$10-$DE$9)) -> 1.3673501 | DF125: =EXP($DF$6+($DF$7-$DF$6)*((LN($DF$1-A125))-$DF$9)/($DF$10-$DF$9)) -> 1.1857933
... A212: 199 | CC212: 199 | CF212: =CE112 -> 11410 | CG212: =EXP($CG$6+($CG$7-$CG$6)*((LN($CG$1-A212))-$CG$9)/($CG$10-$CG$9)) -> 400.69924 | CH212: =CG112 -> 235.11389 | CI212: =EXP($CI$6+($CI$7-$CI$6)*((LN($CI$1-A212))-$CI$9)/($CI$10-$CI$9)) -> 171.97219 | CJ212: =EXP($CJ$6+($CJ$7-$CJ$6)*((LN($CJ$1-A212))-$CJ$9)/($CJ$10-$CJ$9)) -> 138.81849 | CK212: =EXP($CK$6+($CK$7-$CK$6)*((LN($CK$1-A212))-$CK$9)/($CK$10-$CK$9)) -> 117.55882 | CL212: =EXP($CL$6+($CL$7-$CL$6)*((LN($CL$1-A212))-$CL$9)/($CL$10-$CL$9)) -> 102.62324 | CM212: =EXP($CM$6+($CM$7-$CM$6)*((LN($CM$1-A212))-$CM$9)/($CM$10-$CM$9)) -> 91.482861 | CN212: =EXP($CN$6+($CN$7-$CN$6)*((LN($CN$1-A212))-$CN$9)/($CN$10-$CN$9)) -> 82.813334 | CO212: =EXP($CO$6+($CO$7-$CO$6)*((LN($CO$1-A212))-$CO$9)/($CO$10-$CO$9)) -> 41.655465 | CP212: =EXP($CP$6+($CP$7-$CP$6)*((LN($CP$1-A212))-$CP$9)/($CP$10-$CP$9)) -> 26.5 | CQ212: =EXP($CQ$6+($CQ$7-$CQ$6)*((LN($CQ$1-A212))-$CQ$9)/($CQ$10-$CQ$9)) -> 23.878851 | CR212: =EXP($CR$6+($CR$7-$CR$6)*((LN($CR$1-A212))-$CR$9)/($CR$10-$CR$9)) -> 21.546262 | CS212: =EXP($CS$6+($CS$7-$CS$6)*((LN($CS$1-A212))-$CS$9)/($CS$10-$CS$9)) -> 19.824765 | CT212: =EXP($CT$6+($CT$7-$CT$6)*((LN($CT$1-A212))-$CT$9)/($CT$10-$CT$9)) -> 18.484601 | CU212: =EXP($CU$6+($CU$7-$CU$6)*((LN($CU$1-A212))-$CU$9)/($CU$10-$CU$9)) -> 17.401623 | CV212: =EXP($CV$6+($CV$7-$CV$6)*((LN($CV$1-A212))-$CV$9)/($CV$10-$CV$9)) -> 16.501989 | CW212: =EXP($CW$6+($CW$7-$CW$6)*((LN($CW$1-A212))-$CW$9)/($CW$10-$CW$9)) -> 15.738616 | CX212: =EXP($CX$6+($CX$7-$CX$6)*((LN($CX$1-A212))-$CX$9)/($CX$10-$CX$9)) -> 8.6285254 | CY212: =EXP($CY$6+($CY$7-$CY$6)*((LN($CY$1-A212))-$CY$9)/($CY$10-$CY$9)) -> 6.0538262 | CZ212: =EXP($CZ$6+($CZ$7-$CZ$6)*((LN($CZ$1-A212))-$CZ$9)/($CZ$10-$CZ$9)) -> 4.1087898 | DA212: =EXP($DA$6+($DA$7-$DA$6)*((LN($DA$1-A212))-$DA$9)/($DA$10-$DA$9)) -> 3.035611 | DB212: =EXP($DB$6+($DB$7-$DB$6)*((LN($DB$1-A212))-$DB$9)/($DB$10-$DB$9)) -> 2.3709237 | DC212: =EXP($DC$6+($DC$7-$DC$6)*((LN($DC$1-A212))-$DC$9)/($DC$10-$DC$9)) -> 1.9240838 | DD212: =EXP($DD$6+($DD$7-$DD$6)*((LN($DD$1-A212))-$DD$9)/($DD$10-$DD$9)) -> 1.6058098 | DE212: =EXP($DE$6+($DE$7-$DE$6)*((LN($DE$1-A212))-$DE$9)/($DE$10-$DE$9)) -> 1.3691395 | DF212: =EXP($DF$6+($DF$7-$DF$6)*((LN($DF$1-A212))-$DF$9)/($DF$10-$DF$9)) -> 1.1871896
A213: 200 | CC213: 200 | CG213: =EXP($CG$6+($CG$7-$CG$6)*((LN($CG$1-A213))-$CG$9)/($CG$10-$CG$9)) -> 403.8 | CH213: =CG113 -> 236.0241 | CI213: =EXP($CI$6+($CI$7-$CI$6)*((LN($CI$1-A213))-$CI$9)/($CI$10-$CI$9)) -> 172.4 | CJ213: =EXP($CJ$6+($CJ$7-$CJ$6)*((LN($CJ$1-A213))-$CJ$9)/($CJ$10-$CJ$9)) -> 139.07751 | CK213: =EXP($CK$6+($CK$7-$CK$6)*((LN($CK$1-A213))-$CK$9)/($CK$10-$CK$9)) -> 117.73432 | CL213: =EXP($CL$6+($CL$7-$CL$6)*((LN($CL$1-A213))-$CL$9)/($CL$10-$CL$9)) -> 102.75091 | CM213: =EXP($CM$6+($CM$7-$CM$6)*((LN($CM$1-A213))-$CM$9)/($CM$10-$CM$9)) -> 91.580417 | CN213: =EXP($CN$6+($CN$7-$CN$6)*((LN($CN$1-A213))-$CN$9)/($CN$10-$CN$9)) -> 82.890609 | CO213: =EXP($CO$6+($CO$7-$CO$6)*((LN($CO$1-A213))-$CO$9)/($CO$10-$CO$9)) -> 41.675976 | CP213: =EXP($CP$6+($CP$7-$CP$6)*((LN($CP$1-A213))-$CP$9)/($CP$10-$CP$9)) -> 26.5 | CQ213: =EXP($CQ$6+($CQ$7-$CQ$6)*((LN($CQ$1-A213))-$CQ$9)/($CQ$10-$CQ$9)) -> 23.881616 | CR213: =EXP($CR$6+($CR$7-$CR$6)*((LN($CR$1-A213))-$CR$9)/($CR$10-$CR$9)) -> 21.548238 | CS213: =EXP($CS$6+($CS$7-$CS$6)*((LN($CS$1-A213))-$CS$9)/($CS$10-$CS$9)) -> 19.826269 | CT213: =EXP($CT$6+($CT$7-$CT$6)*((LN($CT$1-A213))-$CT$9)/($CT$10-$CT$9)) -> 18.485797 | CU213: =EXP($CU$6+($CU$7-$CU$6)*((LN($CU$1-A213))-$CU$9)/($CU$10-$CU$9)) -> 17.402604 | CV213: =EXP($CV$6+($CV$7-$CV$6)*((LN($CV$1-A213))-$CV$9)/($CV$10-$CV$9)) -> 16.502815 | CW213: =EXP($CW$6+($CW$7-$CW$6)*((LN($CW$1-A213))-$CW$9)/($CW$10-$CW$9)) -> 15.739323 | CX213: =EXP($CX$6+($CX$7-$CX$6)*((LN($CX$1-A213))-$CX$9)/($CX$10-$CX$9)) -> 8.6289031 | CY213: =EXP($CY$6+($CY$7-$CY$6)*((LN($CY$1-A213))-$CY$9)/($CY$10-$CY$9)) -> 6.0540023 | CZ213: =EXP($CZ$6+($CZ$7-$CZ$6)*((LN($CZ$1-A213))-$CZ$9)/($CZ$10-$CZ$9)) -> 4.1089293 | DA213: =EXP($DA$6+($DA$7-$DA$6)*((LN($DA$1-A213))-$DA$9)/($DA$10-$DA$9)) -> 3.0356933 | DB213: =EXP($DB$6+($DB$7-$DB$6)*((LN($DB$1-A213))-$DB$9)/($DB$10-$DB$9)) -> 2.3709772 | DC213: =EXP($DC$6+($DC$7-$DC$6)*((LN($DC$1-A213))-$DC$9)/($DC$10-$DC$9)) -> 1.924121 | DD213: =EXP($DD$6+($DD$7-$DD$6)*((LN($DD$1-A213))-$DD$9)/($DD$10-$DD$9)) -> 1.605837 | DE213: =EXP($DE$6+($DE$7-$DE$6)*((LN($DE$1-A213))-$DE$9)/($DE$10-$DE$9)) -> 1.3691601 | DF213: =EXP($DF$6+($DF$7-$DF$6)*((LN($DF$1-A213))-$DF$9)/($DF$10-$DF$9)) -> 1.1872056
A214: 201 | CC214: 201 | CG214: =CE14 -> 406.94226 | CH214: =CG114 -> 236.94242 | CI214: =CG14 -> 172.84652 | CJ214: =EXP($CJ$6+($CJ$7-$CJ$6)*((LN($CJ$1-A214))-$CJ$9)/($CJ$10-$CJ$9)) -> 139.33767 | CK214: =EXP($CK$6+($CK$7-$CK$6)*((LN($CK$1-A214))-$CK$9)/($CK$10-$CK$9)) -> 117.91043 | CL214: =EXP($CL$6+($CL$7-$CL$6)*((LN($CL$1-A214))-$CL$9)/($CL$10-$CL$9)) -> 102.87895 | CM214: =EXP($CM$6+($CM$7-$CM$6)*((LN($CM$1-A214))-$CM$9)/($CM$10-$CM$9)) -> 91.678217 | CN214: =EXP($CN$6+($CN$7-$CN$6)*((LN($CN$1-A214))-$CN$9)/($CN$10-$CN$9)) -> 82.968052 | CO214: =EXP($CO$6+($CO$7-$CO$6)*((LN($CO$1-A214))-$CO$9)/($CO$10-$CO$9)) -> 41.696509 | CP214: =EXP($CP$6+($CP$7-$CP$6)*((LN($CP$1-A214))-$CP$9)/($CP$10-$CP$9)) -> 26.5 | CQ214: =EXP($CQ$6+($CQ$7-$CQ$6)*((LN($CQ$1-A214))-$CQ$9)/($CQ$10-$CQ$9)) -> 23.884383 | CR214: =EXP($CR$6+($CR$7-$CR$6)*((LN($CR$1-A214))-$CR$9)/($CR$10-$CR$9)) -> 21.550214 | CS214: =EXP($CS$6+($CS$7-$CS$6)*((LN($CS$1-A214))-$CS$9)/($CS$10-$CS$9)) -> 19.827774 | CT214: =EXP($CT$6+($CT$7-$CT$6)*((LN($CT$1-A214))-$CT$9)/($CT$10-$CT$9)) -> 18.486993 | CU214: =EXP($CU$6+($CU$7-$CU$6)*((LN($CU$1-A214))-$CU$9)/($CU$10-$CU$9)) -> 17.403586 | CV214: =EXP($CV$6+($CV$7-$CV$6)*((LN($CV$1-A214))-$CV$9)/($CV$10-$CV$9)) -> 16.50364 | CW214: =EXP($CW$6+($CW$7-$CW$6)*((LN($CW$1-A214))-$CW$9)/($CW$10-$CW$9)) -> 15.74003 | CX214: =EXP($CX$6+($CX$7-$CX$6)*((LN($CX$1-A214))-$CX$9)/($CX$10-$CX$9)) -> 8.6292809 | CY214: =EXP($CY$6+($CY$7-$CY$6)*((LN($CY$1-A214))-$CY$9)/($CY$10-$CY$9)) -> 6.0541784 | CZ214: =EXP($CZ$6+($CZ$7-$CZ$6)*((LN($CZ$1-A214))-$CZ$9)/($CZ$10-$CZ$9)) -> 4.1090687 | DA214: =EXP($DA$6+($DA$7-$DA$6)*((LN($DA$1-A214))-$DA$9)/($DA$10-$DA$9)) -> 3.0357756 | DB214: =EXP($DB$6+($DB$7-$DB$6)*((LN($DB$1-A214))-$DB$9)/($DB$10-$DB$9)) -> 2.3710308 | DC214: =EXP($DC$6+($DC$7-$DC$6)*((LN($DC$1-A214))-$DC$9)/($DC$10-$DC$9)) -> 1.9241583 | DD214: =EXP($DD$6+($DD$7-$DD$6)*((LN($DD$1-A214))-$DD$9)/($DD$10-$DD$9)) -> 1.6058642 | DE214: =EXP($DE$6+($DE$7-$DE$6)*((LN($DE$1-A214))-$DE$9)/($DE$10-$DE$9)) -> 1.3691807 | DF214: =EXP($DF$6+($DF$7-$DF$6)*((LN($DF$1-A214))-$DF$9)/($DF$10-$DF$9)) -> 1.1872217
A215: 202 | CC215: 202 | CG215: =CE15 -> 410.14124 | CH215: =CG115 -> 237.86897 | CI215: =CG15 -> 173.2957 | CJ215: =EXP($CJ$6+($CJ$7-$CJ$6)*((LN($CJ$1-A215))-$CJ$9)/($CJ$10-$CJ$9)) -> 139.59897 | CK215: =EXP($CK$6+($CK$7-$CK$6)*((LN($CK$1-A215))-$CK$9)/($CK$10-$CK$9)) -> 118.08716 | CL215: =EXP($CL$6+($CL$7-$CL$6)*((LN($CL$1-A215))-$CL$9)/($CL$10-$CL$9)) -> 103.00737 | CM215: =EXP($CM$6+($CM$7-$CM$6)*((LN($CM$1-A215))-$CM$9)/($CM$10-$CM$9)) -> 91.776262 | CN215: =EXP($CN$6+($CN$7-$CN$6)*((LN($CN$1-A215))-$CN$9)/($CN$10-$CN$9)) -> 83.045664 | CO215: =EXP($CO$6+($CO$7-$CO$6)*((LN($CO$1-A215))-$CO$9)/($CO$10-$CO$9)) -> 41.717064 | CP215: =EXP($CP$6+($CP$7-$CP$6)*((LN($CP$1-A215))-$CP$9)/($CP$10-$CP$9)) -> 26.5 | CQ215: =EXP($CQ$6+($CQ$7-$CQ$6)*((LN($CQ$1-A215))-$CQ$9)/($CQ$10-$CQ$9)) -> 23.88715 | CR215: =EXP($CR$6+($CR$7-$CR$6)*((LN($CR$1-A215))-$CR$9)/($CR$10-$CR$9)) -> 21.55219 | CS215: =EXP($CS$6+($CS$7-$CS$6)*((LN($CS$1-A215))-$CS$9)/($CS$10-$CS$9)) -> 19.829279 | CT215: =EXP($CT$6+($CT$7-$CT$6)*((LN($CT$1-A215))-$CT$9)/($CT$10-$CT$9)) -> 18.48819 | CU215: =EXP($CU$6+($CU$7-$CU$6)*((LN($CU$1-A215))-$CU$9)/($CU$10-$CU$9)) -> 17.404569 | CV215: =EXP($CV$6+($CV$7-$CV$6)*((LN($CV$1-A215))-$CV$9)/($CV$10-$CV$9)) -> 16.504466 | CW215: =EXP($CW$6+($CW$7-$CW$6)*((LN($CW$1-A215))-$CW$9)/($CW$10-$CW$9)) -> 15.740737 | CX215: =EXP($CX$6+($CX$7-$CX$6)*((LN($CX$1-A215))-$CX$9)/($CX$10-$CX$9)) -> 8.6296588 | CY215: =EXP($CY$6+($CY$7-$CY$6)*((LN($CY$1-A215))-$CY$9)/($CY$10-$CY$9)) -> 6.0543545 | CZ215: =EXP($CZ$6+($CZ$7-$CZ$6)*((LN($CZ$1-A215))-$CZ$9)/($CZ$10-$CZ$9)) -> 4.1092081 | DA215: =EXP($DA$6+($DA$7-$DA$6)*((LN($DA$1-A215))-$DA$9)/($DA$10-$DA$9)) -> 3.0358579 | DB215: =EXP($DB$6+($DB$7-$DB$6)*((LN($DB$1-A215))-$DB$9)/($DB$10-$DB$9)) -> 2.3710843 | DC215: =EXP($DC$6+($DC$7-$DC$6)*((LN($DC$1-A215))-$DC$9)/($DC$10-$DC$9)) -> 1.9241955 | DD215: =EXP($DD$6+($DD$7-$DD$6)*((LN($DD$1-A215))-$DD$9)/($DD$10-$DD$9)) -> 1.6058914 | DE215: =EXP($DE$6+($DE$7-$DE$6)*((LN($DE$1-A215))-$DE$9)/($DE$10-$DE$9)) -> 1.3692013 | DF215: =EXP($DF$6+($DF$7-$DF$6)*((LN($DF$1-A215))-$DF$9)/($DF$10-$DF$9)) -> 1.1872378
A216: 203 | CC216: 203 | CG216: =CE16 -> 413.39858 | CH216: =CG116 -> 238.80386 | CI216: =CG16 -> 173.74756 | CJ216: =EXP($CJ$6+($CJ$7-$CJ$6)*((LN($CJ$1-A216))-$CJ$9)/($CJ$10-$CJ$9)) -> 139.86142 | CK216: =EXP($CK$6+($CK$7-$CK$6)*((LN($CK$1-A216))-$CK$9)/($CK$10-$CK$9)) -> 118.2645 | CL216: =EXP($CL$6+($CL$7-$CL$6)*((LN($CL$1-A216))-$CL$9)/($CL$10-$CL$9)) -> 103.13616 | CM216: =EXP($CM$6+($CM$7-$CM$6)*((LN($CM$1-A216))-$CM$9)/($CM$10-$CM$9)) -> 91.874553 | CN216: =EXP($CN$6+($CN$7-$CN$6)*((LN($CN$1-A216))-$CN$9)/($CN$10-$CN$9)) -> 83.123447 | CO216: =EXP($CO$6+($CO$7-$CO$6)*((LN($CO$1-A216))-$CO$9)/($CO$10-$CO$9)) -> 41.73764 | CP216: =EXP($CP$6+($CP$7-$CP$6)*((LN($CP$1-A216))-$CP$9)/($CP$10-$CP$9)) -> 26.5 | CQ216: =EXP($CQ$6+($CQ$7-$CQ$6)*((LN($CQ$1-A216))-$CQ$9)/($CQ$10-$CQ$9)) -> 23.889919 | CR216: =EXP($CR$6+($CR$7-$CR$6)*((LN($CR$1-A216))-$CR$9)/($CR$10-$CR$9)) -> 21.554167 | CS216: =EXP($CS$6+($CS$7-$CS$6)*((LN($CS$1-A216))-$CS$9)/($CS$10-$CS$9)) -> 19.830784 | CT216: =EXP($CT$6+($CT$7-$CT$6)*((LN($CT$1-A216))-$CT$9)/($CT$10-$CT$9)) -> 18.489387 | CU216: =EXP($CU$6+($CU$7-$CU$6)*((LN($CU$1-A216))-$CU$9)/($CU$10-$CU$9)) -> 17.405551 | CV216: =EXP($CV$6+($CV$7-$CV$6)*((LN($CV$1-A216))-$CV$9)/($CV$10-$CV$9)) -> 16.505291 | CW216: =EXP($CW$6+($CW$7-$CW$6)*((LN($CW$1-A216))-$CW$9)/($CW$10-$CW$9)) -> 15.741444 | CX216: =EXP($CX$6+($CX$7-$CX$6)*((LN($CX$1-A216))-$CX$9)/($CX$10-$CX$9)) -> 8.6300366 | CY216: =EXP($CY$6+($CY$7-$CY$6)*((LN($CY$1-A216))-$CY$9)/($CY$10-$CY$9)) -> 6.0545307 | CZ216: =EXP($CZ$6+($CZ$7-$CZ$6)*((LN($CZ$1-A216))-$CZ$9)/($CZ$10-$CZ$9)) -> 4.1093476 | DA216: =EXP($DA$6+($DA$7-$DA$6)*((LN($DA$1-A216))-$DA$9)/($DA$10-$DA$9)) -> 3.0359403 | DB216: =EXP($DB$6+($DB$7-$DB$6)*((LN($DB$1-A216))-$DB$9)/($DB$10-$DB$9)) -> 2.3711379 | DC216: =EXP($DC$6+($DC$7-$DC$6)*((LN($DC$1-A216))-$DC$9)/($DC$10-$DC$9)) -> 1.9242327 | DD216: =EXP($DD$6+($DD$7-$DD$6)*((LN($DD$1-A216))-$DD$9)/($DD$10-$DD$9)) -> 1.6059185 | DE216: =EXP($DE$6+($DE$7-$DE$6)*((LN($DE$1-A216))-$DE$9)/($DE$10-$DE$9)) -> 1.3692219 | DF216: =EXP($DF$6+($DF$7-$DF$6)*((LN($DF$1-A216))-$DF$9)/($DF$10-$DF$9)) -> 1.1872538
A217: 204 | CC217: 204 | CG217: =CE17 -> 416.71594 | CH217: =CG117 -> 239.74721 | CI217: =CG17 -> 174.20212 | CJ217: =EXP($CJ$6+($CJ$7-$CJ$6)*((LN($CJ$1-A217))-$CJ$9)/($CJ$10-$CJ$9)) -> 140.12503 | CK217: =EXP($CK$6+($CK$7-$CK$6)*((LN($CK$1-A217))-$CK$9)/($CK$10-$CK$9)) -> 118.44248 | CL217: =EXP($CL$6+($CL$7-$CL$6)*((LN($CL$1-A217))-$CL$9)/($CL$10-$CL$9)) -> 103.26534 | CM217: =EXP($CM$6+($CM$7-$CM$6)*((LN($CM$1-A217))-$CM$9)/($CM$10-$CM$9)) -> 91.97309 | CN217: =EXP($CN$6+($CN$7-$CN$6)*((LN($CN$1-A217))-$CN$9)/($CN$10-$CN$9)) -> 83.2014 | CO217: =EXP($CO$6+($CO$7-$CO$6)*((LN($CO$1-A217))-$CO$9)/($CO$10-$CO$9)) -> 41.758238 | CP217: =EXP($CP$6+($CP$7-$CP$6)*((LN($CP$1-A217))-$CP$9)/($CP$10-$CP$9)) -> 26.5 | CQ217: =EXP($CQ$6+($CQ$7-$CQ$6)*((LN($CQ$1-A217))-$CQ$9)/($CQ$10-$CQ$9)) -> 23.892688 | CR217: =EXP($CR$6+($CR$7-$CR$6)*((LN($CR$1-A217))-$CR$9)/($CR$10-$CR$9)) -> 21.556145 | CS217: =EXP($CS$6+($CS$7-$CS$6)*((LN($CS$1-A217))-$CS$9)/($CS$10-$CS$9)) -> 19.83229 | CT217: =EXP($CT$6+($CT$7-$CT$6)*((LN($CT$1-A217))-$CT$9)/($CT$10-$CT$9)) -> 18.490585 | CU217: =EXP($CU$6+($CU$7-$CU$6)*((LN($CU$1-A217))-$CU$9)/($CU$10-$CU$9)) -> 17.406533 | CV217: =EXP($CV$6+($CV$7-$CV$6)*((LN($CV$1-A217))-$CV$9)/($CV$10-$CV$9)) -> 16.506117 | CW217: =EXP($CW$6+($CW$7-$CW$6)*((LN($CW$1-A217))-$CW$9)/($CW$10-$CW$9)) -> 15.742151 | CX217: =EXP($CX$6+($CX$7-$CX$6)*((LN($CX$1-A217))-$CX$9)/($CX$10-$CX$9)) -> 8.6304145 | CY217: =EXP($CY$6+($CY$7-$CY$6)*((LN($CY$1-A217))-$CY$9)/($CY$10-$CY$9)) -> 6.0547068 | CZ217: =EXP($CZ$6+($CZ$7-$CZ$6)*((LN($CZ$1-A217))-$CZ$9)/($CZ$10-$CZ$9)) -> 4.109487 | DA217: =EXP($DA$6+($DA$7-$DA$6)*((LN($DA$1-A217))-$DA$9)/($DA$10-$DA$9)) -> 3.0360226 | DB217: =EXP($DB$6+($DB$7-$DB$6)*((LN($DB$1-A217))-$DB$9)/($DB$10-$DB$9)) -> 2.3711914 | DC217: =EXP($DC$6+($DC$7-$DC$6)*((LN($DC$1-A217))-$DC$9)/($DC$10-$DC$9)) -> 1.92427 | DD217: =EXP($DD$6+($DD$7-$DD$6)*((LN($DD$1-A217))-$DD$9)/($DD$10-$DD$9)) -> 1.6059457 | DE217: =EXP($DE$6+($DE$7-$DE$6)*((LN($DE$1-A217))-$DE$9)/($DE$10-$DE$9)) -> 1.3692425 | DF217: =EXP($DF$6+($DF$7-$DF$6)*((LN($DF$1-A217))-$DF$9)/($DF$10-$DF$9)) -> 1.1872699
A218: 205 | CC218: 205 | CG218: =CE18 -> 420.09508 | CH218: =CG118 -> 240.69914 | CI218: =CG18 -> 174.65943 | CJ218: =EXP($CJ$6+($CJ$7-$CJ$6)*((LN($CJ$1-A218))-$CJ$9)/($CJ$10-$CJ$9)) -> 140.3898 | CK218: =EXP($CK$6+($CK$7-$CK$6)*((LN($CK$1-A218))-$CK$9)/($CK$10-$CK$9)) -> 118.62108 | CL218: =EXP($CL$6+($CL$7-$CL$6)*((LN($CL$1-A218))-$CL$9)/($CL$10-$CL$9)) -> 103.39489 | CM218: =EXP($CM$6+($CM$7-$CM$6)*((LN($CM$1-A218))-$CM$9)/($CM$10-$CM$9)) -> 92.071875 | CN218: =EXP($CN$6+($CN$7-$CN$6)*((LN($CN$1-A218))-$CN$9)/($CN$10-$CN$9)) -> 83.279525 | CO218: =EXP($CO$6+($CO$7-$CO$6)*((LN($CO$1-A218))-$CO$9)/($CO$10-$CO$9)) -> 41.778858 | CP218: =EXP($CP$6+($CP$7-$CP$6)*((LN($CP$1-A218))-$CP$9)/($CP$10-$CP$9)) -> 26.5 | CQ218: =EXP($CQ$6+($CQ$7-$CQ$6)*((LN($CQ$1-A218))-$CQ$9)/($CQ$10-$CQ$9)) -> 23.895459 | CR218: =EXP($CR$6+($CR$7-$CR$6)*((LN($CR$1-A218))-$CR$9)/($CR$10-$CR$9)) -> 21.558124 | CS218: =EXP($CS$6+($CS$7-$CS$6)*((LN($CS$1-A218))-$CS$9)/($CS$10-$CS$9)) -> 19.833796 | CT218: =EXP($CT$6+($CT$7-$CT$6)*((LN($CT$1-A218))-$CT$9)/($CT$10-$CT$9)) -> 18.491782 | CU218: =EXP($CU$6+($CU$7-$CU$6)*((LN($CU$1-A218))-$CU$9)/($CU$10-$CU$9)) -> 17.407516 | CV218: =EXP($CV$6+($CV$7-$CV$6)*((LN($CV$1-A218))-$CV$9)/($CV$10-$CV$9)) -> 16.506943 | CW218: =EXP($CW$6+($CW$7-$CW$6)*((LN($CW$1-A218))-$CW$9)/($CW$10-$CW$9)) -> 15.742858 | CX218: =EXP($CX$6+($CX$7-$CX$6)*((LN($CX$1-A218))-$CX$9)/($CX$10-$CX$9)) -> 8.6307925 | CY218: =EXP($CY$6+($CY$7-$CY$6)*((LN($CY$1-A218))-$CY$9)/($CY$10-$CY$9)) -> 6.054883 | CZ218: =EXP($CZ$6+($CZ$7-$CZ$6)*((LN($CZ$1-A218))-$CZ$9)/($CZ$10-$CZ$9)) -> 4.1096265 | DA218: =EXP($DA$6+($DA$7-$DA$6)*((LN($DA$1-A218))-$DA$9)/($DA$10-$DA$9)) -> 3.036105 | DB218: =EXP($DB$6+($DB$7-$DB$6)*((LN($DB$1-A218))-$DB$9)/($DB$10-$DB$9)) -> 2.371245 | DC218: =EXP($DC$6+($DC$7-$DC$6)*((LN($DC$1-A218))-$DC$9)/($DC$10-$DC$9)) -> 1.9243072 | DD218: =EXP($DD$6+($DD$7-$DD$6)*((LN($DD$1-A218))-$DD$9)/($DD$10-$DD$9)) -> 1.6059729 | DE218: =EXP($DE$6+($DE$7-$DE$6)*((LN($DE$1-A218))-$DE$9)/($DE$10-$DE$9)) -> 1.3692631 | DF218: =EXP($DF$6+($DF$7-$DF$6)*((LN($DF$1-A218))-$DF$9)/($DF$10-$DF$9)) -> 1.187286
A219: 206 | CC219: 206 | CG219: =CE19 -> 423.53782 | CH219: =CG119 -> 241.65978 | CI219: =CG19 -> 175.11949 | CJ219: =EXP($CJ$6+($CJ$7-$CJ$6)*((LN($CJ$1-A219))-$CJ$9)/($CJ$10-$CJ$9)) -> 140.65575 | CK219: =EXP($CK$6+($CK$7-$CK$6)*((LN($CK$1-A219))-$CK$9)/($CK$10-$CK$9)) -> 118.80031 | CL219: =EXP($CL$6+($CL$7-$CL$6)*((LN($CL$1-A219))-$CL$9)/($CL$10-$CL$9)) -> 103.52482 | CM219: =EXP($CM$6+($CM$7-$CM$6)*((LN($CM$1-A219))-$CM$9)/($CM$10-$CM$9)) -> 92.170908 | CN219: =EXP($CN$6+($CN$7-$CN$6)*((LN($CN$1-A219))-$CN$9)/($CN$10-$CN$9)) -> 83.357821 | CO219: =EXP($CO$6+($CO$7-$CO$6)*((LN($CO$1-A219))-$CO$9)/($CO$10-$CO$9)) -> 41.799499 | CP219: =EXP($CP$6+($CP$7-$CP$6)*((LN($CP$1-A219))-$CP$9)/($CP$10-$CP$9)) -> 26.5 | CQ219: =EXP($CQ$6+($CQ$7-$CQ$6)*((LN($CQ$1-A219))-$CQ$9)/($CQ$10-$CQ$9)) -> 23.898231 | CR219: =EXP($CR$6+($CR$7-$CR$6)*((LN($CR$1-A219))-$CR$9)/($CR$10-$CR$9)) -> 21.560103 | CS219: =EXP($CS$6+($CS$7-$CS$6)*((LN($CS$1-A219))-$CS$9)/($CS$10-$CS$9)) -> 19.835302 | CT219: =EXP($CT$6+($CT$7-$CT$6)*((LN($CT$1-A219))-$CT$9)/($CT$10-$CT$9)) -> 18.49298 | CU219: =EXP($CU$6+($CU$7-$CU$6)*((LN($CU$1-A219))-$CU$9)/($CU$10-$CU$9)) -> 17.408499 | CV219: =EXP($CV$6+($CV$7-$CV$6)*((LN($CV$1-A219))-$CV$9)/($CV$10-$CV$9)) -> 16.507769 | CW219: =EXP($CW$6+($CW$7-$CW$6)*((LN($CW$1-A219))-$CW$9)/($CW$10-$CW$9)) -> 15.743566 | CX219: =EXP($CX$6+($CX$7-$CX$6)*((LN($CX$1-A219))-$CX$9)/($CX$10-$CX$9)) -> 8.6311705 | CY219: =EXP($CY$6+($CY$7-$CY$6)*((LN($CY$1-A219))-$CY$9)/($CY$10-$CY$9)) -> 6.0550591 | CZ219: =EXP($CZ$6+($CZ$7-$CZ$6)*((LN($CZ$1-A219))-$CZ$9)/($CZ$10-$CZ$9)) -> 4.109766 | DA219: =EXP($DA$6+($DA$7-$DA$6)*((LN($DA$1-A219))-$DA$9)/($DA$10-$DA$9)) -> 3.0361873 | DB219: =EXP($DB$6+($DB$7-$DB$6)*((LN($DB$1-A219))-$DB$9)/($DB$10-$DB$9)) -> 2.3712986 | DC219: =EXP($DC$6+($DC$7-$DC$6)*((LN($DC$1-A219))-$DC$9)/($DC$10-$DC$9)) -> 1.9243444 | DD219: =EXP($DD$6+($DD$7-$DD$6)*((LN($DD$1-A219))-$DD$9)/($DD$10-$DD$9)) -> 1.6060001 | DE219: =EXP($DE$6+($DE$7-$DE$6)*((LN($DE$1-A219))-$DE$9)/($DE$10-$DE$9)) -> 1.3692837 | DF219: =EXP($DF$6+($DF$7-$DF$6)*((LN($DF$1-A219))-$DF$9)/($DF$10-$DF$9)) -> 1.187302
A220: 207 | CC220: 207 | CG220: =CE20 -> 427.04605 | CH220: =CG120 -> 242.62924 | CI220: =CG20 -> 175.58234 | CJ220: =EXP($CJ$6+($CJ$7-$CJ$6)*((LN($CJ$1-A220))-$CJ$9)/($CJ$10-$CJ$9)) -> 140.92288 | CK220: =EXP($CK$6+($CK$7-$CK$6)*((LN($CK$1-A220))-$CK$9)/($CK$10-$CK$9)) -> 118.98018 | CL220: =EXP($CL$6+($CL$7-$CL$6)*((LN($CL$1-A220))-$CL$9)/($CL$10-$CL$9)) -> 103.65513 | CM220: =EXP($CM$6+($CM$7-$CM$6)*((LN($CM$1-A220))-$CM$9)/($CM$10-$CM$9)) -> 92.270191 | CN220: =EXP($CN$6+($CN$7-$CN$6)*((LN($CN$1-A220))-$CN$9)/($CN$10-$CN$9)) -> 83.43629 | CO220: =EXP($CO$6+($CO$7-$CO$6)*((LN($CO$1-A220))-$CO$9)/($CO$10-$CO$9)) -> 41.820162 | CP220: =EXP($CP$6+($CP$7-$CP$6)*((LN($CP$1-A220))-$CP$9)/($CP$10-$CP$9)) -> 26.5 | CQ220: =EXP($CQ$6+($CQ$7-$CQ$6)*((LN($CQ$1-A220))-$CQ$9)/($CQ$10-$CQ$9)) -> 23.901003 | CR220: =EXP($CR$6+($CR$7-$CR$6)*((LN($CR$1-A220))-$CR$9)/($CR$10-$CR$9)) -> 21.562082 | CS220: =EXP($CS$6+($CS$7-$CS$6)*((LN($CS$1-A220))-$CS$9)/($CS$10-$CS$9)) -> 19.836809 | CT220: =EXP($CT$6+($CT$7-$CT$6)*((LN($CT$1-A220))-$CT$9)/($CT$10-$CT$9)) -> 18.494178 | CU220: =EXP($CU$6+($CU$7-$CU$6)*((LN($CU$1-A220))-$CU$9)/($CU$10-$CU$9)) -> 17.409482 | CV220: =EXP($CV$6+($CV$7-$CV$6)*((LN($CV$1-A220))-$CV$9)/($CV$10-$CV$9)) -> 16.508595 | CW220: =EXP($CW$6+($CW$7-$CW$6)*((LN($CW$1-A220))-$CW$9)/($CW$10-$CW$9)) -> 15.744273 | CX220: =EXP($CX$6+($CX$7-$CX$6)*((LN($CX$1-A220))-$CX$9)/($CX$10-$CX$9)) -> 8.6315485 | CY220: =EXP($CY$6+($CY$7-$CY$6)*((LN($CY$1-A220))-$CY$9)/($CY$10-$CY$9)) -> 6.0552353 | CZ220: =EXP($CZ$6+($CZ$7-$CZ$6)*((LN($CZ$1-A220))-$CZ$9)/($CZ$10-$CZ$9)) -> 4.1099055 | DA220: =EXP($DA$6+($DA$7-$DA$6)*((LN($DA$1-A220))-$DA$9)/($DA$10-$DA$9)) -> 3.0362697 | DB220: =EXP($DB$6+($DB$7-$DB$6)*((LN($DB$1-A220))-$DB$9)/($DB$10-$DB$9)) -> 2.3713521 | DC220: =EXP($DC$6+($DC$7-$DC$6)*((LN($DC$1-A220))-$DC$9)/($DC$10-$DC$9)) -> 1.9243817 | DD220: =EXP($DD$6+($DD$7-$DD$6)*((LN($DD$1-A220))-$DD$9)/($DD$10-$DD$9)) -> 1.6060273 | DE220: =EXP($DE$6+($DE$7-$DE$6)*((LN($DE$1-A220))-$DE$9)/($DE$10-$DE$9)) -> 1.3693043 | DF220: =EXP($DF$6+($DF$7-$DF$6)*((LN($DF$1-A220))-$DF$9)/($DF$10-$DF$9)) -> 1.1873181
A221: 208 | CC221: 208 | CG221: =CE21 -> 430.62174 | CH221: =CG121 -> 243.60766 | CI221: =CG21 -> 176.04799 | CJ221: =EXP($CJ$6+($CJ$7-$CJ$6)*((LN($CJ$1-A221))-$CJ$9)/($CJ$10-$CJ$9)) -> 141.19119 | CK221: =EXP($CK$6+($CK$7-$CK$6)*((LN($CK$1-A221))-$CK$9)/($CK$10-$CK$9)) -> 119.16068 | CL221: =EXP($CL$6+($CL$7-$CL$6)*((LN($CL$1-A221))-$CL$9)/($CL$10-$CL$9)) -> 103.78583 | CM221: =EXP($CM$6+($CM$7-$CM$6)*((LN($CM$1-A221))-$CM$9)/($CM$10-$CM$9)) -> 92.369724 | CN221: =EXP($CN$6+($CN$7-$CN$6)*((LN($CN$1-A221))-$CN$9)/($CN$10-$CN$9)) -> 83.514932 | CO221: =EXP($CO$6+($CO$7-$CO$6)*((LN($CO$1-A221))-$CO$9)/($CO$10-$CO$9)) -> 41.840846 | CP221: =EXP($CP$6+($CP$7-$CP$6)*((LN($CP$1-A221))-$CP$9)/($CP$10-$CP$9)) -> 26.5 | CQ221: =EXP($CQ$6+($CQ$7-$CQ$6)*((LN($CQ$1-A221))-$CQ$9)/($CQ$10-$CQ$9)) -> 23.903777 | CR221: =EXP($CR$6+($CR$7-$CR$6)*((LN($CR$1-A221))-$CR$9)/($CR$10-$CR$9)) -> 21.564062 | CS221: =EXP($CS$6+($CS$7-$CS$6)*((LN($CS$1-A221))-$CS$9)/($CS$10-$CS$9)) -> 19.838316 | CT221: =EXP($CT$6+($CT$7-$CT$6)*((LN($CT$1-A221))-$CT$9)/($CT$10-$CT$9)) -> 18.495376 | CU221: =EXP($CU$6+($CU$7-$CU$6)*((LN($CU$1-A221))-$CU$9)/($CU$10-$CU$9)) -> 17.410466 | CV221: =EXP($CV$6+($CV$7-$CV$6)*((LN($CV$1-A221))-$CV$9)/($CV$10-$CV$9)) -> 16.509422 | CW221: =EXP($CW$6+($CW$7-$CW$6)*((LN($CW$1-A221))-$CW$9)/($CW$10-$CW$9)) -> 15.744981 | CX221: =EXP($CX$6+($CX$7-$CX$6)*((LN($CX$1-A221))-$CX$9)/($CX$10-$CX$9)) -> 8.6319265 | CY221: =EXP($CY$6+($CY$7-$CY$6)*((LN($CY$1-A221))-$CY$9)/($CY$10-$CY$9)) -> 6.0554115 | CZ221: =EXP($CZ$6+($CZ$7-$CZ$6)*((LN($CZ$1-A221))-$CZ$9)/($CZ$10-$CZ$9)) -> 4.110045 | DA221: =EXP($DA$6+($DA$7-$DA$6)*((LN($DA$1-A221))-$DA$9)/($DA$10-$DA$9)) -> 3.036352 | DB221: =EXP($DB$6+($DB$7-$DB$6)*((LN($DB$1-A221))-$DB$9)/($DB$10-$DB$9)) -> 2.3714057 | DC221: =EXP($DC$6+($DC$7-$DC$6)*((LN($DC$1-A221))-$DC$9)/($DC$10-$DC$9)) -> 1.9244189 | DD221: =EXP($DD$6+($DD$7-$DD$6)*((LN($DD$1-A221))-$DD$9)/($DD$10-$DD$9)) -> 1.6060545 | DE221: =EXP($DE$6+($DE$7-$DE$6)*((LN($DE$1-A221))-$DE$9)/($DE$10-$DE$9)) -> 1.3693248 | DF221: =EXP($DF$6+($DF$7-$DF$6)*((LN($DF$1-A221))-$DF$9)/($DF$10-$DF$9)) -> 1.1873342
A222: 209 | CC222: 209 | CG222: =CE22 -> 434.26694 | CH222: =CG122 -> 244.59517 | CI222: =CG22 -> 176.51649 | CJ222: =EXP($CJ$6+($CJ$7-$CJ$6)*((LN($CJ$1-A222))-$CJ$9)/($CJ$10-$CJ$9)) -> 141.46071 | CK222: =EXP($CK$6+($CK$7-$CK$6)*((LN($CK$1-A222))-$CK$9)/($CK$10-$CK$9)) -> 119.34183 | CL222: =EXP($CL$6+($CL$7-$CL$6)*((LN($CL$1-A222))-$CL$9)/($CL$10-$CL$9)) -> 103.91691 | CM222: =EXP($CM$6+($CM$7-$CM$6)*((LN($CM$1-A222))-$CM$9)/($CM$10-$CM$9)) -> 92.469509 | CN222: =EXP($CN$6+($CN$7-$CN$6)*((LN($CN$1-A222))-$CN$9)/($CN$10-$CN$9)) -> 83.593747 | CO222: =EXP($CO$6+($CO$7-$CO$6)*((LN($CO$1-A222))-$CO$9)/($CO$10-$CO$9)) -> 41.861553 | CP222: =EXP($CP$6+($CP$7-$CP$6)*((LN($CP$1-A222))-$CP$9)/($CP$10-$CP$9)) -> 26.5 | CQ222: =EXP($CQ$6+($CQ$7-$CQ$6)*((LN($CQ$1-A222))-$CQ$9)/($CQ$10-$CQ$9)) -> 23.906552 | CR222: =EXP($CR$6+($CR$7-$CR$6)*((LN($CR$1-A222))-$CR$9)/($CR$10-$CR$9)) -> 21.566043 | CS222: =EXP($CS$6+($CS$7-$CS$6)*((LN($CS$1-A222))-$CS$9)/($CS$10-$CS$9)) -> 19.839824 | CT222: =EXP($CT$6+($CT$7-$CT$6)*((LN($CT$1-A222))-$CT$9)/($CT$10-$CT$9)) -> 18.496575 | CU222: =EXP($CU$6+($CU$7-$CU$6)*((LN($CU$1-A222))-$CU$9)/($CU$10-$CU$9)) -> 17.411449 | CV222: =EXP($CV$6+($CV$7-$CV$6)*((LN($CV$1-A222))-$CV$9)/($CV$10-$CV$9)) -> 16.510248 | CW222: =EXP($CW$6+($CW$7-$CW$6)*((LN($CW$1-A222))-$CW$9)/($CW$10-$CW$9)) -> 15.745688 | CX222: =EXP($CX$6+($CX$7-$CX$6)*((LN($CX$1-A222))-$CX$9)/($CX$10-$CX$9)) -> 8.6323046 | CY222: =EXP($CY$6+($CY$7-$CY$6)*((LN($CY$1-A222))-$CY$9)/($CY$10-$CY$9)) -> 6.0555877 | CZ222: =EXP($CZ$6+($CZ$7-$CZ$6)*((LN($CZ$1-A222))-$CZ$9)/($CZ$10-$CZ$9)) -> 4.1101845 | DA222: =EXP($DA$6+($DA$7-$DA$6)*((LN($DA$1-A222))-$DA$9)/($DA$10-$DA$9)) -> 3.0364344 | DB222: =EXP($DB$6+($DB$7-$DB$6)*((LN($DB$1-A222))-$DB$9)/($DB$10-$DB$9)) -> 2.3714593 | DC222: =EXP($DC$6+($DC$7-$DC$6)*((LN($DC$1-A222))-$DC$9)/($DC$10-$DC$9)) -> 1.9244562 | DD222: =EXP($DD$6+($DD$7-$DD$6)*((LN($DD$1-A222))-$DD$9)/($DD$10-$DD$9)) -> 1.6060816 | DE222: =EXP($DE$6+($DE$7-$DE$6)*((LN($DE$1-A222))-$DE$9)/($DE$10-$DE$9)) -> 1.3693454 | DF222: =EXP($DF$6+($DF$7-$DF$6)*((LN($DF$1-A222))-$DF$9)/($DF$10-$DF$9)) -> 1.1873502
A223: 210 | CC223: 210 | CG223: =CE23 -> 437.98379 | CH223: =CG123 -> 245.59189 | CI223: =CG23 -> 176.98786 | CJ223: =EXP($CJ$6+($CJ$7-$CJ$6)*((LN($CJ$1-A223))-$CJ$9)/($CJ$10-$CJ$9)) -> 141.73143 | CK223: =EXP($CK$6+($CK$7-$CK$6)*((LN($CK$1-A223))-$CK$9)/($CK$10-$CK$9)) -> 119.52363 | CL223: =EXP($CL$6+($CL$7-$CL$6)*((LN($CL$1-A223))-$CL$9)/($CL$10-$CL$9)) -> 104.04838 | CM223: =EXP($CM$6+($CM$7-$CM$6)*((LN($CM$1-A223))-$CM$9)/($CM$10-$CM$9)) -> 92.569547 | CN223: =EXP($CN$6+($CN$7-$CN$6)*((LN($CN$1-A223))-$CN$9)/($CN$10-$CN$9)) -> 83.672737 | CO223: =EXP($CO$6+($CO$7-$CO$6)*((LN($CO$1-A223))-$CO$9)/($CO$10-$CO$9)) -> 41.882281 | CP223: =EXP($CP$6+($CP$7-$CP$6)*((LN($CP$1-A223))-$CP$9)/($CP$10-$CP$9)) -> 26.5 | CQ223: =EXP($CQ$6+($CQ$7-$CQ$6)*((LN($CQ$1-A223))-$CQ$9)/($CQ$10-$CQ$9)) -> 23.909328 | CR223: =EXP($CR$6+($CR$7-$CR$6)*((LN($CR$1-A223))-$CR$9)/($CR$10-$CR$9)) -> 21.568025 | CS223: =EXP($CS$6+($CS$7-$CS$6)*((LN($CS$1-A223))-$CS$9)/($CS$10-$CS$9)) -> 19.841332 | CT223: =EXP($CT$6+($CT$7-$CT$6)*((LN($CT$1-A223))-$CT$9)/($CT$10-$CT$9)) -> 18.497774 | CU223: =EXP($CU$6+($CU$7-$CU$6)*((LN($CU$1-A223))-$CU$9)/($CU$10-$CU$9)) -> 17.412433 | CV223: =EXP($CV$6+($CV$7-$CV$6)*((LN($CV$1-A223))-$CV$9)/($CV$10-$CV$9)) -> 16.511075 | CW223: =EXP($CW$6+($CW$7-$CW$6)*((LN($CW$1-A223))-$CW$9)/($CW$10-$CW$9)) -> 15.746396 | CX223: =EXP($CX$6+($CX$7-$CX$6)*((LN($CX$1-A223))-$CX$9)/($CX$10-$CX$9)) -> 8.6326827 | CY223: =EXP($CY$6+($CY$7-$CY$6)*((LN($CY$1-A223))-$CY$9)/($CY$10-$CY$9)) -> 6.0557639 | CZ223: =EXP($CZ$6+($CZ$7-$CZ$6)*((LN($CZ$1-A223))-$CZ$9)/($CZ$10-$CZ$9)) -> 4.110324 | DA223: =EXP($DA$6+($DA$7-$DA$6)*((LN($DA$1-A223))-$DA$9)/($DA$10-$DA$9)) -> 3.0365167 | DB223: =EXP($DB$6+($DB$7-$DB$6)*((LN($DB$1-A223))-$DB$9)/($DB$10-$DB$9)) -> 2.3715128 | DC223: =EXP($DC$6+($DC$7-$DC$6)*((LN($DC$1-A223))-$DC$9)/($DC$10-$DC$9)) -> 1.9244934 | DD223: =EXP($DD$6+($DD$7-$DD$6)*((LN($DD$1-A223))-$DD$9)/($DD$10-$DD$9)) -> 1.6061088 | DE223: =EXP($DE$6+($DE$7-$DE$6)*((LN($DE$1-A223))-$DE$9)/($DE$10-$DE$9)) -> 1.369366 | DF223: =EXP($DF$6+($DF$7-$DF$6)*((LN($DF$1-A223))-$DF$9)/($DF$10-$DF$9)) -> 1.1873663
