Workbook

Sheet DGR footprint calculations
B1: ★ | C1: Get from NFCSS Output
C2: Input
C3: output
C6: Closed Cycle | H6: Open cycle
C8: SF Mass | D8: [tHM] | E8: =19.66 -> 19.66 | H8: SF Mass | I8: [tHM] | J8: 19.66
C9: HLW Stock | D9: [m3/tHM] | E9: =0.15 -> 0.15 | H9: Assembly mass | I9: [tHM/Assembly] | J9: 0.665
C10: Total HLW Stock | D10: [m3] | E10: 2.949 | H10: Cask Storages | I10: [units] | J10: 4
C11: VW mass | D11: [kg/Unit] | E11: 400 | H11: No. of packages | I11: [Units] | J11: =J8/(J9*4) -> 7.3909774
C12: HLW content | D12: [wt%/Unit] | E12: 0.22 | I12: [Unit/tHM] | J12: =J11/J8 -> 0.37593985
C13: HLW Mass | D13: [kg/Unit] | E13: =E11*E12 -> 88
D14: [kg/tHM] | E14: =((E13*E15)/E8) -> 60
C15: No. of VW | D15: [Units] | E15: =E10/E12 -> 13.404545
D16: [Unit/tHM] | E16: =E9/E12 -> 0.68181818
C19: Closed Cycle | E19: Host rock | H19: Open cycle | J19: Host rock
E20: crystalline | F20: Clay | J20: crystalline | K20: Clay
C21: Tunnel Spacing* | D21: [m] | E21: 10 | F21: 12 | H21: Tunnel Spacing* | I21: [m] | J21: - | K21: 32
C22: Package Pitch* | D22: [m] | E22: 4.7 | F22: 7.5 | H22: Package Pitch* | I22: [m] | J22: - | K22: 10
C23: Na Content | D23: [wt%/Unit] | E23: 0.1 | F23: 0.1 | H23: Occupaied Area | I23: [m2/Unit] | J23: - | K23: =K22*K21 -> 320
C24: Occupaied Area | D24: [m2/Unit] | E24: =E21*E22 -> 47 | F24: =F21*F22 -> 90 | H24: Total Disporsal Area | I24: [m2] | J24: - | K24: =K23*J11 -> 2365.1128
C25: Total Disporsal Area | D25: [m2] | E25: =E24*E15 -> 630.01364 | F25: =F24*E15 -> 1206.4091 | H25: Disporsal Area | I25: [m2/tHM] | J25: - | K25: =K24/J8 -> 120.30075
C26: Disporsal Area | D26: [m2/tHM] | E26: =E25/E8 -> 32.045455 | F26: =F25/E8 -> 61.363636
C27: CAREA | D27: [kg/m2] | E27: =(((E12-E23)*100)/E24)*E11*0.01 -> 1.0212766 | F27: =(((E12-F23)*100)/F24)*E11*0.01 -> 0.53333333
D47: Volume [m3/Unit] | E47: Total Volume [m3]
C48: Over Pack | D48: =PI()/4*0.43^2*1.338 -> 0.19430452 | E48: =D48*E15 -> 2.6045638
C49: Cask | D49: =PI()/4*0.9^2*4.54 -> 2.8882232 | E49: =D49*J11 -> 21.346793

Sheet Guidelines
A1: Template Version | B1: 1
A2: Please read following guidelines carefully and fill the template accordingly.
A5: Guidelines with validation rules for filling the template
A6: 1 | B6: Using this template you can calculate the DGR sizing
A7: 2 | B7: Values in yellow cells are inputted from NFCSS results.
A8: 3 | B8: Please input values in green cells.
A9: 4 | B9: Calculation results will be shown in white cells.
A14: OPEN FUEL CYCLE SAMPLE
A55: CLOSED FUEL CYCLE SAMPLE

Sheet Footprint(Open Cycle)
A2: Open Cycle (Direct Disposal) | E2: Disposal Type
E3: Hard* | F3: Soft
B4: NFCSS Output | C4: 1)SF Storage | D4: [t] | E4: 1129.5946 | F4: NA
A5: INPUT | C5: SF Mass in Assembly | D5: [kg/Assembly] | E5: 400 | F5: NA
C6: No. of Assemblies per Cask | D6: [Assemblies] | E6: 2 | F6: NA
C7: Tunnel Pitch | D7: [m] | E7: 20 | F7: NA
C8: Package Pitch | D8: [m] | E8: 6.18 | F8: NA
A9: OUTPUT | C9: No. of Casks | D9: [Casks] | E9: =E4/(E5/1000)/E6 -> 1411.9933 | F9: NA
C10: No. of Casks per tHM | D10: [Casks/tHM] | E10: =E9/E4 -> 1.25 | F10: NA
C11: Occupied Area per Cask | D11: [m2/Cask] | E11: =E7*E8 -> 123.6 | F11: NA
C12: Disposal Area | D12: [m2] | E12: =E9*E11 -> 174522.37 | F12: NA
A13: * Horizontal Emplacement

Sheet Footprint(Closed Cycle)
A2: Closed Cycle (Reprocessing) | E2: Disposal Type
E3: Hard* | F3: Soft**
B4: NFCSS Output | C4: 1) Total Spent Fuel Discharged | D4: [t] | E4: 1129.5946 | F4: 1129.5946
C5: 2) MA Stock | D5: [t] | E5: 2.2819903 | F5: 2.2819903
C6: 3) FP Stock | D6: [t] | E6: 39.047062 | F6: 39.047062
C7: 4) Rep U Stock | D7: [t] | E7: 783.6452 | F7: 783.6452
C8: 5) Rep Pu Stock | D8: [t] | E8: -6.1353631 | F8: -6.1353631
A9: INPUT | C9: Recovery Fraction of U and Pu | D9: [%] | E9: 99.5 | F9: 99.5
C10: Ratio of Vitrified Waste to HLW | D10: [-] | E10: =(235*0.035+238*0.965+32)/(235*0.035+238*0.965) -> 1.1345131 | F10: =(235*0.035+238*0.965+32)/(235*0.035+238*0.965) -> 1.1345131
C11: Waste Loading in Canister | D11: [kg/Canister] | E11: 400 | F11: 400
C12: HLW Content (Including 10.0wt% of Na2O) | D12: [wt%] | E12: 22 | F12: 22
C13: Tunnel Pitch | D13: [m] | E13: 10 | F13: 9.99
C14: Package Pitch | D14: [m] | E14: 4.44 | F14: 3.13
A15: OUTPUT | C15: HLW Mass in Canister | D15: [kg/Canister] | E15: =E11*(E12-10)*0.01/E10 -> 42.308898 | F15: =F11*(F12-10)*0.01/F10 -> 42.308898
C16: No. of Canisters | D16: [Canisters] | E16: =((E7+E8)*(100-E9)*0.01+E5+E6)*1000/E15 -> 1068.7256 | F16: =((F7+F8)*(100-F9)*0.01+F5+F6)*1000/F15 -> 1068.7256
C17: No. of Canisters per tHM | D17: [Canisters/tHM] | E17: =E16/E4 -> 0.94611427 | F17: =F16/F4 -> 0.94611427
C18: Occupied Area per Canister | D18: [m2/Canister] | E18: =E13*E14 -> 44.4 | F18: =F13*F14 -> 31.2687
C19: Disposal Area | D19: [m2] | E19: =E16*E18 -> 47451.416 | F19: =F16*F18 -> 33417.66
A20: * Vertical Emplacement
A21: ** Horizontal Emplacement

Sheet OverAll DGR Sizing Output
A1: Overall Output (Direct Disposal) | E1: Disposal Type
E2: Hard* | F2: Soft
A3: OUTPUT | C3: No. of Casks | D3: [Casks] | E3: ='Footprint(Open Cycle)'!E9+'Footprint(Closed Cycle)'!E16 -> 2480.7188 | F3: ='Footprint(Closed Cycle)'!F16 -> 1068.7256
C4: No. of Casks per tHM | D4: [Casks/tHM] | E4: ='Footprint(Open Cycle)'!E10+'Footprint(Closed Cycle)'!E17 -> 2.1961143 | F4: ='Footprint(Closed Cycle)'!F17 -> 0.94611427
C5: Occupaied Area per Cask | D5: [m2/Cask] | E5: ='Footprint(Open Cycle)'!E11+'Footprint(Closed Cycle)'!E18 -> 168 | F5: ='Footprint(Closed Cycle)'!F18 -> 31.2687
C6: Disposal Area | D6: [m2] | E6: ='Footprint(Open Cycle)'!E12+'Footprint(Closed Cycle)'!E19 -> 221973.78 | F6: ='Footprint(Closed Cycle)'!F19 -> 33417.66
